BEGIN:VCALENDAR
VERSION:2.0
PRODID:-//EZFacility.com, Inc.//EZL 2.5.5.28621
BEGIN:VEVENT
UID:17074121@ezleagues.ezfacility.com
DTSTAMP:20260424T044039Z
CREATED:20260424T044039Z
DTSTART:20260407T000000Z
DTEND:20260407T010000Z
LOCATION:Field 1 (Adult)
CONTACT:
SUMMARY:Legacy Grey VS. M2 Prime - 14U
DESCRIPTION:League Name: 7on7 Football -14U\nGame Type: Regular\nGame Statu
 s: Complete\nHome Team: Legacy Grey\nAway Team: M2 Prime - 14U\nHome Score
 : 30\nAway Score: 58
END:VEVENT
BEGIN:VEVENT
UID:17074156@ezleagues.ezfacility.com
DTSTAMP:20260424T044039Z
CREATED:20260424T044039Z
DTSTART:20260414T000000Z
DTEND:20260414T010000Z
LOCATION:Field 1 (Adult)
CONTACT:
SUMMARY:Legacy Grey VS. TOP GUN Chicago Express
DESCRIPTION:League Name: 7on7 Football -14U\nGame Type: Regular\nGame Statu
 s: Complete\nHome Team: Legacy Grey\nAway Team: TOP GUN Chicago Express\nH
 ome Score: 57\nAway Score: 22
END:VEVENT
BEGIN:VEVENT
UID:17074175@ezleagues.ezfacility.com
DTSTAMP:20260424T044039Z
CREATED:20260424T044039Z
DTSTART:20260421T000000Z
DTEND:20260421T010000Z
LOCATION:Field 1 (Adult)
CONTACT:
SUMMARY:Legacy Grey VS. Lyons Township Lions 14U
DESCRIPTION:League Name: 7on7 Football -14U\nGame Type: Regular\nGame Statu
 s: Complete\nHome Team: Legacy Grey\nAway Team: Lyons Township Lions 14U\n
 Home Score: 34\nAway Score: 45
END:VEVENT
BEGIN:VEVENT
UID:17074182@ezleagues.ezfacility.com
DTSTAMP:20260424T044039Z
CREATED:20260424T044039Z
DTSTART:20260428T000000Z
DTEND:20260428T010000Z
LOCATION:Field 2 (Adult)
CONTACT:
SUMMARY:Goonies VS. Legacy Grey
DESCRIPTION:League Name: 7on7 Football -14U\nGame Type: Regular\nGame Statu
 s: Pending\nHome Team: Goonies\nAway Team: Legacy Grey\n
END:VEVENT
BEGIN:VEVENT
UID:17074185@ezleagues.ezfacility.com
DTSTAMP:20260424T044039Z
CREATED:20260424T044039Z
DTSTART:20260505T000000Z
DTEND:20260505T010000Z
LOCATION:Field 1 (Adult)
CONTACT:
SUMMARY:Lombard Falcons Varsity 2031 VS. Legacy Grey
DESCRIPTION:League Name: 7on7 Football -14U\nGame Type: Regular\nGame Statu
 s: Pending\nHome Team: Lombard Falcons Varsity 2031\nAway Team: Legacy Gre
 y\n
END:VEVENT
BEGIN:VEVENT
UID:17074217@ezleagues.ezfacility.com
DTSTAMP:20260424T044039Z
CREATED:20260424T044039Z
DTSTART:20260512T000000Z
DTEND:20260512T010000Z
LOCATION:Field 2 (Adult)
CONTACT:
SUMMARY:Roselle Bears VS. Legacy Grey
DESCRIPTION:League Name: 7on7 Football -14U\nGame Type: Regular\nGame Statu
 s: Pending\nHome Team: Roselle Bears\nAway Team: Legacy Grey\n
END:VEVENT
BEGIN:VEVENT
UID:17074223@ezleagues.ezfacility.com
DTSTAMP:20260424T044039Z
CREATED:20260424T044039Z
DTSTART:20260519T000000Z
DTEND:20260519T010000Z
LOCATION:Field 1 (Adult)
CONTACT:
SUMMARY:Midwest Elite Training 14U VS. Legacy Grey
DESCRIPTION:League Name: 7on7 Football -14U\nGame Type: Regular\nGame Statu
 s: Pending\nHome Team: Midwest Elite Training 14U\nAway Team: Legacy Grey\
 n
END:VEVENT
BEGIN:VEVENT
UID:17074228@ezleagues.ezfacility.com
DTSTAMP:20260424T044039Z
CREATED:20260424T044039Z
DTSTART:20260528T000000Z
DTEND:20260528T010000Z
LOCATION:Field 2 (Adult)
CONTACT:
SUMMARY:Legacy Grey VS. DGN 14U
DESCRIPTION:League Name: 7on7 Football -14U\nGame Type: Regular\nGame Statu
 s: Pending\nHome Team: Legacy Grey\nAway Team: DGN 14U\n
END:VEVENT
END:VCALENDAR
