BEGIN:VCALENDAR
VERSION:2.0
PRODID:-//EZFacility.com, Inc.//EZL 2.5.5.28621
BEGIN:VEVENT
UID:17069571@ezleagues.ezfacility.com
DTSTAMP:20260424T041411Z
CREATED:20260424T041411Z
DTSTART:20260407T220000Z
DTEND:20260407T230000Z
LOCATION:Field 3
CONTACT:
SUMMARY:X Factor VS. Free Smoke
DESCRIPTION:League Name: BOOM League-10U\nGame Type: Exhibition\nGame Statu
 s: Pending\nHome Team: X Factor\nAway Team: Free Smoke\n
END:VEVENT
BEGIN:VEVENT
UID:17069573@ezleagues.ezfacility.com
DTSTAMP:20260424T041411Z
CREATED:20260424T041411Z
DTSTART:20260414T220000Z
DTEND:20260414T230000Z
LOCATION:Field 3
CONTACT:
SUMMARY:Free Smoke VS. GOATS
DESCRIPTION:League Name: BOOM League-10U\nGame Type: Regular\nGame Status: 
 Complete\nHome Team: Free Smoke\nAway Team: GOATS\nHome Score: 33\nAway Sc
 ore: 30
END:VEVENT
BEGIN:VEVENT
UID:17069574@ezleagues.ezfacility.com
DTSTAMP:20260424T041411Z
CREATED:20260424T041411Z
DTSTART:20260421T220000Z
DTEND:20260421T230000Z
LOCATION:Field 2
CONTACT:
SUMMARY:ICY VS. Free Smoke
DESCRIPTION:League Name: BOOM League-10U\nGame Type: Regular\nGame Status: 
 Complete\nHome Team: ICY\nAway Team: Free Smoke\nHome Score: 50\nAway Scor
 e: 19
END:VEVENT
BEGIN:VEVENT
UID:17069577@ezleagues.ezfacility.com
DTSTAMP:20260424T041411Z
CREATED:20260424T041411Z
DTSTART:20260428T220000Z
DTEND:20260428T230000Z
LOCATION:Field 2
CONTACT:
SUMMARY:Free Smoke VS. X Factor
DESCRIPTION:League Name: BOOM League-10U\nGame Type: Regular\nGame Status: 
 Pending\nHome Team: Free Smoke\nAway Team: X Factor\n
END:VEVENT
BEGIN:VEVENT
UID:17069579@ezleagues.ezfacility.com
DTSTAMP:20260424T041411Z
CREATED:20260424T041411Z
DTSTART:20260505T220000Z
DTEND:20260505T230000Z
LOCATION:Field 2
CONTACT:
SUMMARY:GOATS VS. Free Smoke
DESCRIPTION:League Name: BOOM League-10U\nGame Type: Regular\nGame Status: 
 Pending\nHome Team: GOATS\nAway Team: Free Smoke\n
END:VEVENT
BEGIN:VEVENT
UID:17085071@ezleagues.ezfacility.com
DTSTAMP:20260424T041411Z
CREATED:20260424T041411Z
DTSTART:20260512T220000Z
DTEND:20260512T230000Z
LOCATION:Field 3
CONTACT:
SUMMARY:X Factor VS. Free Smoke
DESCRIPTION:League Name: BOOM League-10U\nGame Type: Regular\nGame Status: 
 Pending\nHome Team: X Factor\nAway Team: Free Smoke\n
END:VEVENT
BEGIN:VEVENT
UID:17069580@ezleagues.ezfacility.com
DTSTAMP:20260424T041411Z
CREATED:20260424T041411Z
DTSTART:20260519T220000Z
DTEND:20260519T230000Z
LOCATION:Field 3
CONTACT:
SUMMARY:Free Smoke VS. ICY
DESCRIPTION:League Name: BOOM League-10U\nGame Type: Regular\nGame Status: 
 Pending\nHome Team: Free Smoke\nAway Team: ICY\n
END:VEVENT
END:VCALENDAR
