BEGIN:VCALENDAR
VERSION:2.0
PRODID:-//EZFacility.com, Inc.//EZL 2.5.5.28621
BEGIN:VEVENT
UID:17071666@ezleagues.ezfacility.com
DTSTAMP:20260424T043954Z
CREATED:20260424T043954Z
DTSTART:20260412T035000Z
DTEND:20260412T045000Z
LOCATION:RCF East - Barcelona
CONTACT:
SUMMARY:Herons VS. Riptide Boys
DESCRIPTION:League Name: Youth League 2026 - Spring 1-Boys U12/U13\nGame Ty
 pe: Regular\nGame Status: Complete\nHome Team: Herons\nAway Team: Riptide 
 Boys\nHome Score: 7\nAway Score: 9
END:VEVENT
BEGIN:VEVENT
UID:17071678@ezleagues.ezfacility.com
DTSTAMP:20260424T043954Z
CREATED:20260424T043954Z
DTSTART:20260418T211000Z
DTEND:20260418T221000Z
LOCATION:RCF East - Portland
CONTACT:
SUMMARY:Alhatmi VS. Riptide Boys
DESCRIPTION:League Name: Youth League 2026 - Spring 1-Boys U12/U13\nGame Ty
 pe: Regular\nGame Status: Complete\nHome Team: Alhatmi\nAway Team: Riptide
  Boys\nHome Score: 10\nAway Score: 3
END:VEVENT
BEGIN:VEVENT
UID:17071672@ezleagues.ezfacility.com
DTSTAMP:20260424T043954Z
CREATED:20260424T043954Z
DTSTART:20260419T193000Z
DTEND:20260419T203000Z
LOCATION:RCF East - Rio
CONTACT:
SUMMARY:Riptide Boys VS. Vancouver Futsal Academy
DESCRIPTION:League Name: Youth League 2026 - Spring 1-Boys U12/U13\nGame Ty
 pe: Regular\nGame Status: Complete\nHome Team: Riptide Boys\nAway Team: Va
 ncouver Futsal Academy\nHome Score: 2\nAway Score: 1
END:VEVENT
BEGIN:VEVENT
UID:17071683@ezleagues.ezfacility.com
DTSTAMP:20260424T043954Z
CREATED:20260424T043954Z
DTSTART:20260426T221000Z
DTEND:20260426T231000Z
LOCATION:RCF East - Portland
CONTACT:
SUMMARY:RCF Advanced Academy 2013/14 B VS. Riptide Boys
DESCRIPTION:League Name: Youth League 2026 - Spring 1-Boys U12/U13\nGame Ty
 pe: Regular\nGame Status: Pending\nHome Team: RCF Advanced Academy 2013/14
  B\nAway Team: Riptide Boys\n
END:VEVENT
BEGIN:VEVENT
UID:17071687@ezleagues.ezfacility.com
DTSTAMP:20260424T043954Z
CREATED:20260424T043954Z
DTSTART:20260503T231000Z
DTEND:20260504T001000Z
LOCATION:RCF East - Portland
CONTACT:
SUMMARY:NCF VS. Riptide Boys
DESCRIPTION:League Name: Youth League 2026 - Spring 1-Boys U12/U13\nGame Ty
 pe: Regular\nGame Status: Pending\nHome Team: NCF\nAway Team: Riptide Boys
 \n
END:VEVENT
BEGIN:VEVENT
UID:17071691@ezleagues.ezfacility.com
DTSTAMP:20260424T043954Z
CREATED:20260424T043954Z
DTSTART:20260510T201000Z
DTEND:20260510T211000Z
LOCATION:RCF East - Portland
CONTACT:
SUMMARY:Riptide Boys VS. Herons
DESCRIPTION:League Name: Youth League 2026 - Spring 1-Boys U12/U13\nGame Ty
 pe: Regular\nGame Status: Pending\nHome Team: Riptide Boys\nAway Team: Her
 ons\n
END:VEVENT
BEGIN:VEVENT
UID:17071697@ezleagues.ezfacility.com
DTSTAMP:20260424T043954Z
CREATED:20260424T043954Z
DTSTART:20260517T201000Z
DTEND:20260517T211000Z
LOCATION:RCF East - Portland
CONTACT:
SUMMARY:Riptide Boys VS. Vancouver Futsal Academy
DESCRIPTION:League Name: Youth League 2026 - Spring 1-Boys U12/U13\nGame Ty
 pe: Regular\nGame Status: Pending\nHome Team: Riptide Boys\nAway Team: Van
 couver Futsal Academy\n
END:VEVENT
BEGIN:VEVENT
UID:17071703@ezleagues.ezfacility.com
DTSTAMP:20260424T043954Z
CREATED:20260424T043954Z
DTSTART:20260524T201000Z
DTEND:20260524T211000Z
LOCATION:RCF East - Portland
CONTACT:
SUMMARY:Riptide Boys VS. Alhatmi
DESCRIPTION:League Name: Youth League 2026 - Spring 1-Boys U12/U13\nGame Ty
 pe: Regular\nGame Status: Pending\nHome Team: Riptide Boys\nAway Team: Alh
 atmi\n
END:VEVENT
END:VCALENDAR
