BEGIN:VCALENDAR
VERSION:2.0
PRODID:-//EZFacility.com, Inc.//EZL 2.5.5.28621
BEGIN:VEVENT
UID:17063155@ezleagues.ezfacility.com
DTSTAMP:20260420T112231Z
CREATED:20260420T112231Z
DTSTART:20260328T000500Z
DTEND:20260328T010000Z
LOCATION:Field 3
CONTACT:
SUMMARY:Phantom United (Black) VS. Celaya (Blue)
DESCRIPTION:League Name: Boys U16 - Spring\nGame Type: Regular\nGame Status
 : Complete\nHome Team: Phantom United (Black)\nAway Team: Celaya (Blue)\nH
 ome Score: 3\nAway Score: 7
END:VEVENT
BEGIN:VEVENT
UID:17063157@ezleagues.ezfacility.com
DTSTAMP:20260420T112231Z
CREATED:20260420T112231Z
DTSTART:20260404T015500Z
DTEND:20260404T025000Z
LOCATION:Field 3
CONTACT:
SUMMARY:4Fit FC (Black) VS. Celaya (Blue)
DESCRIPTION:League Name: Boys U16 - Spring\nGame Type: Regular\nGame Status
 : Complete\nHome Team: 4Fit FC (Black)\nAway Team: Celaya (Blue)\nHome Sco
 re: 10\nAway Score: 0
END:VEVENT
BEGIN:VEVENT
UID:17078996@ezleagues.ezfacility.com
DTSTAMP:20260420T112231Z
CREATED:20260420T112231Z
DTSTART:20260411T000500Z
DTEND:20260411T010000Z
LOCATION:Field 3
CONTACT:
SUMMARY:Prodigy FC (White) VS. Celaya (Blue)
DESCRIPTION:League Name: Boys U16 - Spring\nGame Type: Regular\nGame Status
 : Complete\nHome Team: Prodigy FC (White)\nAway Team: Celaya (Blue)\nHome 
 Score: 10\nAway Score: 2
END:VEVENT
BEGIN:VEVENT
UID:17082598@ezleagues.ezfacility.com
DTSTAMP:20260420T112231Z
CREATED:20260420T112231Z
DTSTART:20260418T015500Z
DTEND:20260418T025000Z
LOCATION:Field 3
CONTACT:
SUMMARY:Celaya (Blue) VS. SC Wizards (Black)
DESCRIPTION:League Name: Boys U16 - Spring\nGame Type: Regular\nGame Status
 : Complete\nHome Team: Celaya (Blue)\nAway Team: SC Wizards (Black)\nHome 
 Score: 0\nAway Score: 10
END:VEVENT
BEGIN:VEVENT
UID:17063166@ezleagues.ezfacility.com
DTSTAMP:20260420T112231Z
CREATED:20260420T112231Z
DTSTART:20260425T000500Z
DTEND:20260425T010000Z
LOCATION:Field 3
CONTACT:
SUMMARY:Little Flying Dragons (White) VS. Celaya (Blue)
DESCRIPTION:League Name: Boys U16 - Spring\nGame Type: Regular\nGame Status
 : Pending\nHome Team: Little Flying Dragons (White)\nAway Team: Celaya (Bl
 ue)\n
END:VEVENT
BEGIN:VEVENT
UID:17063171@ezleagues.ezfacility.com
DTSTAMP:20260420T112231Z
CREATED:20260420T112231Z
DTSTART:20260502T015500Z
DTEND:20260502T025000Z
LOCATION:Field 3
CONTACT:
SUMMARY:San Luis (Red) VS. Celaya (Blue)
DESCRIPTION:League Name: Boys U16 - Spring\nGame Type: Regular\nGame Status
 : Pending\nHome Team: San Luis (Red)\nAway Team: Celaya (Blue)\n
END:VEVENT
BEGIN:VEVENT
UID:17063172@ezleagues.ezfacility.com
DTSTAMP:20260420T112231Z
CREATED:20260420T112231Z
DTSTART:20260509T010000Z
DTEND:20260509T015500Z
LOCATION:Field 3
CONTACT:
SUMMARY:Prodigy FC (White) VS. Celaya (Blue)
DESCRIPTION:League Name: Boys U16 - Spring\nGame Type: Regular\nGame Status
 : Pending\nHome Team: Prodigy FC (White)\nAway Team: Celaya (Blue)\n
END:VEVENT
BEGIN:VEVENT
UID:17085916@ezleagues.ezfacility.com
DTSTAMP:20260420T112231Z
CREATED:20260420T112231Z
DTSTART:20260509T015500Z
DTEND:20260509T025000Z
LOCATION:Field 3
CONTACT:
SUMMARY:Prodigy FC (White) VS. Celaya (Blue)
DESCRIPTION:League Name: Boys U16 - Spring\nGame Type: Regular\nGame Status
 : Pending\nHome Team: Prodigy FC (White)\nAway Team: Celaya (Blue)\n
END:VEVENT
END:VCALENDAR
