BEGIN:VCALENDAR
VERSION:2.0
PRODID:-//EZFacility.com, Inc.//EZL 2.5.5.28621
BEGIN:VEVENT
UID:17073117@ezleagues.ezfacility.com
DTSTAMP:20260424T044350Z
CREATED:20260424T044350Z
DTSTART:20260329T190000Z
DTEND:20260329T200000Z
LOCATION:Falcons Field #3
CONTACT:
SUMMARY:Eagle SC Boys VS. Chivas
DESCRIPTION:League Name: Youth Spring Outdoor Soccer League 2026-U9 Boys Di
 vision (Team)\nGame Type: Regular\nGame Status: Complete\nHome Team: Eagle
  SC Boys\nAway Team: Chivas\nHome Score: 6\nAway Score: 5
END:VEVENT
BEGIN:VEVENT
UID:17090724@ezleagues.ezfacility.com
DTSTAMP:20260424T044350Z
CREATED:20260424T044350Z
DTSTART:20260412T210000Z
DTEND:20260412T220000Z
LOCATION:Falcons Field #3
CONTACT:
SUMMARY:Shore Unlimited VS. Chivas
DESCRIPTION:League Name: Youth Spring Outdoor Soccer League 2026-U9 Boys Di
 vision (Team)\nGame Type: Regular\nGame Status: Complete\nHome Team: Shore
  Unlimited\nAway Team: Chivas\nHome Score: 11\nAway Score: 1
END:VEVENT
BEGIN:VEVENT
UID:17099686@ezleagues.ezfacility.com
DTSTAMP:20260424T044350Z
CREATED:20260424T044350Z
DTSTART:20260419T200000Z
DTEND:20260419T210000Z
LOCATION:Somerset Outdoor Field #2
CONTACT:
SUMMARY:Chivas VS. Eagle SC Girls
DESCRIPTION:League Name: Youth Spring Outdoor Soccer League 2026-U9 Boys Di
 vision (Team)\nGame Type: Regular\nGame Status: Complete\nHome Team: Chiva
 s\nAway Team: Eagle SC Girls\nHome Score: 4\nAway Score: 2
END:VEVENT
END:VCALENDAR
