BEGIN:VCALENDAR
VERSION:2.0
PRODID:-//EZFacility.com, Inc.//EZL 2.5.5.28621
BEGIN:VEVENT
UID:17073444@ezleagues.ezfacility.com
DTSTAMP:20260424T041517Z
CREATED:20260424T041517Z
DTSTART:20260329T180000Z
DTEND:20260329T190000Z
LOCATION:Falcons Field #2
CONTACT:
SUMMARY:Delima Soccer Academy VS. ESA 2014 Boys Blue
DESCRIPTION:League Name: Youth Spring Outdoor Soccer League 2026-U13 Boys D
 ivision\nGame Type: Regular\nGame Status: Complete\nHome Team: Delima Socc
 er Academy\nAway Team: ESA 2014 Boys Blue\nHome Score: 8\nAway Score: 0
END:VEVENT
BEGIN:VEVENT
UID:17090756@ezleagues.ezfacility.com
DTSTAMP:20260424T041517Z
CREATED:20260424T041517Z
DTSTART:20260412T210000Z
DTEND:20260412T220000Z
LOCATION:Falcons Field #2
CONTACT:
SUMMARY:RSC 14/15 Black VS. ESA 2014 Boys Blue
DESCRIPTION:League Name: Youth Spring Outdoor Soccer League 2026-U13 Boys D
 ivision\nGame Type: Regular\nGame Status: Complete\nHome Team: RSC 14/15 B
 lack\nAway Team: ESA 2014 Boys Blue\nHome Score: 4\nAway Score: 3
END:VEVENT
BEGIN:VEVENT
UID:17099692@ezleagues.ezfacility.com
DTSTAMP:20260424T041517Z
CREATED:20260424T041517Z
DTSTART:20260419T230000Z
DTEND:20260420T000000Z
LOCATION:Somerset Outdoor Field #3
CONTACT:
SUMMARY:ESA 2014 Boys Blue VS. Somerset SC
DESCRIPTION:League Name: Youth Spring Outdoor Soccer League 2026-U13 Boys D
 ivision\nGame Type: Regular\nGame Status: Complete\nHome Team: ESA 2014 Bo
 ys Blue\nAway Team: Somerset SC\nHome Score: 3\nAway Score: 3
END:VEVENT
BEGIN:VEVENT
UID:17104300@ezleagues.ezfacility.com
DTSTAMP:20260424T041517Z
CREATED:20260424T041517Z
DTSTART:20260426T180000Z
DTEND:20260426T190000Z
LOCATION:Somerset Outdoor Field #4
CONTACT:
SUMMARY:Dorchester United VS. ESA 2014 Boys Blue
DESCRIPTION:League Name: Youth Spring Outdoor Soccer League 2026-U13 Boys D
 ivision\nGame Type: Regular\nGame Status: Pending\nHome Team: Dorchester U
 nited\nAway Team: ESA 2014 Boys Blue\n
END:VEVENT
END:VCALENDAR
