BEGIN:VCALENDAR
VERSION:2.0
PRODID:-//EZFacility.com, Inc.//EZL 2.5.5.28621
BEGIN:VEVENT
UID:17073447@ezleagues.ezfacility.com
DTSTAMP:20260424T041507Z
CREATED:20260424T041507Z
DTSTART:20260329T170000Z
DTEND:20260329T180000Z
LOCATION:Falcons Field #2
CONTACT:
SUMMARY:Delima Soccer Academy VS. Tigers
DESCRIPTION:League Name: Youth Spring Outdoor Soccer League 2026-U15 Boys D
 ivision\nGame Type: Regular\nGame Status: Complete\nHome Team: Delima Socc
 er Academy\nAway Team: Tigers\nHome Score: 3\nAway Score: 1
END:VEVENT
BEGIN:VEVENT
UID:17090762@ezleagues.ezfacility.com
DTSTAMP:20260424T041507Z
CREATED:20260424T041507Z
DTSTART:20260412T160000Z
DTEND:20260412T170000Z
LOCATION:Falcons Field #1
CONTACT:
SUMMARY:Tigers Ecord VS. Delima Soccer Academy
DESCRIPTION:League Name: Youth Spring Outdoor Soccer League 2026-U15 Boys D
 ivision\nGame Type: Regular\nGame Status: Complete\nHome Team: Tigers Ecor
 d\nAway Team: Delima Soccer Academy\nHome Score: 0\nAway Score: 8
END:VEVENT
BEGIN:VEVENT
UID:17104324@ezleagues.ezfacility.com
DTSTAMP:20260424T041507Z
CREATED:20260424T041507Z
DTSTART:20260426T200000Z
DTEND:20260426T210000Z
LOCATION:Somerset Outdoor Field #4
CONTACT:
SUMMARY:Delima Soccer Academy VS. Potros
DESCRIPTION:League Name: Youth Spring Outdoor Soccer League 2026-U15 Boys D
 ivision\nGame Type: Regular\nGame Status: Pending\nHome Team: Delima Socce
 r Academy\nAway Team: Potros\n
END:VEVENT
END:VCALENDAR
