BEGIN:VCALENDAR
VERSION:2.0
PRODID:-//EZFacility.com, Inc.//EZL 2.5.5.28621
BEGIN:VEVENT
UID:17073791@ezleagues.ezfacility.com
DTSTAMP:20260422T074156Z
CREATED:20260422T074156Z
DTSTART:20260331T000000Z
DTEND:20260331T004000Z
LOCATION:LG Field 1
CONTACT:
SUMMARY:2 Sweet VS. Lufthansa
DESCRIPTION:League Name: Men's (Monday league) - Spring\nGame Type: Regular
 \nGame Status: Complete\nHome Team: 2 Sweet\nAway Team: Lufthansa\nHome Sc
 ore: 8\nAway Score: 2
END:VEVENT
BEGIN:VEVENT
UID:17073798@ezleagues.ezfacility.com
DTSTAMP:20260422T074156Z
CREATED:20260422T074156Z
DTSTART:20260407T013000Z
DTEND:20260407T021000Z
LOCATION:LG Field 1
CONTACT:
SUMMARY:Oklahomies VS. 2 Sweet
DESCRIPTION:League Name: Men's (Monday league) - Spring\nGame Type: Regular
 \nGame Status: Complete\nHome Team: Oklahomies\nAway Team: 2 Sweet\nHome S
 core: 11\nAway Score: 12
END:VEVENT
BEGIN:VEVENT
UID:17073805@ezleagues.ezfacility.com
DTSTAMP:20260422T074156Z
CREATED:20260422T074156Z
DTSTART:20260414T000000Z
DTEND:20260414T004000Z
LOCATION:LG Field 1
CONTACT:
SUMMARY:2 Sweet VS. Swamp Rats FC
DESCRIPTION:League Name: Men's (Monday league) - Spring\nGame Type: Regular
 \nGame Status: Complete\nHome Team: 2 Sweet\nAway Team: Swamp Rats FC\nHom
 e Score: 9\nAway Score: 7
END:VEVENT
BEGIN:VEVENT
UID:17073811@ezleagues.ezfacility.com
DTSTAMP:20260422T074156Z
CREATED:20260422T074156Z
DTSTART:20260421T013000Z
DTEND:20260421T021000Z
LOCATION:LG Field 1
CONTACT:
SUMMARY:The Gaze VS. 2 Sweet
DESCRIPTION:League Name: Men's (Monday league) - Spring\nGame Type: Regular
 \nGame Status: Complete\nHome Team: The Gaze\nAway Team: 2 Sweet\nHome Sco
 re: 10\nAway Score: 3
END:VEVENT
BEGIN:VEVENT
UID:17073819@ezleagues.ezfacility.com
DTSTAMP:20260422T074156Z
CREATED:20260422T074156Z
DTSTART:20260428T004500Z
DTEND:20260428T012500Z
LOCATION:LG Field 1
CONTACT:
SUMMARY:2 Sweet VS. Pusskas
DESCRIPTION:League Name: Men's (Monday league) - Spring\nGame Type: Regular
 \nGame Status: Pending\nHome Team: 2 Sweet\nAway Team: Pusskas\n
END:VEVENT
BEGIN:VEVENT
UID:17073826@ezleagues.ezfacility.com
DTSTAMP:20260422T074156Z
CREATED:20260422T074156Z
DTSTART:20260505T004500Z
DTEND:20260505T012500Z
LOCATION:LG Field 1
CONTACT:
SUMMARY:NEO Dynamo VS. 2 Sweet
DESCRIPTION:League Name: Men's (Monday league) - Spring\nGame Type: Regular
 \nGame Status: Pending\nHome Team: NEO Dynamo\nAway Team: 2 Sweet\n
END:VEVENT
BEGIN:VEVENT
UID:17073833@ezleagues.ezfacility.com
DTSTAMP:20260422T074156Z
CREATED:20260422T074156Z
DTSTART:20260512T021500Z
DTEND:20260512T025500Z
LOCATION:LG Field 1
CONTACT:
SUMMARY:2 Sweet VS. Banter FC
DESCRIPTION:League Name: Men's (Monday league) - Spring\nGame Type: Regular
 \nGame Status: Pending\nHome Team: 2 Sweet\nAway Team: Banter FC\n
END:VEVENT
BEGIN:VEVENT
UID:17073840@ezleagues.ezfacility.com
DTSTAMP:20260422T074156Z
CREATED:20260422T074156Z
DTSTART:20260519T013000Z
DTEND:20260519T021000Z
LOCATION:LG Field 1
CONTACT:
SUMMARY:Lufthansa VS. 2 Sweet
DESCRIPTION:League Name: Men's (Monday league) - Spring\nGame Type: Regular
 \nGame Status: Pending\nHome Team: Lufthansa\nAway Team: 2 Sweet\n
END:VEVENT
END:VCALENDAR
