BEGIN:VCALENDAR
VERSION:2.0
PRODID:-//EZFacility.com, Inc.//EZL 2.5.5.28621
BEGIN:VEVENT
UID:17073966@ezleagues.ezfacility.com
DTSTAMP:20260424T041405Z
CREATED:20260424T041405Z
DTSTART:20260403T020500Z
DTEND:20260403T030000Z
LOCATION:Full Field
CONTACT:
SUMMARY:UNFC VS. KCC Alumni
DESCRIPTION:League Name: Men's Soccer League Spring 2026\nGame Type: Regula
 r\nGame Status: Complete\nHome Team: UNFC\nAway Team: KCC Alumni\nHome Sco
 re: 3\nAway Score: 3
END:VEVENT
BEGIN:VEVENT
UID:17073968@ezleagues.ezfacility.com
DTSTAMP:20260424T041405Z
CREATED:20260424T041405Z
DTSTART:20260410T030000Z
DTEND:20260410T035500Z
LOCATION:Full Field
CONTACT:
SUMMARY:Candida FC VS. UNFC
DESCRIPTION:League Name: Men's Soccer League Spring 2026\nGame Type: Regula
 r\nGame Status: Complete\nHome Team: Candida FC\nAway Team: UNFC\nHome Sco
 re: 2\nAway Score: 2
END:VEVENT
BEGIN:VEVENT
UID:17073972@ezleagues.ezfacility.com
DTSTAMP:20260424T041405Z
CREATED:20260424T041405Z
DTSTART:20260417T020500Z
DTEND:20260417T030000Z
LOCATION:Full Field
CONTACT:
SUMMARY:Lil Kickers VS. UNFC
DESCRIPTION:League Name: Men's Soccer League Spring 2026\nGame Type: Regula
 r\nGame Status: Complete\nHome Team: Lil Kickers\nAway Team: UNFC\nHome Sc
 ore: 4\nAway Score: 1
END:VEVENT
BEGIN:VEVENT
UID:17073976@ezleagues.ezfacility.com
DTSTAMP:20260424T041405Z
CREATED:20260424T041405Z
DTSTART:20260501T030000Z
DTEND:20260501T035500Z
LOCATION:Full Field
CONTACT:
SUMMARY:Ladera VS. UNFC
DESCRIPTION:League Name: Men's Soccer League Spring 2026\nGame Type: Regula
 r\nGame Status: Pending\nHome Team: Ladera\nAway Team: UNFC\n
END:VEVENT
BEGIN:VEVENT
UID:17073979@ezleagues.ezfacility.com
DTSTAMP:20260424T041405Z
CREATED:20260424T041405Z
DTSTART:20260508T030000Z
DTEND:20260508T035500Z
LOCATION:Full Field
CONTACT:
SUMMARY:UNFC VS. Washed FC
DESCRIPTION:League Name: Men's Soccer League Spring 2026\nGame Type: Regula
 r\nGame Status: Pending\nHome Team: UNFC\nAway Team: Washed FC\n
END:VEVENT
BEGIN:VEVENT
UID:17073981@ezleagues.ezfacility.com
DTSTAMP:20260424T041405Z
CREATED:20260424T041405Z
DTSTART:20260515T011000Z
DTEND:20260515T020500Z
LOCATION:Full Field
CONTACT:
SUMMARY:KCC Alumni VS. UNFC
DESCRIPTION:League Name: Men's Soccer League Spring 2026\nGame Type: Regula
 r\nGame Status: Pending\nHome Team: KCC Alumni\nAway Team: UNFC\n
END:VEVENT
BEGIN:VEVENT
UID:17073983@ezleagues.ezfacility.com
DTSTAMP:20260424T041405Z
CREATED:20260424T041405Z
DTSTART:20260522T011000Z
DTEND:20260522T020500Z
LOCATION:Full Field
CONTACT:
SUMMARY:UNFC VS. Candida FC
DESCRIPTION:League Name: Men's Soccer League Spring 2026\nGame Type: Regula
 r\nGame Status: Pending\nHome Team: UNFC\nAway Team: Candida FC\n
END:VEVENT
BEGIN:VEVENT
UID:17073987@ezleagues.ezfacility.com
DTSTAMP:20260424T041405Z
CREATED:20260424T041405Z
DTSTART:20260529T011000Z
DTEND:20260529T020500Z
LOCATION:Full Field
CONTACT:
SUMMARY:UNFC VS. Lil Kickers
DESCRIPTION:League Name: Men's Soccer League Spring 2026\nGame Type: Regula
 r\nGame Status: Pending\nHome Team: UNFC\nAway Team: Lil Kickers\n
END:VEVENT
BEGIN:VEVENT
UID:17073991@ezleagues.ezfacility.com
DTSTAMP:20260424T041405Z
CREATED:20260424T041405Z
DTSTART:20260605T030000Z
DTEND:20260605T035500Z
LOCATION:Full Field
CONTACT:
SUMMARY:UNFC VS. Ladera
DESCRIPTION:League Name: Men's Soccer League Spring 2026\nGame Type: Regula
 r\nGame Status: Pending\nHome Team: UNFC\nAway Team: Ladera\n
END:VEVENT
BEGIN:VEVENT
UID:17073994@ezleagues.ezfacility.com
DTSTAMP:20260424T041405Z
CREATED:20260424T041405Z
DTSTART:20260612T020500Z
DTEND:20260612T030000Z
LOCATION:Full Field
CONTACT:
SUMMARY:Washed FC VS. UNFC
DESCRIPTION:League Name: Men's Soccer League Spring 2026\nGame Type: Regula
 r\nGame Status: Pending\nHome Team: Washed FC\nAway Team: UNFC\n
END:VEVENT
END:VCALENDAR
