BEGIN:VCALENDAR
VERSION:2.0
PRODID:-//EZFacility.com, Inc.//EZL 2.5.5.28621
BEGIN:VEVENT
UID:17074093@ezleagues.ezfacility.com
DTSTAMP:20260422T224001Z
CREATED:20260422T224001Z
DTSTART:20260322T170000Z
DTEND:20260322T180000Z
LOCATION:Field 1 BLD
CONTACT:
SUMMARY:Sporting VS. Pumas
DESCRIPTION:League Name: DOMINGO 7V7 *Super Master* 3/22\nGame Type: Regula
 r\nGame Status: Complete\nHome Team: Sporting\nAway Team: Pumas\nHome Scor
 e: 3\nAway Score: 1
END:VEVENT
BEGIN:VEVENT
UID:17099865@ezleagues.ezfacility.com
DTSTAMP:20260422T224001Z
CREATED:20260422T224001Z
DTSTART:20260329T170000Z
DTEND:20260329T180000Z
LOCATION:7vs7 Field 1 TRU
CONTACT:
SUMMARY:Dorados VS. Sporting
DESCRIPTION:League Name: DOMINGO 7V7 *Super Master* 3/22\nGame Type: Regula
 r\nGame Status: Complete\nHome Team: Dorados\nAway Team: Sporting\nHome Sc
 ore: 8\nAway Score: 3
END:VEVENT
BEGIN:VEVENT
UID:17104047@ezleagues.ezfacility.com
DTSTAMP:20260422T224001Z
CREATED:20260422T224001Z
DTSTART:20260419T220000Z
DTEND:20260419T230000Z
LOCATION:11vs11 Field 1 BET/H
CONTACT:
SUMMARY:Rincon VS. Sporting
DESCRIPTION:League Name: DOMINGO 7V7 *Super Master* 3/22\nGame Type: Regula
 r\nGame Status: Complete\nHome Team: Rincon\nAway Team: Sporting\nHome Sco
 re: 8\nAway Score: 2
END:VEVENT
END:VCALENDAR
