BEGIN:VCALENDAR
VERSION:2.0
PRODID:-//EZFacility.com, Inc.//EZL 2.5.5.28621
BEGIN:VEVENT
UID:17074760@ezleagues.ezfacility.com
DTSTAMP:20260422T205427Z
CREATED:20260422T205427Z
DTSTART:20260325T010500Z
DTEND:20260325T015500Z
LOCATION:Blue Field
CONTACT:
SUMMARY:Lasalle FC VS. Thundercats
DESCRIPTION:League Name: Winter C Soccer Session (2026) - Mens B/C Division
 \nGame Type: Regular\nGame Status: Complete\nHome Team: Lasalle FC\nAway T
 eam: Thundercats\nHome Score: 6\nAway Score: 3
END:VEVENT
BEGIN:VEVENT
UID:17074795@ezleagues.ezfacility.com
DTSTAMP:20260422T205427Z
CREATED:20260422T205427Z
DTSTART:20260404T010500Z
DTEND:20260404T015500Z
LOCATION:Blue Field
CONTACT:
SUMMARY:Palestinian Spirit VS. Lasalle FC
DESCRIPTION:League Name: Winter C Soccer Session (2026) - Mens B/C Division
 \nGame Type: Regular\nGame Status: Complete\nHome Team: Palestinian Spirit
 \nAway Team: Lasalle FC\nHome Score: 4\nAway Score: 3
END:VEVENT
BEGIN:VEVENT
UID:17074776@ezleagues.ezfacility.com
DTSTAMP:20260422T205427Z
CREATED:20260422T205427Z
DTSTART:20260408T020000Z
DTEND:20260408T025000Z
LOCATION:Red Field
CONTACT:
SUMMARY:Lasalle FC VS. Sporting Cavs
DESCRIPTION:League Name: Winter C Soccer Session (2026) - Mens B/C Division
 \nGame Type: Regular\nGame Status: Complete\nHome Team: Lasalle FC\nAway T
 eam: Sporting Cavs\nHome Score: 1\nAway Score: 6
END:VEVENT
BEGIN:VEVENT
UID:17074768@ezleagues.ezfacility.com
DTSTAMP:20260422T205427Z
CREATED:20260422T205427Z
DTSTART:20260415T000000Z
DTEND:20260415T005000Z
LOCATION:Blue Field
CONTACT:
SUMMARY:Lasalle FC VS. Winter Willies 
DESCRIPTION:League Name: Winter C Soccer Session (2026) - Mens B/C Division
 \nGame Type: Regular\nGame Status: Complete\nHome Team: Lasalle FC\nAway T
 eam: Winter Willies \nHome Score: 2\nAway Score: 5
END:VEVENT
BEGIN:VEVENT
UID:17074783@ezleagues.ezfacility.com
DTSTAMP:20260422T205427Z
CREATED:20260422T205427Z
DTSTART:20260422T000000Z
DTEND:20260422T005000Z
LOCATION:Red Field
CONTACT:
SUMMARY:Mack's Fault VS. Lasalle FC
DESCRIPTION:League Name: Winter C Soccer Session (2026) - Mens B/C Division
 \nGame Type: Regular\nGame Status: Complete\nHome Team: Mack's Fault\nAway
  Team: Lasalle FC\nHome Score: 4\nAway Score: 3
END:VEVENT
BEGIN:VEVENT
UID:17074789@ezleagues.ezfacility.com
DTSTAMP:20260422T205427Z
CREATED:20260422T205427Z
DTSTART:20260429T010500Z
DTEND:20260429T015500Z
LOCATION:Blue Field
CONTACT:
SUMMARY:Basil VS. Lasalle FC
DESCRIPTION:League Name: Winter C Soccer Session (2026) - Mens B/C Division
 \nGame Type: Regular\nGame Status: Pending\nHome Team: Basil\nAway Team: L
 asalle FC\n
END:VEVENT
END:VCALENDAR
