BEGIN:VCALENDAR
VERSION:2.0
PRODID:-//EZFacility.com, Inc.//EZL 2.5.5.28621
BEGIN:VEVENT
UID:17075434@ezleagues.ezfacility.com
DTSTAMP:20260424T041434Z
CREATED:20260424T041434Z
DTSTART:20260330T000000Z
DTEND:20260330T004500Z
LOCATION:Court 1
CONTACT:
SUMMARY:Kentucky Khaos VS. EZ Pass
DESCRIPTION:League Name: Spring Sunday Court 1 A Quads\nGame Type: Regular\
 nGame Status: Complete\nHome Team: Kentucky Khaos\nAway Team: EZ Pass\nHom
 e Score: 1\nAway Score: 2
END:VEVENT
BEGIN:VEVENT
UID:17075448@ezleagues.ezfacility.com
DTSTAMP:20260424T041434Z
CREATED:20260424T041434Z
DTSTART:20260412T223000Z
DTEND:20260412T231500Z
LOCATION:Court 1
CONTACT:
SUMMARY:Kentucky Khaos VS. JAM
DESCRIPTION:League Name: Spring Sunday Court 1 A Quads\nGame Type: Regular\
 nGame Status: Complete\nHome Team: Kentucky Khaos\nAway Team: JAM\nHome Sc
 ore: 3\nAway Score: 0
END:VEVENT
BEGIN:VEVENT
UID:17075455@ezleagues.ezfacility.com
DTSTAMP:20260424T041434Z
CREATED:20260424T041434Z
DTSTART:20260420T013000Z
DTEND:20260420T021500Z
LOCATION:Court 1
CONTACT:
SUMMARY:Kentucky Khaos VS. Injured Reserve
DESCRIPTION:League Name: Spring Sunday Court 1 A Quads\nGame Type: Regular\
 nGame Status: Complete\nHome Team: Kentucky Khaos\nAway Team: Injured Rese
 rve\nHome Score: 0\nAway Score: 3
END:VEVENT
BEGIN:VEVENT
UID:17075461@ezleagues.ezfacility.com
DTSTAMP:20260424T041434Z
CREATED:20260424T041434Z
DTSTART:20260427T004500Z
DTEND:20260427T013000Z
LOCATION:Court 1
CONTACT:
SUMMARY:Fireball VS. Kentucky Khaos
DESCRIPTION:League Name: Spring Sunday Court 1 A Quads\nGame Type: Regular\
 nGame Status: Pending\nHome Team: Fireball\nAway Team: Kentucky Khaos\n
END:VEVENT
BEGIN:VEVENT
UID:17075466@ezleagues.ezfacility.com
DTSTAMP:20260424T041434Z
CREATED:20260424T041434Z
DTSTART:20260504T004500Z
DTEND:20260504T013000Z
LOCATION:Court 1
CONTACT:
SUMMARY:Kentucky Khaos VS. Hits N Giggles
DESCRIPTION:League Name: Spring Sunday Court 1 A Quads\nGame Type: Regular\
 nGame Status: Pending\nHome Team: Kentucky Khaos\nAway Team: Hits N Giggle
 s\n
END:VEVENT
BEGIN:VEVENT
UID:17075471@ezleagues.ezfacility.com
DTSTAMP:20260424T041434Z
CREATED:20260424T041434Z
DTSTART:20260510T231500Z
DTEND:20260511T000000Z
LOCATION:Court 1
CONTACT:
SUMMARY:Smoswaldy VS. Kentucky Khaos
DESCRIPTION:League Name: Spring Sunday Court 1 A Quads\nGame Type: Regular\
 nGame Status: Pending\nHome Team: Smoswaldy\nAway Team: Kentucky Khaos\n
END:VEVENT
BEGIN:VEVENT
UID:17075486@ezleagues.ezfacility.com
DTSTAMP:20260424T041434Z
CREATED:20260424T041434Z
DTSTART:20260601T013000Z
DTEND:20260601T021500Z
LOCATION:Court 1
CONTACT:
SUMMARY:Four the Win VS. Kentucky Khaos
DESCRIPTION:League Name: Spring Sunday Court 1 A Quads\nGame Type: Regular\
 nGame Status: Pending\nHome Team: Four the Win\nAway Team: Kentucky Khaos\
 n
END:VEVENT
BEGIN:VEVENT
UID:17075493@ezleagues.ezfacility.com
DTSTAMP:20260424T041434Z
CREATED:20260424T041434Z
DTSTART:20260607T231500Z
DTEND:20260608T000000Z
LOCATION:Court 1
CONTACT:
SUMMARY:Kentucky Khaos VS. We’re Better Than We Look
DESCRIPTION:League Name: Spring Sunday Court 1 A Quads\nGame Type: Regular\
 nGame Status: Pending\nHome Team: Kentucky Khaos\nAway Team: We’re Bette
 r Than We Look\n
END:VEVENT
BEGIN:VEVENT
UID:17075441@ezleagues.ezfacility.com
DTSTAMP:20260424T041434Z
CREATED:20260424T041434Z
DTSTART:20260615T004500Z
DTEND:20260615T013000Z
LOCATION:Court 1
CONTACT:
SUMMARY:Volley Lamas. VS. Kentucky Khaos
DESCRIPTION:League Name: Spring Sunday Court 1 A Quads\nGame Type: Regular\
 nGame Status: Pending\nHome Team: Volley Lamas.\nAway Team: Kentucky Khaos
 \n
END:VEVENT
BEGIN:VEVENT
UID:17075481@ezleagues.ezfacility.com
DTSTAMP:20260424T041434Z
CREATED:20260424T041434Z
DTSTART:20260621T223000Z
DTEND:20260621T231500Z
LOCATION:Court 1
CONTACT:
SUMMARY:Here For Beer VS. Kentucky Khaos
DESCRIPTION:League Name: Spring Sunday Court 1 A Quads\nGame Type: Regular\
 nGame Status: Pending\nHome Team: Here For Beer\nAway Team: Kentucky Khaos
 \n
END:VEVENT
END:VCALENDAR
