BEGIN:VCALENDAR
VERSION:2.0
PRODID:-//EZFacility.com, Inc.//EZL 2.5.5.28621
BEGIN:VEVENT
UID:17075369@ezleagues.ezfacility.com
DTSTAMP:20260424T041413Z
CREATED:20260424T041413Z
DTSTART:20260330T004500Z
DTEND:20260330T013000Z
LOCATION:Court 3
CONTACT:
SUMMARY:Can You Dig It VS. Setting Ducks
DESCRIPTION:League Name: Spring Sunday Court 3 Coed C Sixes\nGame Type: Reg
 ular\nGame Status: Complete\nHome Team: Can You Dig It\nAway Team: Setting
  Ducks\nHome Score: 0\nAway Score: 3
END:VEVENT
BEGIN:VEVENT
UID:17075383@ezleagues.ezfacility.com
DTSTAMP:20260424T041413Z
CREATED:20260424T041413Z
DTSTART:20260412T231500Z
DTEND:20260413T000000Z
LOCATION:Court 3
CONTACT:
SUMMARY:Can You Dig It VS. Sandicate
DESCRIPTION:League Name: Spring Sunday Court 3 Coed C Sixes\nGame Type: Reg
 ular\nGame Status: Complete\nHome Team: Can You Dig It\nAway Team: Sandica
 te\nHome Score: 0\nAway Score: 3
END:VEVENT
BEGIN:VEVENT
UID:17075389@ezleagues.ezfacility.com
DTSTAMP:20260424T041413Z
CREATED:20260424T041413Z
DTSTART:20260420T013000Z
DTEND:20260420T021500Z
LOCATION:Court 3
CONTACT:
SUMMARY:The Empire Spikes Back VS. Can You Dig It
DESCRIPTION:League Name: Spring Sunday Court 3 Coed C Sixes\nGame Type: Reg
 ular\nGame Status: Complete\nHome Team: The Empire Spikes Back\nAway Team:
  Can You Dig It\nHome Score: 3\nAway Score: 0
END:VEVENT
BEGIN:VEVENT
UID:17075394@ezleagues.ezfacility.com
DTSTAMP:20260424T041413Z
CREATED:20260424T041413Z
DTSTART:20260427T013000Z
DTEND:20260427T021500Z
LOCATION:Court 3
CONTACT:
SUMMARY:Hash Slinging Smashers VS. Can You Dig It
DESCRIPTION:League Name: Spring Sunday Court 3 Coed C Sixes\nGame Type: Reg
 ular\nGame Status: Pending\nHome Team: Hash Slinging Smashers\nAway Team: 
 Can You Dig It\n
END:VEVENT
BEGIN:VEVENT
UID:17075399@ezleagues.ezfacility.com
DTSTAMP:20260424T041413Z
CREATED:20260424T041413Z
DTSTART:20260503T223000Z
DTEND:20260503T231500Z
LOCATION:Court 3
CONTACT:
SUMMARY:Pappys VS. Can You Dig It
DESCRIPTION:League Name: Spring Sunday Court 3 Coed C Sixes\nGame Type: Reg
 ular\nGame Status: Pending\nHome Team: Pappys\nAway Team: Can You Dig It\n
END:VEVENT
BEGIN:VEVENT
UID:17075404@ezleagues.ezfacility.com
DTSTAMP:20260424T041413Z
CREATED:20260424T041413Z
DTSTART:20260511T000000Z
DTEND:20260511T004500Z
LOCATION:Court 3
CONTACT:
SUMMARY:Sugarballs VS. Can You Dig It
DESCRIPTION:League Name: Spring Sunday Court 3 Coed C Sixes\nGame Type: Reg
 ular\nGame Status: Pending\nHome Team: Sugarballs\nAway Team: Can You Dig 
 It\n
END:VEVENT
BEGIN:VEVENT
UID:17075409@ezleagues.ezfacility.com
DTSTAMP:20260424T041413Z
CREATED:20260424T041413Z
DTSTART:20260517T223000Z
DTEND:20260517T231500Z
LOCATION:Court 3
CONTACT:
SUMMARY:Can You Dig It VS. #Walden Wolverines
DESCRIPTION:League Name: Spring Sunday Court 3 Coed C Sixes\nGame Type: Reg
 ular\nGame Status: Pending\nHome Team: Can You Dig It\nAway Team: #Walden 
 Wolverines\n
END:VEVENT
BEGIN:VEVENT
UID:17075421@ezleagues.ezfacility.com
DTSTAMP:20260424T041413Z
CREATED:20260424T041413Z
DTSTART:20260531T223000Z
DTEND:20260531T231500Z
LOCATION:Court 3
CONTACT:
SUMMARY:Bump Set Debauchery VS. Can You Dig It
DESCRIPTION:League Name: Spring Sunday Court 3 Coed C Sixes\nGame Type: Reg
 ular\nGame Status: Pending\nHome Team: Bump Set Debauchery\nAway Team: Can
  You Dig It\n
END:VEVENT
BEGIN:VEVENT
UID:17075428@ezleagues.ezfacility.com
DTSTAMP:20260424T041413Z
CREATED:20260424T041413Z
DTSTART:20260608T004500Z
DTEND:20260608T013000Z
LOCATION:Court 3
CONTACT:
SUMMARY:Can You Dig It VS. Hit It and Quit It
DESCRIPTION:League Name: Spring Sunday Court 3 Coed C Sixes\nGame Type: Reg
 ular\nGame Status: Pending\nHome Team: Can You Dig It\nAway Team: Hit It a
 nd Quit It\n
END:VEVENT
BEGIN:VEVENT
UID:17075414@ezleagues.ezfacility.com
DTSTAMP:20260424T041413Z
CREATED:20260424T041413Z
DTSTART:20260622T000000Z
DTEND:20260622T004500Z
LOCATION:Court 3
CONTACT:
SUMMARY:Can You Dig It VS. Bump Buddies
DESCRIPTION:League Name: Spring Sunday Court 3 Coed C Sixes\nGame Type: Reg
 ular\nGame Status: Pending\nHome Team: Can You Dig It\nAway Team: Bump Bud
 dies\n
END:VEVENT
END:VCALENDAR
