BEGIN:VCALENDAR
VERSION:2.0
PRODID:-//EZFacility.com, Inc.//EZL 2.5.5.28621
BEGIN:VEVENT
UID:17075370@ezleagues.ezfacility.com
DTSTAMP:20260424T044032Z
CREATED:20260424T044032Z
DTSTART:20260330T013000Z
DTEND:20260330T021500Z
LOCATION:Court 3
CONTACT:
SUMMARY:Sandicate VS. Sugarballs
DESCRIPTION:League Name: Spring Sunday Court 3 Coed C Sixes\nGame Type: Reg
 ular\nGame Status: Complete\nHome Team: Sandicate\nAway Team: Sugarballs\n
 Home Score: 2\nAway Score: 1
END:VEVENT
BEGIN:VEVENT
UID:17075383@ezleagues.ezfacility.com
DTSTAMP:20260424T044032Z
CREATED:20260424T044032Z
DTSTART:20260412T231500Z
DTEND:20260413T000000Z
LOCATION:Court 3
CONTACT:
SUMMARY:Can You Dig It VS. Sandicate
DESCRIPTION:League Name: Spring Sunday Court 3 Coed C Sixes\nGame Type: Reg
 ular\nGame Status: Complete\nHome Team: Can You Dig It\nAway Team: Sandica
 te\nHome Score: 0\nAway Score: 3
END:VEVENT
BEGIN:VEVENT
UID:17075388@ezleagues.ezfacility.com
DTSTAMP:20260424T044032Z
CREATED:20260424T044032Z
DTSTART:20260420T000000Z
DTEND:20260420T004500Z
LOCATION:Court 3
CONTACT:
SUMMARY:Sandicate VS. Bump Set Debauchery
DESCRIPTION:League Name: Spring Sunday Court 3 Coed C Sixes\nGame Type: Reg
 ular\nGame Status: Complete\nHome Team: Sandicate\nAway Team: Bump Set Deb
 auchery\nHome Score: 1\nAway Score: 2
END:VEVENT
BEGIN:VEVENT
UID:17075393@ezleagues.ezfacility.com
DTSTAMP:20260424T044032Z
CREATED:20260424T044032Z
DTSTART:20260426T223000Z
DTEND:20260426T231500Z
LOCATION:Court 3
CONTACT:
SUMMARY:Hit It and Quit It VS. Sandicate
DESCRIPTION:League Name: Spring Sunday Court 3 Coed C Sixes\nGame Type: Reg
 ular\nGame Status: Pending\nHome Team: Hit It and Quit It\nAway Team: Sand
 icate\n
END:VEVENT
BEGIN:VEVENT
UID:17075398@ezleagues.ezfacility.com
DTSTAMP:20260424T044032Z
CREATED:20260424T044032Z
DTSTART:20260504T000000Z
DTEND:20260504T004500Z
LOCATION:Court 3
CONTACT:
SUMMARY:Sandicate VS. Setting Ducks
DESCRIPTION:League Name: Spring Sunday Court 3 Coed C Sixes\nGame Type: Reg
 ular\nGame Status: Pending\nHome Team: Sandicate\nAway Team: Setting Ducks
 \n
END:VEVENT
BEGIN:VEVENT
UID:17075408@ezleagues.ezfacility.com
DTSTAMP:20260424T044032Z
CREATED:20260424T044032Z
DTSTART:20260518T004500Z
DTEND:20260518T013000Z
LOCATION:Court 3
CONTACT:
SUMMARY:Bump Buddies VS. Sandicate
DESCRIPTION:League Name: Spring Sunday Court 3 Coed C Sixes\nGame Type: Reg
 ular\nGame Status: Pending\nHome Team: Bump Buddies\nAway Team: Sandicate\
 n
END:VEVENT
BEGIN:VEVENT
UID:17075422@ezleagues.ezfacility.com
DTSTAMP:20260424T044032Z
CREATED:20260424T044032Z
DTSTART:20260531T231500Z
DTEND:20260601T000000Z
LOCATION:Court 3
CONTACT:
SUMMARY:Hash Slinging Smashers VS. Sandicate
DESCRIPTION:League Name: Spring Sunday Court 3 Coed C Sixes\nGame Type: Reg
 ular\nGame Status: Pending\nHome Team: Hash Slinging Smashers\nAway Team: 
 Sandicate\n
END:VEVENT
BEGIN:VEVENT
UID:17075429@ezleagues.ezfacility.com
DTSTAMP:20260424T044032Z
CREATED:20260424T044032Z
DTSTART:20260608T013000Z
DTEND:20260608T021500Z
LOCATION:Court 3
CONTACT:
SUMMARY:Sandicate VS. Pappys
DESCRIPTION:League Name: Spring Sunday Court 3 Coed C Sixes\nGame Type: Reg
 ular\nGame Status: Pending\nHome Team: Sandicate\nAway Team: Pappys\n
END:VEVENT
BEGIN:VEVENT
UID:17075377@ezleagues.ezfacility.com
DTSTAMP:20260424T044032Z
CREATED:20260424T044032Z
DTSTART:20260615T013000Z
DTEND:20260615T021500Z
LOCATION:Court 3
CONTACT:
SUMMARY:#Walden Wolverines VS. Sandicate
DESCRIPTION:League Name: Spring Sunday Court 3 Coed C Sixes\nGame Type: Reg
 ular\nGame Status: Pending\nHome Team: #Walden Wolverines\nAway Team: Sand
 icate\n
END:VEVENT
BEGIN:VEVENT
UID:17075415@ezleagues.ezfacility.com
DTSTAMP:20260424T044032Z
CREATED:20260424T044032Z
DTSTART:20260621T223000Z
DTEND:20260621T231500Z
LOCATION:Court 3
CONTACT:
SUMMARY:Sandicate VS. The Empire Spikes Back
DESCRIPTION:League Name: Spring Sunday Court 3 Coed C Sixes\nGame Type: Reg
 ular\nGame Status: Pending\nHome Team: Sandicate\nAway Team: The Empire Sp
 ikes Back\n
END:VEVENT
END:VCALENDAR
