BEGIN:VCALENDAR
VERSION:2.0
PRODID:-//EZFacility.com, Inc.//EZL 2.5.5.28621
BEGIN:VEVENT
UID:17081037@ezleagues.ezfacility.com
DTSTAMP:20260423T190457Z
CREATED:20260423T190457Z
DTSTART:20260411T000000Z
DTEND:20260411T020000Z
LOCATION:Baseball Field 3
CONTACT:
SUMMARY:Keystone State Bombers - National (3) VS. Carlisle Royals (6)
DESCRIPTION:League Name: Spring '26 Jackie Robinson Memorial, 12U, 4/10-12\
 nGame Type: Regular\nGame Status: Complete\nHome Team: Keystone State Bomb
 ers - National (3)\nAway Team: Carlisle Royals (6)\nHome Score: 13\nAway S
 core: 9
END:VEVENT
BEGIN:VEVENT
UID:17081043@ezleagues.ezfacility.com
DTSTAMP:20260423T190457Z
CREATED:20260423T190457Z
DTSTART:20260411T221000Z
DTEND:20260412T001000Z
LOCATION:Baseball Field 3
CONTACT:
SUMMARY:Pioneers Baseball 12U Red (9) VS. Carlisle Royals (6)
DESCRIPTION:League Name: Spring '26 Jackie Robinson Memorial, 12U, 4/10-12\
 nGame Type: Regular\nGame Status: Complete\nHome Team: Pioneers Baseball 1
 2U Red (9)\nAway Team: Carlisle Royals (6)\nHome Score: 0\nAway Score: 13
END:VEVENT
BEGIN:VEVENT
UID:17076088@ezleagues.ezfacility.com
DTSTAMP:20260423T190457Z
CREATED:20260423T190457Z
DTSTART:20260412T140000Z
DTEND:20260412T160000Z
LOCATION:Baseball Field 3
CONTACT:
SUMMARY:Carlisle Royals (6) VS. RBI Baseball National 12u (7)
DESCRIPTION:League Name: Spring '26 Jackie Robinson Memorial, 12U, 4/10-12\
 nGame Type: Regular\nGame Status: Complete\nHome Team: Carlisle Royals (6)
 \nAway Team: RBI Baseball National 12u (7)\nHome Score: 13\nAway Score: 1
END:VEVENT
END:VCALENDAR
