BEGIN:VCALENDAR
VERSION:2.0
PRODID:-//EZFacility.com, Inc.//EZL 2.5.5.28621
BEGIN:VEVENT
UID:17076221@ezleagues.ezfacility.com
DTSTAMP:20260424T044046Z
CREATED:20260424T044046Z
DTSTART:20260403T013000Z
DTEND:20260403T023000Z
LOCATION:SHIELD ATHLETICS CENTRE
CONTACT:Bibby\, Over\, Nichols - TK
SUMMARY:Bandits VS. Hawks
DESCRIPTION:League Name: Playoffs '26\nGame Type: Regular\nGame Status: Com
 plete\nHome Team: Bandits\nAway Team: Hawks\nHome Score: 3\nAway Score: 5
END:VEVENT
BEGIN:VEVENT
UID:17076223@ezleagues.ezfacility.com
DTSTAMP:20260424T044046Z
CREATED:20260424T044046Z
DTSTART:20260410T003000Z
DTEND:20260410T013000Z
LOCATION:SHIELD ATHLETICS CENTRE
CONTACT:Bibby\, Over\, Nichols - TK
SUMMARY:Muckhorses VS. Hawks
DESCRIPTION:League Name: Playoffs '26\nGame Type: Regular\nGame Status: Com
 plete\nHome Team: Muckhorses\nAway Team: Hawks\nHome Score: 2\nAway Score:
  3
END:VEVENT
BEGIN:VEVENT
UID:17076225@ezleagues.ezfacility.com
DTSTAMP:20260424T044046Z
CREATED:20260424T044046Z
DTSTART:20260417T003000Z
DTEND:20260417T013000Z
LOCATION:SHIELD ATHLETICS CENTRE
CONTACT:Brownson\, Over\, Nichols - TK
SUMMARY:Hawks VS. TuckIns
DESCRIPTION:League Name: Playoffs '26\nGame Type: Regular\nGame Status: Com
 plete\nHome Team: Hawks\nAway Team: TuckIns\nHome Score: 5\nAway Score: 8
END:VEVENT
BEGIN:VEVENT
UID:17076228@ezleagues.ezfacility.com
DTSTAMP:20260424T044046Z
CREATED:20260424T044046Z
DTSTART:20260424T003000Z
DTEND:20260424T013000Z
LOCATION:SHIELD ATHLETICS CENTRE
CONTACT:
SUMMARY:Hawks VS. Gators
DESCRIPTION:League Name: Playoffs '26\nGame Type: Regular\nGame Status: Pen
 ding\nHome Team: Hawks\nAway Team: Gators\n
END:VEVENT
END:VCALENDAR
