BEGIN:VCALENDAR
VERSION:2.0
PRODID:-//EZFacility.com, Inc.//EZL 2.5.5.28621
BEGIN:VEVENT
UID:17076381@ezleagues.ezfacility.com
DTSTAMP:20260424T041411Z
CREATED:20260424T041411Z
DTSTART:20260330T220000Z
DTEND:20260330T223000Z
LOCATION:Pickleball 2
CONTACT:
SUMMARY:Lobbsters VS. Cousin-A-Ruckas
DESCRIPTION:League Name: Spring Intermediate Pickleball League\nGame Type: 
 Regular\nGame Status: Complete\nHome Team: Lobbsters\nAway Team: Cousin-A-
 Ruckas\nHome Score: 22\nAway Score: 7
END:VEVENT
BEGIN:VEVENT
UID:17076386@ezleagues.ezfacility.com
DTSTAMP:20260424T041411Z
CREATED:20260424T041411Z
DTSTART:20260330T223000Z
DTEND:20260330T230000Z
LOCATION:Pickleball 3
CONTACT:
SUMMARY:The Dink Side VS. Lobbsters
DESCRIPTION:League Name: Spring Intermediate Pickleball League\nGame Type: 
 Regular\nGame Status: Complete\nHome Team: The Dink Side\nAway Team: Lobbs
 ters\nHome Score: 7\nAway Score: 22
END:VEVENT
BEGIN:VEVENT
UID:17076391@ezleagues.ezfacility.com
DTSTAMP:20260424T041411Z
CREATED:20260424T041411Z
DTSTART:20260406T220000Z
DTEND:20260406T223000Z
LOCATION:Pickleball 4
CONTACT:
SUMMARY:Lobbsters VS. Pixie Chicks
DESCRIPTION:League Name: Spring Intermediate Pickleball League\nGame Type: 
 Regular\nGame Status: Complete\nHome Team: Lobbsters\nAway Team: Pixie Chi
 cks\nHome Score: 22\nAway Score: 0
END:VEVENT
BEGIN:VEVENT
UID:17076396@ezleagues.ezfacility.com
DTSTAMP:20260424T041411Z
CREATED:20260424T041411Z
DTSTART:20260406T223000Z
DTEND:20260406T230000Z
LOCATION:Pickleball 4
CONTACT:
SUMMARY:'86 Chicks VS. Lobbsters
DESCRIPTION:League Name: Spring Intermediate Pickleball League\nGame Type: 
 Regular\nGame Status: Complete\nHome Team: '86 Chicks\nAway Team: Lobbster
 s\nHome Score: 0\nAway Score: 22
END:VEVENT
BEGIN:VEVENT
UID:17076400@ezleagues.ezfacility.com
DTSTAMP:20260424T041411Z
CREATED:20260424T041411Z
DTSTART:20260406T230000Z
DTEND:20260406T233000Z
LOCATION:Pickleball 2
CONTACT:
SUMMARY:New Columbus Nightmares VS. Lobbsters
DESCRIPTION:League Name: Spring Intermediate Pickleball League\nGame Type: 
 Regular\nGame Status: Complete\nHome Team: New Columbus Nightmares\nAway T
 eam: Lobbsters\nHome Score: 22\nAway Score: 6
END:VEVENT
BEGIN:VEVENT
UID:17076406@ezleagues.ezfacility.com
DTSTAMP:20260424T041411Z
CREATED:20260424T041411Z
DTSTART:20260420T220000Z
DTEND:20260420T223000Z
LOCATION:Pickleball 3
CONTACT:
SUMMARY:Blaser n Williams VS. Lobbsters
DESCRIPTION:League Name: Spring Intermediate Pickleball League\nGame Type: 
 Regular\nGame Status: Complete\nHome Team: Blaser n Williams\nAway Team: L
 obbsters\nHome Score: 15\nAway Score: 22
END:VEVENT
BEGIN:VEVENT
UID:17076414@ezleagues.ezfacility.com
DTSTAMP:20260424T041411Z
CREATED:20260424T041411Z
DTSTART:20260427T220000Z
DTEND:20260427T223000Z
LOCATION:Pickleball 3
CONTACT:
SUMMARY:Lobbsters VS. The Dink Side
DESCRIPTION:League Name: Spring Intermediate Pickleball League\nGame Type: 
 Regular\nGame Status: Pending\nHome Team: Lobbsters\nAway Team: The Dink S
 ide\n
END:VEVENT
BEGIN:VEVENT
UID:17076419@ezleagues.ezfacility.com
DTSTAMP:20260424T041411Z
CREATED:20260424T041411Z
DTSTART:20260427T223000Z
DTEND:20260427T230000Z
LOCATION:Pickleball 4
CONTACT:
SUMMARY:Pixie Chicks VS. Lobbsters
DESCRIPTION:League Name: Spring Intermediate Pickleball League\nGame Type: 
 Regular\nGame Status: Pending\nHome Team: Pixie Chicks\nAway Team: Lobbste
 rs\n
END:VEVENT
BEGIN:VEVENT
UID:17076428@ezleagues.ezfacility.com
DTSTAMP:20260424T041411Z
CREATED:20260424T041411Z
DTSTART:20260504T223000Z
DTEND:20260504T230000Z
LOCATION:Pickleball 2
CONTACT:
SUMMARY:Lobbsters VS. New Columbus Nightmares
DESCRIPTION:League Name: Spring Intermediate Pickleball League\nGame Type: 
 Regular\nGame Status: Pending\nHome Team: Lobbsters\nAway Team: New Columb
 us Nightmares\n
END:VEVENT
BEGIN:VEVENT
UID:17076409@ezleagues.ezfacility.com
DTSTAMP:20260424T041411Z
CREATED:20260424T041411Z
DTSTART:20260504T230000Z
DTEND:20260504T233000Z
LOCATION:Pickleball 3
CONTACT:
SUMMARY:Cousin-A-Ruckas VS. Lobbsters
DESCRIPTION:League Name: Spring Intermediate Pickleball League\nGame Type: 
 Regular\nGame Status: Pending\nHome Team: Cousin-A-Ruckas\nAway Team: Lobb
 sters\n
END:VEVENT
BEGIN:VEVENT
UID:17076434@ezleagues.ezfacility.com
DTSTAMP:20260424T041411Z
CREATED:20260424T041411Z
DTSTART:20260511T223000Z
DTEND:20260511T230000Z
LOCATION:Pickleball 2
CONTACT:
SUMMARY:Lobbsters VS. Blaser n Williams
DESCRIPTION:League Name: Spring Intermediate Pickleball League\nGame Type: 
 Regular\nGame Status: Pending\nHome Team: Lobbsters\nAway Team: Blaser n W
 illiams\n
END:VEVENT
BEGIN:VEVENT
UID:17076424@ezleagues.ezfacility.com
DTSTAMP:20260424T041411Z
CREATED:20260424T041411Z
DTSTART:20260511T230000Z
DTEND:20260511T233000Z
LOCATION:Pickleball 2
CONTACT:
SUMMARY:Lobbsters VS. '86 Chicks
DESCRIPTION:League Name: Spring Intermediate Pickleball League\nGame Type: 
 Regular\nGame Status: Pending\nHome Team: Lobbsters\nAway Team: '86 Chicks
 \n
END:VEVENT
END:VCALENDAR
