BEGIN:VCALENDAR
VERSION:2.0
PRODID:-//EZFacility.com, Inc.//EZL 2.5.5.28621
BEGIN:VEVENT
UID:17076516@ezleagues.ezfacility.com
DTSTAMP:20260419T142750Z
CREATED:20260419T142750Z
DTSTART:20260411T141500Z
DTEND:20260411T150000Z
LOCATION:Wild Bunch
CONTACT:
SUMMARY:Little Aces VS. Serve Stars
DESCRIPTION:League Name: Spring League 3rd/4th 2026\nGame Type: Regular\nGa
 me Status: Pending\nHome Team: Little Aces\nAway Team: Serve Stars\n
END:VEVENT
BEGIN:VEVENT
UID:17076517@ezleagues.ezfacility.com
DTSTAMP:20260419T142750Z
CREATED:20260419T142750Z
DTSTART:20260411T150000Z
DTEND:20260411T154500Z
LOCATION:Wild Bunch
CONTACT:
SUMMARY:Lightening Spikes VS. Little Aces
DESCRIPTION:League Name: Spring League 3rd/4th 2026\nGame Type: Regular\nGa
 me Status: Pending\nHome Team: Lightening Spikes\nAway Team: Little Aces\n
END:VEVENT
BEGIN:VEVENT
UID:17076519@ezleagues.ezfacility.com
DTSTAMP:20260419T142750Z
CREATED:20260419T142750Z
DTSTART:20260418T133000Z
DTEND:20260418T141500Z
LOCATION:Wild Bunch
CONTACT:
SUMMARY:Little Aces VS. Lightening Spikes
DESCRIPTION:League Name: Spring League 3rd/4th 2026\nGame Type: Regular\nGa
 me Status: Pending\nHome Team: Little Aces\nAway Team: Lightening Spikes\n
END:VEVENT
BEGIN:VEVENT
UID:17076522@ezleagues.ezfacility.com
DTSTAMP:20260419T142750Z
CREATED:20260419T142750Z
DTSTART:20260418T150000Z
DTEND:20260418T154500Z
LOCATION:Wild Bunch
CONTACT:
SUMMARY:Serve Stars VS. Little Aces
DESCRIPTION:League Name: Spring League 3rd/4th 2026\nGame Type: Regular\nGa
 me Status: Pending\nHome Team: Serve Stars\nAway Team: Little Aces\n
END:VEVENT
END:VCALENDAR
