BEGIN:VCALENDAR
VERSION:2.0
PRODID:-//EZFacility.com, Inc.//EZL 2.5.5.28621
BEGIN:VEVENT
UID:17078055@ezleagues.ezfacility.com
DTSTAMP:20260426T033649Z
CREATED:20260426T033649Z
DTSTART:20260414T000000Z
DTEND:20260414T004500Z
LOCATION:Court 1
CONTACT:
SUMMARY:Diggin' VS. Inigo Montoya
DESCRIPTION:League Name: Spring Monday Court 1 B Quads\nGame Type: Regular\
 nGame Status: Complete\nHome Team: Diggin'\nAway Team: Inigo Montoya\nHome
  Score: 3\nAway Score: 0
END:VEVENT
BEGIN:VEVENT
UID:17078062@ezleagues.ezfacility.com
DTSTAMP:20260426T033649Z
CREATED:20260426T033649Z
DTSTART:20260421T004500Z
DTEND:20260421T013000Z
LOCATION:Court 1
CONTACT:
SUMMARY:Tres Leches + 1 VS. Diggin'
DESCRIPTION:League Name: Spring Monday Court 1 B Quads\nGame Type: Regular\
 nGame Status: Complete\nHome Team: Tres Leches + 1\nAway Team: Diggin'\nHo
 me Score: 0\nAway Score: 3
END:VEVENT
BEGIN:VEVENT
UID:17078069@ezleagues.ezfacility.com
DTSTAMP:20260426T033649Z
CREATED:20260426T033649Z
DTSTART:20260427T223000Z
DTEND:20260427T231500Z
LOCATION:Court 1
CONTACT:
SUMMARY:Diggin' VS. That's what she sets
DESCRIPTION:League Name: Spring Monday Court 1 B Quads\nGame Type: Regular\
 nGame Status: Pending\nHome Team: Diggin'\nAway Team: That's what she sets
 \n
END:VEVENT
BEGIN:VEVENT
UID:17078076@ezleagues.ezfacility.com
DTSTAMP:20260426T033649Z
CREATED:20260426T033649Z
DTSTART:20260505T013000Z
DTEND:20260505T021500Z
LOCATION:Court 1
CONTACT:
SUMMARY:Diggin' VS. Foot Sets
DESCRIPTION:League Name: Spring Monday Court 1 B Quads\nGame Type: Regular\
 nGame Status: Pending\nHome Team: Diggin'\nAway Team: Foot Sets\n
END:VEVENT
BEGIN:VEVENT
UID:17078082@ezleagues.ezfacility.com
DTSTAMP:20260426T033649Z
CREATED:20260426T033649Z
DTSTART:20260512T004500Z
DTEND:20260512T013000Z
LOCATION:Court 1
CONTACT:
SUMMARY:Ace Ace Baby! VS. Diggin'
DESCRIPTION:League Name: Spring Monday Court 1 B Quads\nGame Type: Regular\
 nGame Status: Pending\nHome Team: Ace Ace Baby!\nAway Team: Diggin'\n
END:VEVENT
BEGIN:VEVENT
UID:17078087@ezleagues.ezfacility.com
DTSTAMP:20260426T033649Z
CREATED:20260426T033649Z
DTSTART:20260519T004500Z
DTEND:20260519T013000Z
LOCATION:Court 1
CONTACT:
SUMMARY:Diggin' VS. Face Down Ace Up
DESCRIPTION:League Name: Spring Monday Court 1 B Quads\nGame Type: Regular\
 nGame Status: Pending\nHome Team: Diggin'\nAway Team: Face Down Ace Up\n
END:VEVENT
BEGIN:VEVENT
UID:17078092@ezleagues.ezfacility.com
DTSTAMP:20260426T033649Z
CREATED:20260426T033649Z
DTSTART:20260525T231500Z
DTEND:20260526T000000Z
LOCATION:Court 1
CONTACT:
SUMMARY:Sets On The Beach VS. Diggin'
DESCRIPTION:League Name: Spring Monday Court 1 B Quads\nGame Type: Regular\
 nGame Status: Pending\nHome Team: Sets On The Beach\nAway Team: Diggin'\n
END:VEVENT
BEGIN:VEVENT
UID:17078102@ezleagues.ezfacility.com
DTSTAMP:20260426T033649Z
CREATED:20260426T033649Z
DTSTART:20260608T223000Z
DTEND:20260608T231500Z
LOCATION:Court 1
CONTACT:
SUMMARY:Monday Night Quads VS. Diggin'
DESCRIPTION:League Name: Spring Monday Court 1 B Quads\nGame Type: Regular\
 nGame Status: Pending\nHome Team: Monday Night Quads\nAway Team: Diggin'\n
END:VEVENT
BEGIN:VEVENT
UID:17078107@ezleagues.ezfacility.com
DTSTAMP:20260426T033649Z
CREATED:20260426T033649Z
DTSTART:20260616T013000Z
DTEND:20260616T021500Z
LOCATION:Court 1
CONTACT:
SUMMARY:#Sandy Bottoms VS. Diggin'
DESCRIPTION:League Name: Spring Monday Court 1 B Quads\nGame Type: Regular\
 nGame Status: Pending\nHome Team: #Sandy Bottoms\nAway Team: Diggin'\n
END:VEVENT
BEGIN:VEVENT
UID:17078114@ezleagues.ezfacility.com
DTSTAMP:20260426T033649Z
CREATED:20260426T033649Z
DTSTART:20260622T231500Z
DTEND:20260623T000000Z
LOCATION:Court 1
CONTACT:
SUMMARY:Diggin' VS. DAAM
DESCRIPTION:League Name: Spring Monday Court 1 B Quads\nGame Type: Regular\
 nGame Status: Pending\nHome Team: Diggin'\nAway Team: DAAM\n
END:VEVENT
END:VCALENDAR
