BEGIN:VCALENDAR
VERSION:2.0
PRODID:-//EZFacility.com, Inc.//EZL 2.5.5.28621
BEGIN:VEVENT
UID:17078119@ezleagues.ezfacility.com
DTSTAMP:20260424T023748Z
CREATED:20260424T023748Z
DTSTART:20260413T223000Z
DTEND:20260413T231500Z
LOCATION:Court 2
CONTACT:
SUMMARY:Butt setts VS. #Volley Llamas
DESCRIPTION:League Name: Spring Monday Court 2 Coed C Sixes\nGame Type: Reg
 ular\nGame Status: Complete\nHome Team: Butt setts\nAway Team: #Volley Lla
 mas\nHome Score: 1\nAway Score: 2
END:VEVENT
BEGIN:VEVENT
UID:17078125@ezleagues.ezfacility.com
DTSTAMP:20260424T023748Z
CREATED:20260424T023748Z
DTSTART:20260421T000000Z
DTEND:20260421T004500Z
LOCATION:Court 2
CONTACT:
SUMMARY:#Volley Llamas VS. Good Vibe Tribe
DESCRIPTION:League Name: Spring Monday Court 2 Coed C Sixes\nGame Type: Reg
 ular\nGame Status: Complete\nHome Team: #Volley Llamas\nAway Team: Good Vi
 be Tribe\nHome Score: 3\nAway Score: 0
END:VEVENT
BEGIN:VEVENT
UID:17078131@ezleagues.ezfacility.com
DTSTAMP:20260424T023748Z
CREATED:20260424T023748Z
DTSTART:20260428T004500Z
DTEND:20260428T013000Z
LOCATION:Court 2
CONTACT:
SUMMARY:Smash or Pass VS. #Volley Llamas
DESCRIPTION:League Name: Spring Monday Court 2 Coed C Sixes\nGame Type: Reg
 ular\nGame Status: Pending\nHome Team: Smash or Pass\nAway Team: #Volley L
 lamas\n
END:VEVENT
BEGIN:VEVENT
UID:17078137@ezleagues.ezfacility.com
DTSTAMP:20260424T023748Z
CREATED:20260424T023748Z
DTSTART:20260504T231500Z
DTEND:20260505T000000Z
LOCATION:Court 2
CONTACT:
SUMMARY:#Volley Llamas VS. Team Hype
DESCRIPTION:League Name: Spring Monday Court 2 Coed C Sixes\nGame Type: Reg
 ular\nGame Status: Pending\nHome Team: #Volley Llamas\nAway Team: Team Hyp
 e\n
END:VEVENT
BEGIN:VEVENT
UID:17078143@ezleagues.ezfacility.com
DTSTAMP:20260424T023748Z
CREATED:20260424T023748Z
DTSTART:20260511T231500Z
DTEND:20260512T000000Z
LOCATION:Court 2
CONTACT:
SUMMARY:You Gotta Dig Deep VS. #Volley Llamas
DESCRIPTION:League Name: Spring Monday Court 2 Coed C Sixes\nGame Type: Reg
 ular\nGame Status: Pending\nHome Team: You Gotta Dig Deep\nAway Team: #Vol
 ley Llamas\n
END:VEVENT
BEGIN:VEVENT
UID:17078155@ezleagues.ezfacility.com
DTSTAMP:20260424T023748Z
CREATED:20260424T023748Z
DTSTART:20260526T013000Z
DTEND:20260526T021500Z
LOCATION:Court 2
CONTACT:
SUMMARY:Xpensive Xercise VS. #Volley Llamas
DESCRIPTION:League Name: Spring Monday Court 2 Coed C Sixes\nGame Type: Reg
 ular\nGame Status: Pending\nHome Team: Xpensive Xercise\nAway Team: #Volle
 y Llamas\n
END:VEVENT
BEGIN:VEVENT
UID:17078161@ezleagues.ezfacility.com
DTSTAMP:20260424T023748Z
CREATED:20260424T023748Z
DTSTART:20260602T004500Z
DTEND:20260602T013000Z
LOCATION:Court 2
CONTACT:
SUMMARY:#Volley Llamas VS. Stoop Up
DESCRIPTION:League Name: Spring Monday Court 2 Coed C Sixes\nGame Type: Reg
 ular\nGame Status: Pending\nHome Team: #Volley Llamas\nAway Team: Stoop Up
 \n
END:VEVENT
BEGIN:VEVENT
UID:17078167@ezleagues.ezfacility.com
DTSTAMP:20260424T023748Z
CREATED:20260424T023748Z
DTSTART:20260609T000000Z
DTEND:20260609T004500Z
LOCATION:Court 2
CONTACT:
SUMMARY:Honking Swans VS. #Volley Llamas
DESCRIPTION:League Name: Spring Monday Court 2 Coed C Sixes\nGame Type: Reg
 ular\nGame Status: Pending\nHome Team: Honking Swans\nAway Team: #Volley L
 lamas\n
END:VEVENT
BEGIN:VEVENT
UID:17078173@ezleagues.ezfacility.com
DTSTAMP:20260424T023748Z
CREATED:20260424T023748Z
DTSTART:20260616T013000Z
DTEND:20260616T021500Z
LOCATION:Court 2
CONTACT:
SUMMARY:#Volley Llamas VS. Cover The Tip
DESCRIPTION:League Name: Spring Monday Court 2 Coed C Sixes\nGame Type: Reg
 ular\nGame Status: Pending\nHome Team: #Volley Llamas\nAway Team: Cover Th
 e Tip\n
END:VEVENT
BEGIN:VEVENT
UID:17078179@ezleagues.ezfacility.com
DTSTAMP:20260424T023748Z
CREATED:20260424T023748Z
DTSTART:20260622T223000Z
DTEND:20260622T231500Z
LOCATION:Court 2
CONTACT:
SUMMARY:#Volley Llamas VS. B and I
DESCRIPTION:League Name: Spring Monday Court 2 Coed C Sixes\nGame Type: Reg
 ular\nGame Status: Pending\nHome Team: #Volley Llamas\nAway Team: B and I\
 n
END:VEVENT
END:VCALENDAR
