BEGIN:VCALENDAR
VERSION:2.0
PRODID:-//EZFacility.com, Inc.//EZL 2.5.5.28621
BEGIN:VEVENT
UID:17078120@ezleagues.ezfacility.com
DTSTAMP:20260424T041509Z
CREATED:20260424T041509Z
DTSTART:20260413T231500Z
DTEND:20260414T000000Z
LOCATION:Court 2
CONTACT:
SUMMARY:B and I VS. Good Vibe Tribe
DESCRIPTION:League Name: Spring Monday Court 2 Coed C Sixes\nGame Type: Reg
 ular\nGame Status: Complete\nHome Team: B and I\nAway Team: Good Vibe Trib
 e\nHome Score: 3\nAway Score: 0
END:VEVENT
BEGIN:VEVENT
UID:17078127@ezleagues.ezfacility.com
DTSTAMP:20260424T041509Z
CREATED:20260424T041509Z
DTSTART:20260420T223000Z
DTEND:20260420T231500Z
LOCATION:Court 2
CONTACT:
SUMMARY:Team Hype VS. B and I
DESCRIPTION:League Name: Spring Monday Court 2 Coed C Sixes\nGame Type: Reg
 ular\nGame Status: Complete\nHome Team: Team Hype\nAway Team: B and I\nHom
 e Score: 0\nAway Score: 3
END:VEVENT
BEGIN:VEVENT
UID:17078141@ezleagues.ezfacility.com
DTSTAMP:20260424T041509Z
CREATED:20260424T041509Z
DTSTART:20260505T000000Z
DTEND:20260505T004500Z
LOCATION:Court 2
CONTACT:
SUMMARY:Stoop Up VS. B and I
DESCRIPTION:League Name: Spring Monday Court 2 Coed C Sixes\nGame Type: Reg
 ular\nGame Status: Pending\nHome Team: Stoop Up\nAway Team: B and I\n
END:VEVENT
BEGIN:VEVENT
UID:17078148@ezleagues.ezfacility.com
DTSTAMP:20260424T041509Z
CREATED:20260424T041509Z
DTSTART:20260512T004500Z
DTEND:20260512T013000Z
LOCATION:Court 2
CONTACT:
SUMMARY:B and I VS. Cover The Tip
DESCRIPTION:League Name: Spring Monday Court 2 Coed C Sixes\nGame Type: Reg
 ular\nGame Status: Pending\nHome Team: B and I\nAway Team: Cover The Tip\n
END:VEVENT
BEGIN:VEVENT
UID:17078154@ezleagues.ezfacility.com
DTSTAMP:20260424T041509Z
CREATED:20260424T041509Z
DTSTART:20260519T013000Z
DTEND:20260519T021500Z
LOCATION:Court 2
CONTACT:
SUMMARY:B and I VS. Butt setts
DESCRIPTION:League Name: Spring Monday Court 2 Coed C Sixes\nGame Type: Reg
 ular\nGame Status: Pending\nHome Team: B and I\nAway Team: Butt setts\n
END:VEVENT
BEGIN:VEVENT
UID:17078159@ezleagues.ezfacility.com
DTSTAMP:20260424T041509Z
CREATED:20260424T041509Z
DTSTART:20260526T004500Z
DTEND:20260526T013000Z
LOCATION:Court 2
CONTACT:
SUMMARY:Smash or Pass VS. B and I
DESCRIPTION:League Name: Spring Monday Court 2 Coed C Sixes\nGame Type: Reg
 ular\nGame Status: Pending\nHome Team: Smash or Pass\nAway Team: B and I\n
END:VEVENT
BEGIN:VEVENT
UID:17078164@ezleagues.ezfacility.com
DTSTAMP:20260424T041509Z
CREATED:20260424T041509Z
DTSTART:20260602T013000Z
DTEND:20260602T021500Z
LOCATION:Court 2
CONTACT:
SUMMARY:B and I VS. You Gotta Dig Deep
DESCRIPTION:League Name: Spring Monday Court 2 Coed C Sixes\nGame Type: Reg
 ular\nGame Status: Pending\nHome Team: B and I\nAway Team: You Gotta Dig D
 eep\n
END:VEVENT
BEGIN:VEVENT
UID:17078169@ezleagues.ezfacility.com
DTSTAMP:20260424T041509Z
CREATED:20260424T041509Z
DTSTART:20260608T231500Z
DTEND:20260609T000000Z
LOCATION:Court 2
CONTACT:
SUMMARY:Xpensive Xercise VS. B and I
DESCRIPTION:League Name: Spring Monday Court 2 Coed C Sixes\nGame Type: Reg
 ular\nGame Status: Pending\nHome Team: Xpensive Xercise\nAway Team: B and 
 I\n
END:VEVENT
BEGIN:VEVENT
UID:17078174@ezleagues.ezfacility.com
DTSTAMP:20260424T041509Z
CREATED:20260424T041509Z
DTSTART:20260615T223000Z
DTEND:20260615T231500Z
LOCATION:Court 2
CONTACT:
SUMMARY:B and I VS. Honking Swans
DESCRIPTION:League Name: Spring Monday Court 2 Coed C Sixes\nGame Type: Reg
 ular\nGame Status: Pending\nHome Team: B and I\nAway Team: Honking Swans\n
END:VEVENT
BEGIN:VEVENT
UID:17078179@ezleagues.ezfacility.com
DTSTAMP:20260424T041509Z
CREATED:20260424T041509Z
DTSTART:20260622T223000Z
DTEND:20260622T231500Z
LOCATION:Court 2
CONTACT:
SUMMARY:#Volley Llamas VS. B and I
DESCRIPTION:League Name: Spring Monday Court 2 Coed C Sixes\nGame Type: Reg
 ular\nGame Status: Pending\nHome Team: #Volley Llamas\nAway Team: B and I\
 n
END:VEVENT
END:VCALENDAR
