BEGIN:VCALENDAR
VERSION:2.0
PRODID:-//EZFacility.com, Inc.//EZL 2.5.5.28621
BEGIN:VEVENT
UID:17078122@ezleagues.ezfacility.com
DTSTAMP:20260423T114927Z
CREATED:20260423T114927Z
DTSTART:20260414T004500Z
DTEND:20260414T013000Z
LOCATION:Court 2
CONTACT:
SUMMARY:Honking Swans VS. Team Hype
DESCRIPTION:League Name: Spring Monday Court 2 Coed C Sixes\nGame Type: Reg
 ular\nGame Status: Complete\nHome Team: Honking Swans\nAway Team: Team Hyp
 e\nHome Score: 1\nAway Score: 2
END:VEVENT
BEGIN:VEVENT
UID:17078127@ezleagues.ezfacility.com
DTSTAMP:20260423T114927Z
CREATED:20260423T114927Z
DTSTART:20260420T223000Z
DTEND:20260420T231500Z
LOCATION:Court 2
CONTACT:
SUMMARY:Team Hype VS. B and I
DESCRIPTION:League Name: Spring Monday Court 2 Coed C Sixes\nGame Type: Reg
 ular\nGame Status: Complete\nHome Team: Team Hype\nAway Team: B and I\nHom
 e Score: 0\nAway Score: 3
END:VEVENT
BEGIN:VEVENT
UID:17078132@ezleagues.ezfacility.com
DTSTAMP:20260423T114927Z
CREATED:20260423T114927Z
DTSTART:20260428T013000Z
DTEND:20260428T021500Z
LOCATION:Court 2
CONTACT:
SUMMARY:Good Vibe Tribe VS. Team Hype
DESCRIPTION:League Name: Spring Monday Court 2 Coed C Sixes\nGame Type: Reg
 ular\nGame Status: Pending\nHome Team: Good Vibe Tribe\nAway Team: Team Hy
 pe\n
END:VEVENT
BEGIN:VEVENT
UID:17078137@ezleagues.ezfacility.com
DTSTAMP:20260423T114927Z
CREATED:20260423T114927Z
DTSTART:20260504T231500Z
DTEND:20260505T000000Z
LOCATION:Court 2
CONTACT:
SUMMARY:#Volley Llamas VS. Team Hype
DESCRIPTION:League Name: Spring Monday Court 2 Coed C Sixes\nGame Type: Reg
 ular\nGame Status: Pending\nHome Team: #Volley Llamas\nAway Team: Team Hyp
 e\n
END:VEVENT
BEGIN:VEVENT
UID:17078151@ezleagues.ezfacility.com
DTSTAMP:20260423T114927Z
CREATED:20260423T114927Z
DTSTART:20260519T000000Z
DTEND:20260519T004500Z
LOCATION:Court 2
CONTACT:
SUMMARY:Stoop Up VS. Team Hype
DESCRIPTION:League Name: Spring Monday Court 2 Coed C Sixes\nGame Type: Reg
 ular\nGame Status: Pending\nHome Team: Stoop Up\nAway Team: Team Hype\n
END:VEVENT
BEGIN:VEVENT
UID:17078158@ezleagues.ezfacility.com
DTSTAMP:20260423T114927Z
CREATED:20260423T114927Z
DTSTART:20260525T231500Z
DTEND:20260526T000000Z
LOCATION:Court 2
CONTACT:
SUMMARY:Team Hype VS. Cover The Tip
DESCRIPTION:League Name: Spring Monday Court 2 Coed C Sixes\nGame Type: Reg
 ular\nGame Status: Pending\nHome Team: Team Hype\nAway Team: Cover The Tip
 \n
END:VEVENT
BEGIN:VEVENT
UID:17078165@ezleagues.ezfacility.com
DTSTAMP:20260423T114927Z
CREATED:20260423T114927Z
DTSTART:20260602T000000Z
DTEND:20260602T004500Z
LOCATION:Court 2
CONTACT:
SUMMARY:Butt setts VS. Team Hype
DESCRIPTION:League Name: Spring Monday Court 2 Coed C Sixes\nGame Type: Reg
 ular\nGame Status: Pending\nHome Team: Butt setts\nAway Team: Team Hype\n
END:VEVENT
BEGIN:VEVENT
UID:17078172@ezleagues.ezfacility.com
DTSTAMP:20260423T114927Z
CREATED:20260423T114927Z
DTSTART:20260609T013000Z
DTEND:20260609T021500Z
LOCATION:Court 2
CONTACT:
SUMMARY:Team Hype VS. Smash or Pass
DESCRIPTION:League Name: Spring Monday Court 2 Coed C Sixes\nGame Type: Reg
 ular\nGame Status: Pending\nHome Team: Team Hype\nAway Team: Smash or Pass
 \n
END:VEVENT
BEGIN:VEVENT
UID:17078178@ezleagues.ezfacility.com
DTSTAMP:20260423T114927Z
CREATED:20260423T114927Z
DTSTART:20260616T004500Z
DTEND:20260616T013000Z
LOCATION:Court 2
CONTACT:
SUMMARY:Team Hype VS. You Gotta Dig Deep
DESCRIPTION:League Name: Spring Monday Court 2 Coed C Sixes\nGame Type: Reg
 ular\nGame Status: Pending\nHome Team: Team Hype\nAway Team: You Gotta Dig
  Deep\n
END:VEVENT
BEGIN:VEVENT
UID:17078183@ezleagues.ezfacility.com
DTSTAMP:20260423T114927Z
CREATED:20260423T114927Z
DTSTART:20260623T000000Z
DTEND:20260623T004500Z
LOCATION:Court 2
CONTACT:
SUMMARY:Team Hype VS. Xpensive Xercise
DESCRIPTION:League Name: Spring Monday Court 2 Coed C Sixes\nGame Type: Reg
 ular\nGame Status: Pending\nHome Team: Team Hype\nAway Team: Xpensive Xerc
 ise\n
END:VEVENT
END:VCALENDAR
