BEGIN:VCALENDAR
VERSION:2.0
PRODID:-//EZFacility.com, Inc.//EZL 2.5.5.28621
BEGIN:VEVENT
UID:17078187@ezleagues.ezfacility.com
DTSTAMP:20260424T041407Z
CREATED:20260424T041407Z
DTSTART:20260414T000000Z
DTEND:20260414T004500Z
LOCATION:Court 3
CONTACT:
SUMMARY:Don't Tell Mike  VS. Sand Storm
DESCRIPTION:League Name: Spring Monday Court 3 Coed D Sixes\nGame Type: Reg
 ular\nGame Status: Complete\nHome Team: Don't Tell Mike \nAway Team: Sand 
 Storm\nHome Score: 3\nAway Score: 0
END:VEVENT
BEGIN:VEVENT
UID:17078194@ezleagues.ezfacility.com
DTSTAMP:20260424T041407Z
CREATED:20260424T041407Z
DTSTART:20260421T004500Z
DTEND:20260421T013000Z
LOCATION:Court 3
CONTACT:
SUMMARY:Volleyholics VS. Don't Tell Mike 
DESCRIPTION:League Name: Spring Monday Court 3 Coed D Sixes\nGame Type: Reg
 ular\nGame Status: Complete\nHome Team: Volleyholics\nAway Team: Don't Tel
 l Mike \nHome Score: 1\nAway Score: 2
END:VEVENT
BEGIN:VEVENT
UID:17078201@ezleagues.ezfacility.com
DTSTAMP:20260424T041407Z
CREATED:20260424T041407Z
DTSTART:20260427T223000Z
DTEND:20260427T231500Z
LOCATION:Court 3
CONTACT:
SUMMARY:Don't Tell Mike  VS. Tequila Accident
DESCRIPTION:League Name: Spring Monday Court 3 Coed D Sixes\nGame Type: Reg
 ular\nGame Status: Pending\nHome Team: Don't Tell Mike \nAway Team: Tequil
 a Accident\n
END:VEVENT
BEGIN:VEVENT
UID:17078208@ezleagues.ezfacility.com
DTSTAMP:20260424T041407Z
CREATED:20260424T041407Z
DTSTART:20260505T013000Z
DTEND:20260505T021500Z
LOCATION:Court 3
CONTACT:
SUMMARY:Don't Tell Mike  VS. One Hit Wonders
DESCRIPTION:League Name: Spring Monday Court 3 Coed D Sixes\nGame Type: Reg
 ular\nGame Status: Pending\nHome Team: Don't Tell Mike \nAway Team: One Hi
 t Wonders\n
END:VEVENT
BEGIN:VEVENT
UID:17078214@ezleagues.ezfacility.com
DTSTAMP:20260424T041407Z
CREATED:20260424T041407Z
DTSTART:20260512T004500Z
DTEND:20260512T013000Z
LOCATION:Court 3
CONTACT:
SUMMARY:Bumping along VS. Don't Tell Mike 
DESCRIPTION:League Name: Spring Monday Court 3 Coed D Sixes\nGame Type: Reg
 ular\nGame Status: Pending\nHome Team: Bumping along\nAway Team: Don't Tel
 l Mike \n
END:VEVENT
BEGIN:VEVENT
UID:17078219@ezleagues.ezfacility.com
DTSTAMP:20260424T041407Z
CREATED:20260424T041407Z
DTSTART:20260519T004500Z
DTEND:20260519T013000Z
LOCATION:Court 3
CONTACT:
SUMMARY:Don't Tell Mike  VS. Dunder Muffin
DESCRIPTION:League Name: Spring Monday Court 3 Coed D Sixes\nGame Type: Reg
 ular\nGame Status: Pending\nHome Team: Don't Tell Mike \nAway Team: Dunder
  Muffin\n
END:VEVENT
BEGIN:VEVENT
UID:17078224@ezleagues.ezfacility.com
DTSTAMP:20260424T041407Z
CREATED:20260424T041407Z
DTSTART:20260525T231500Z
DTEND:20260526T000000Z
LOCATION:Court 3
CONTACT:
SUMMARY:Six-Foot Mindset VS. Don't Tell Mike 
DESCRIPTION:League Name: Spring Monday Court 3 Coed D Sixes\nGame Type: Reg
 ular\nGame Status: Pending\nHome Team: Six-Foot Mindset\nAway Team: Don't 
 Tell Mike \n
END:VEVENT
BEGIN:VEVENT
UID:17078234@ezleagues.ezfacility.com
DTSTAMP:20260424T041407Z
CREATED:20260424T041407Z
DTSTART:20260608T223000Z
DTEND:20260608T231500Z
LOCATION:Court 3
CONTACT:
SUMMARY:Sandcastles in the Sand VS. Don't Tell Mike 
DESCRIPTION:League Name: Spring Monday Court 3 Coed D Sixes\nGame Type: Reg
 ular\nGame Status: Pending\nHome Team: Sandcastles in the Sand\nAway Team:
  Don't Tell Mike \n
END:VEVENT
BEGIN:VEVENT
UID:17078239@ezleagues.ezfacility.com
DTSTAMP:20260424T041407Z
CREATED:20260424T041407Z
DTSTART:20260616T013000Z
DTEND:20260616T021500Z
LOCATION:Court 3
CONTACT:
SUMMARY:Ball Busters VS. Don't Tell Mike 
DESCRIPTION:League Name: Spring Monday Court 3 Coed D Sixes\nGame Type: Reg
 ular\nGame Status: Pending\nHome Team: Ball Busters\nAway Team: Don't Tell
  Mike \n
END:VEVENT
BEGIN:VEVENT
UID:17078246@ezleagues.ezfacility.com
DTSTAMP:20260424T041407Z
CREATED:20260424T041407Z
DTSTART:20260622T231500Z
DTEND:20260623T000000Z
LOCATION:Court 3
CONTACT:
SUMMARY:Don't Tell Mike  VS. Chaos crew
DESCRIPTION:League Name: Spring Monday Court 3 Coed D Sixes\nGame Type: Reg
 ular\nGame Status: Pending\nHome Team: Don't Tell Mike \nAway Team: Chaos 
 crew\n
END:VEVENT
END:VCALENDAR
