BEGIN:VCALENDAR
VERSION:2.0
PRODID:-//EZFacility.com, Inc.//EZL 2.5.5.28621
BEGIN:VEVENT
UID:17078189@ezleagues.ezfacility.com
DTSTAMP:20260424T041325Z
CREATED:20260424T041325Z
DTSTART:20260414T013000Z
DTEND:20260414T021500Z
LOCATION:Court 3
CONTACT:
SUMMARY:Sandcastles in the Sand VS. Volleyholics
DESCRIPTION:League Name: Spring Monday Court 3 Coed D Sixes\nGame Type: Reg
 ular\nGame Status: Complete\nHome Team: Sandcastles in the Sand\nAway Team
 : Volleyholics\nHome Score: 0\nAway Score: 3
END:VEVENT
BEGIN:VEVENT
UID:17078196@ezleagues.ezfacility.com
DTSTAMP:20260424T041325Z
CREATED:20260424T041325Z
DTSTART:20260421T013000Z
DTEND:20260421T021500Z
LOCATION:Court 3
CONTACT:
SUMMARY:Tequila Accident VS. Sandcastles in the Sand
DESCRIPTION:League Name: Spring Monday Court 3 Coed D Sixes\nGame Type: Reg
 ular\nGame Status: Complete\nHome Team: Tequila Accident\nAway Team: Sandc
 astles in the Sand\nHome Score: 2\nAway Score: 1
END:VEVENT
BEGIN:VEVENT
UID:17078202@ezleagues.ezfacility.com
DTSTAMP:20260424T041325Z
CREATED:20260424T041325Z
DTSTART:20260427T231500Z
DTEND:20260428T000000Z
LOCATION:Court 3
CONTACT:
SUMMARY:One Hit Wonders VS. Sandcastles in the Sand
DESCRIPTION:League Name: Spring Monday Court 3 Coed D Sixes\nGame Type: Reg
 ular\nGame Status: Pending\nHome Team: One Hit Wonders\nAway Team: Sandcas
 tles in the Sand\n
END:VEVENT
BEGIN:VEVENT
UID:17078207@ezleagues.ezfacility.com
DTSTAMP:20260424T041325Z
CREATED:20260424T041325Z
DTSTART:20260505T000000Z
DTEND:20260505T004500Z
LOCATION:Court 3
CONTACT:
SUMMARY:Sandcastles in the Sand VS. Bumping along
DESCRIPTION:League Name: Spring Monday Court 3 Coed D Sixes\nGame Type: Reg
 ular\nGame Status: Pending\nHome Team: Sandcastles in the Sand\nAway Team:
  Bumping along\n
END:VEVENT
BEGIN:VEVENT
UID:17078212@ezleagues.ezfacility.com
DTSTAMP:20260424T041325Z
CREATED:20260424T041325Z
DTSTART:20260511T223000Z
DTEND:20260511T231500Z
LOCATION:Court 3
CONTACT:
SUMMARY:Dunder Muffin VS. Sandcastles in the Sand
DESCRIPTION:League Name: Spring Monday Court 3 Coed D Sixes\nGame Type: Reg
 ular\nGame Status: Pending\nHome Team: Dunder Muffin\nAway Team: Sandcastl
 es in the Sand\n
END:VEVENT
BEGIN:VEVENT
UID:17078217@ezleagues.ezfacility.com
DTSTAMP:20260424T041325Z
CREATED:20260424T041325Z
DTSTART:20260519T000000Z
DTEND:20260519T004500Z
LOCATION:Court 3
CONTACT:
SUMMARY:Sandcastles in the Sand VS. Six-Foot Mindset
DESCRIPTION:League Name: Spring Monday Court 3 Coed D Sixes\nGame Type: Reg
 ular\nGame Status: Pending\nHome Team: Sandcastles in the Sand\nAway Team:
  Six-Foot Mindset\n
END:VEVENT
BEGIN:VEVENT
UID:17078227@ezleagues.ezfacility.com
DTSTAMP:20260424T041325Z
CREATED:20260424T041325Z
DTSTART:20260602T004500Z
DTEND:20260602T013000Z
LOCATION:Court 3
CONTACT:
SUMMARY:Ball Busters VS. Sandcastles in the Sand
DESCRIPTION:League Name: Spring Monday Court 3 Coed D Sixes\nGame Type: Reg
 ular\nGame Status: Pending\nHome Team: Ball Busters\nAway Team: Sandcastle
 s in the Sand\n
END:VEVENT
BEGIN:VEVENT
UID:17078234@ezleagues.ezfacility.com
DTSTAMP:20260424T041325Z
CREATED:20260424T041325Z
DTSTART:20260608T223000Z
DTEND:20260608T231500Z
LOCATION:Court 3
CONTACT:
SUMMARY:Sandcastles in the Sand VS. Don't Tell Mike 
DESCRIPTION:League Name: Spring Monday Court 3 Coed D Sixes\nGame Type: Reg
 ular\nGame Status: Pending\nHome Team: Sandcastles in the Sand\nAway Team:
  Don't Tell Mike \n
END:VEVENT
BEGIN:VEVENT
UID:17078241@ezleagues.ezfacility.com
DTSTAMP:20260424T041325Z
CREATED:20260424T041325Z
DTSTART:20260615T231500Z
DTEND:20260616T000000Z
LOCATION:Court 3
CONTACT:
SUMMARY:Chaos crew VS. Sandcastles in the Sand
DESCRIPTION:League Name: Spring Monday Court 3 Coed D Sixes\nGame Type: Reg
 ular\nGame Status: Pending\nHome Team: Chaos crew\nAway Team: Sandcastles 
 in the Sand\n
END:VEVENT
BEGIN:VEVENT
UID:17078248@ezleagues.ezfacility.com
DTSTAMP:20260424T041325Z
CREATED:20260424T041325Z
DTSTART:20260623T013000Z
DTEND:20260623T021500Z
LOCATION:Court 3
CONTACT:
SUMMARY:Sandcastles in the Sand VS. Sand Storm
DESCRIPTION:League Name: Spring Monday Court 3 Coed D Sixes\nGame Type: Reg
 ular\nGame Status: Pending\nHome Team: Sandcastles in the Sand\nAway Team:
  Sand Storm\n
END:VEVENT
END:VCALENDAR
