BEGIN:VCALENDAR
VERSION:2.0
PRODID:-//EZFacility.com, Inc.//EZL 2.5.5.28621
BEGIN:VEVENT
UID:17078450@ezleagues.ezfacility.com
DTSTAMP:20260424T041421Z
CREATED:20260424T041421Z
DTSTART:20260410T010000Z
DTEND:20260410T015000Z
LOCATION:Mission Bay F1
CONTACT:
SUMMARY:Adyen VS. Accenture
DESCRIPTION:League Name: Corporate Coed Thursday Minor 1 Spring 2026\nGame 
 Type: Regular\nGame Status: Complete\nHome Team: Adyen\nAway Team: Accentu
 re\nHome Score: 3\nAway Score: 0
END:VEVENT
BEGIN:VEVENT
UID:17078447@ezleagues.ezfacility.com
DTSTAMP:20260424T041421Z
CREATED:20260424T041421Z
DTSTART:20260417T010000Z
DTEND:20260417T015000Z
LOCATION:Mission Bay F1
CONTACT:
SUMMARY:Adyen VS. Pylon
DESCRIPTION:League Name: Corporate Coed Thursday Minor 1 Spring 2026\nGame 
 Type: Regular\nGame Status: Complete\nHome Team: Adyen\nAway Team: Pylon\n
 Home Score: 4\nAway Score: 0
END:VEVENT
BEGIN:VEVENT
UID:17078442@ezleagues.ezfacility.com
DTSTAMP:20260424T041421Z
CREATED:20260424T041421Z
DTSTART:20260424T010000Z
DTEND:20260424T015000Z
LOCATION:Mission Bay F1
CONTACT:
SUMMARY:Adyen VS. Stripe
DESCRIPTION:League Name: Corporate Coed Thursday Minor 1 Spring 2026\nGame 
 Type: Regular\nGame Status: Pending\nHome Team: Adyen\nAway Team: Stripe\n
END:VEVENT
BEGIN:VEVENT
UID:17078454@ezleagues.ezfacility.com
DTSTAMP:20260424T041421Z
CREATED:20260424T041421Z
DTSTART:20260501T010000Z
DTEND:20260501T015000Z
LOCATION:Mission Bay F1
CONTACT:
SUMMARY:Adyen VS. Uber Thursday 
DESCRIPTION:League Name: Corporate Coed Thursday Minor 1 Spring 2026\nGame 
 Type: Regular\nGame Status: Pending\nHome Team: Adyen\nAway Team: Uber Thu
 rsday \n
END:VEVENT
BEGIN:VEVENT
UID:17078458@ezleagues.ezfacility.com
DTSTAMP:20260424T041421Z
CREATED:20260424T041421Z
DTSTART:20260508T010000Z
DTEND:20260508T015000Z
LOCATION:Mission Bay F1
CONTACT:
SUMMARY:Adyen VS. Datakicks
DESCRIPTION:League Name: Corporate Coed Thursday Minor 1 Spring 2026\nGame 
 Type: Regular\nGame Status: Pending\nHome Team: Adyen\nAway Team: Datakick
 s\n
END:VEVENT
BEGIN:VEVENT
UID:17078470@ezleagues.ezfacility.com
DTSTAMP:20260424T041421Z
CREATED:20260424T041421Z
DTSTART:20260515T024000Z
DTEND:20260515T033000Z
LOCATION:Mission Bay F1
CONTACT:
SUMMARY:Adyen VS. Tesla
DESCRIPTION:League Name: Corporate Coed Thursday Minor 1 Spring 2026\nGame 
 Type: Regular\nGame Status: Pending\nHome Team: Adyen\nAway Team: Tesla\n
END:VEVENT
BEGIN:VEVENT
UID:17078471@ezleagues.ezfacility.com
DTSTAMP:20260424T041421Z
CREATED:20260424T041421Z
DTSTART:20260522T001000Z
DTEND:20260522T010000Z
LOCATION:Mission Bay F1
CONTACT:
SUMMARY:Gladstone VS. Adyen
DESCRIPTION:League Name: Corporate Coed Thursday Minor 1 Spring 2026\nGame 
 Type: Regular\nGame Status: Pending\nHome Team: Gladstone\nAway Team: Adye
 n\n
END:VEVENT
BEGIN:VEVENT
UID:17078478@ezleagues.ezfacility.com
DTSTAMP:20260424T041421Z
CREATED:20260424T041421Z
DTSTART:20260529T024000Z
DTEND:20260529T033000Z
LOCATION:Mission Bay F1
CONTACT:
SUMMARY:Adyen VS. Tesla
DESCRIPTION:League Name: Corporate Coed Thursday Minor 1 Spring 2026\nGame 
 Type: Regular\nGame Status: Pending\nHome Team: Adyen\nAway Team: Tesla\n
END:VEVENT
BEGIN:VEVENT
UID:17078480@ezleagues.ezfacility.com
DTSTAMP:20260424T041421Z
CREATED:20260424T041421Z
DTSTART:20260605T010000Z
DTEND:20260605T015000Z
LOCATION:Mission Bay F1
CONTACT:
SUMMARY:Adyen VS. Uber Thursday 
DESCRIPTION:League Name: Corporate Coed Thursday Minor 1 Spring 2026\nGame 
 Type: Regular\nGame Status: Pending\nHome Team: Adyen\nAway Team: Uber Thu
 rsday \n
END:VEVENT
END:VCALENDAR
