BEGIN:VCALENDAR
VERSION:2.0
PRODID:-//EZFacility.com, Inc.//EZL 2.5.5.28621
BEGIN:VEVENT
UID:17078494@ezleagues.ezfacility.com
DTSTAMP:20260422T172416Z
CREATED:20260422T172416Z
DTSTART:20260410T235000Z
DTEND:20260411T004000Z
LOCATION:Outdoor Field
CONTACT:
SUMMARY:Barbies FC VS. FC Calories
DESCRIPTION:League Name: High School Boys Spring 2026\nGame Type: Regular\n
 Game Status: Complete\nHome Team: Barbies FC\nAway Team: FC Calories\nHome
  Score: 9\nAway Score: 2
END:VEVENT
BEGIN:VEVENT
UID:17078487@ezleagues.ezfacility.com
DTSTAMP:20260422T172416Z
CREATED:20260422T172416Z
DTSTART:20260417T230000Z
DTEND:20260417T235000Z
LOCATION:Outdoor Field
CONTACT:
SUMMARY:DKSC White VS. Barbies FC
DESCRIPTION:League Name: High School Boys Spring 2026\nGame Type: Regular\n
 Game Status: Complete\nHome Team: DKSC White\nAway Team: Barbies FC\nHome 
 Score: 3\nAway Score: 15
END:VEVENT
BEGIN:VEVENT
UID:17078501@ezleagues.ezfacility.com
DTSTAMP:20260422T172416Z
CREATED:20260422T172416Z
DTSTART:20260418T004000Z
DTEND:20260418T013000Z
LOCATION:Indoor Field
CONTACT:
SUMMARY:Gladewater VS. Barbies FC
DESCRIPTION:League Name: High School Boys Spring 2026\nGame Type: Regular\n
 Game Status: Complete\nHome Team: Gladewater\nAway Team: Barbies FC\nHome 
 Score: 3\nAway Score: 20
END:VEVENT
BEGIN:VEVENT
UID:17078508@ezleagues.ezfacility.com
DTSTAMP:20260422T172416Z
CREATED:20260422T172416Z
DTSTART:20260422T230000Z
DTEND:20260422T235000Z
LOCATION:Indoor Field
CONTACT:
SUMMARY:Liberty FC VS. Barbies FC
DESCRIPTION:League Name: High School Boys Spring 2026\nGame Type: Regular\n
 Game Status: Pending\nHome Team: Liberty FC\nAway Team: Barbies FC\n
END:VEVENT
BEGIN:VEVENT
UID:17078515@ezleagues.ezfacility.com
DTSTAMP:20260422T172416Z
CREATED:20260422T172416Z
DTSTART:20260501T235000Z
DTEND:20260502T004000Z
LOCATION:Outdoor Field
CONTACT:
SUMMARY:Scorpions FC VS. Barbies FC
DESCRIPTION:League Name: High School Boys Spring 2026\nGame Type: Regular\n
 Game Status: Pending\nHome Team: Scorpions FC\nAway Team: Barbies FC\n
END:VEVENT
BEGIN:VEVENT
UID:17078522@ezleagues.ezfacility.com
DTSTAMP:20260422T172416Z
CREATED:20260422T172416Z
DTSTART:20260508T230000Z
DTEND:20260508T235000Z
LOCATION:Indoor Field
CONTACT:
SUMMARY:Barbies FC VS. Unemployed FC
DESCRIPTION:League Name: High School Boys Spring 2026\nGame Type: Regular\n
 Game Status: Pending\nHome Team: Barbies FC\nAway Team: Unemployed FC\n
END:VEVENT
BEGIN:VEVENT
UID:17078536@ezleagues.ezfacility.com
DTSTAMP:20260422T172416Z
CREATED:20260422T172416Z
DTSTART:20260523T013000Z
DTEND:20260523T022000Z
LOCATION:Indoor Field
CONTACT:
SUMMARY:Barbies FC VS. Camino Unico
DESCRIPTION:League Name: High School Boys Spring 2026\nGame Type: Regular\n
 Game Status: Pending\nHome Team: Barbies FC\nAway Team: Camino Unico\n
END:VEVENT
END:VCALENDAR
