BEGIN:VCALENDAR
VERSION:2.0
PRODID:-//EZFacility.com, Inc.//EZL 2.5.5.28621
BEGIN:VEVENT
UID:17079034@ezleagues.ezfacility.com
DTSTAMP:20260424T041402Z
CREATED:20260424T041402Z
DTSTART:20260404T212000Z
DTEND:20260404T213000Z
LOCATION:Blue Rink
CONTACT:
SUMMARY:Moyer VS. Repsik
DESCRIPTION:League Name: Ironman Showdown - Pro\nGame Type: Regular\nGame S
 tatus: Pending\nHome Team: Moyer\nAway Team: Repsik\n
END:VEVENT
BEGIN:VEVENT
UID:17079037@ezleagues.ezfacility.com
DTSTAMP:20260424T041402Z
CREATED:20260424T041402Z
DTSTART:20260404T223000Z
DTEND:20260404T224000Z
LOCATION:Blue Rink
CONTACT:
SUMMARY:Moyer VS. Groff
DESCRIPTION:League Name: Ironman Showdown - Pro\nGame Type: Regular\nGame S
 tatus: Pending\nHome Team: Moyer\nAway Team: Groff\n
END:VEVENT
BEGIN:VEVENT
UID:17079039@ezleagues.ezfacility.com
DTSTAMP:20260424T041402Z
CREATED:20260424T041402Z
DTSTART:20260404T231000Z
DTEND:20260404T232000Z
LOCATION:Blue Rink
CONTACT:
SUMMARY:Batista VS. Moyer
DESCRIPTION:League Name: Ironman Showdown - Pro\nGame Type: Regular\nGame S
 tatus: Pending\nHome Team: Batista\nAway Team: Moyer\n
END:VEVENT
END:VCALENDAR
