BEGIN:VCALENDAR
VERSION:2.0
PRODID:-//EZFacility.com, Inc.//EZL 2.5.5.28621
BEGIN:VEVENT
UID:17079245@ezleagues.ezfacility.com
DTSTAMP:20260419T143035Z
CREATED:20260419T143035Z
DTSTART:20260404T120000Z
DTEND:20260404T125000Z
LOCATION:Wayside Field 6
CONTACT:
SUMMARY:FC BLAZE VS. FC EAGLES 2013
DESCRIPTION:League Name: 2012/13 Boys II Easter 4/4/26\nGame Type: Regular\
 nGame Status: Complete\nHome Team: FC BLAZE\nAway Team: FC EAGLES 2013\nHo
 me Score: 1\nAway Score: 2
END:VEVENT
BEGIN:VEVENT
UID:17079246@ezleagues.ezfacility.com
DTSTAMP:20260419T143035Z
CREATED:20260419T143035Z
DTSTART:20260404T130000Z
DTEND:20260404T135000Z
LOCATION:Wayside Field 6
CONTACT:
SUMMARY:FC EAGLES 2013 VS. PASSAIC WHITE
DESCRIPTION:League Name: 2012/13 Boys II Easter 4/4/26\nGame Type: Regular\
 nGame Status: Complete\nHome Team: FC EAGLES 2013\nAway Team: PASSAIC WHIT
 E\nHome Score: 2\nAway Score: 1
END:VEVENT
END:VCALENDAR
