BEGIN:VCALENDAR
VERSION:2.0
PRODID:-//EZFacility.com, Inc.//EZL 2.5.5.28621
BEGIN:VEVENT
UID:17086244@ezleagues.ezfacility.com
DTSTAMP:20260424T044127Z
CREATED:20260424T044127Z
DTSTART:20260411T231500Z
DTEND:20260412T001500Z
LOCATION:Bellenita Complex Field 1
CONTACT:
SUMMARY:CDL VS. Modesto Allstars 3
DESCRIPTION:League Name: Under 12 Division\nGame Type: Regular\nGame Status
 : Pending\nHome Team: CDL\nAway Team: Modesto Allstars 3\n
END:VEVENT
BEGIN:VEVENT
UID:17086250@ezleagues.ezfacility.com
DTSTAMP:20260424T044127Z
CREATED:20260424T044127Z
DTSTART:20260418T220000Z
DTEND:20260418T230000Z
LOCATION:Bellenita Complex Field 2
CONTACT:
SUMMARY:CDL VS. Raptors
DESCRIPTION:League Name: Under 12 Division\nGame Type: Regular\nGame Status
 : Complete\nHome Team: CDL\nAway Team: Raptors\nHome Score: 3\nAway Score:
  0
END:VEVENT
BEGIN:VEVENT
UID:17086256@ezleagues.ezfacility.com
DTSTAMP:20260424T044127Z
CREATED:20260424T044127Z
DTSTART:20260425T220000Z
DTEND:20260425T230000Z
LOCATION:Bellenita Complex Field 2
CONTACT:
SUMMARY:CDL VS. Chivas 
DESCRIPTION:League Name: Under 12 Division\nGame Type: Regular\nGame Status
 : Pending\nHome Team: CDL\nAway Team: Chivas \n
END:VEVENT
BEGIN:VEVENT
UID:17086261@ezleagues.ezfacility.com
DTSTAMP:20260424T044127Z
CREATED:20260424T044127Z
DTSTART:20260502T220000Z
DTEND:20260502T230000Z
LOCATION:Bellenita Complex Field 1
CONTACT:
SUMMARY:CDL VS. Modesto Allstars 2
DESCRIPTION:League Name: Under 12 Division\nGame Type: Regular\nGame Status
 : Pending\nHome Team: CDL\nAway Team: Modesto Allstars 2\n
END:VEVENT
BEGIN:VEVENT
UID:17086266@ezleagues.ezfacility.com
DTSTAMP:20260424T044127Z
CREATED:20260424T044127Z
DTSTART:20260509T190000Z
DTEND:20260509T200000Z
LOCATION:Bellenita Complex Field 1
CONTACT:
SUMMARY:Modesto Allstars 1 VS. CDL
DESCRIPTION:League Name: Under 12 Division\nGame Type: Regular\nGame Status
 : Pending\nHome Team: Modesto Allstars 1\nAway Team: CDL\n
END:VEVENT
BEGIN:VEVENT
UID:17086270@ezleagues.ezfacility.com
DTSTAMP:20260424T044127Z
CREATED:20260424T044127Z
DTSTART:20260516T220000Z
DTEND:20260516T230000Z
LOCATION:Bellenita Complex Field 2
CONTACT:
SUMMARY:Panthers Raul VS. CDL
DESCRIPTION:League Name: Under 12 Division\nGame Type: Regular\nGame Status
 : Pending\nHome Team: Panthers Raul\nAway Team: CDL\n
END:VEVENT
BEGIN:VEVENT
UID:17086274@ezleagues.ezfacility.com
DTSTAMP:20260424T044127Z
CREATED:20260424T044127Z
DTSTART:20260523T203000Z
DTEND:20260523T213000Z
LOCATION:Bellenita Complex Field 1
CONTACT:
SUMMARY:Alpha Academy VS. CDL
DESCRIPTION:League Name: Under 12 Division\nGame Type: Regular\nGame Status
 : Pending\nHome Team: Alpha Academy\nAway Team: CDL\n
END:VEVENT
BEGIN:VEVENT
UID:17086277@ezleagues.ezfacility.com
DTSTAMP:20260424T044127Z
CREATED:20260424T044127Z
DTSTART:20260530T203000Z
DTEND:20260530T213000Z
LOCATION:Bellenita Complex Field 2
CONTACT:
SUMMARY:Panthers VS. CDL
DESCRIPTION:League Name: Under 12 Division\nGame Type: Regular\nGame Status
 : Pending\nHome Team: Panthers\nAway Team: CDL\n
END:VEVENT
END:VCALENDAR
