BEGIN:VCALENDAR
VERSION:2.0
PRODID:-//EZFacility.com, Inc.//EZL 2.5.5.28621
BEGIN:VEVENT
UID:17079692@ezleagues.ezfacility.com
DTSTAMP:20260426T034948Z
CREATED:20260426T034948Z
DTSTART:20260520T234000Z
DTEND:20260521T004000Z
LOCATION:Chabill's Field
CONTACT:
SUMMARY:2 Seed VS. 3 Seed
DESCRIPTION:League Name: 2026 Traction Spring Softball Tourney - 10u\nGame 
 Type: Regular\nGame Status: Pending\nHome Team: 2 Seed\nAway Team: 3 Seed\
 n
END:VEVENT
END:VCALENDAR
