BEGIN:VCALENDAR
VERSION:2.0
PRODID:-//EZFacility.com, Inc.//EZL 2.5.5.28621
BEGIN:VEVENT
UID:17080351@ezleagues.ezfacility.com
DTSTAMP:20260423T221049Z
CREATED:20260423T221049Z
DTSTART:20260406T014500Z
DTEND:20260406T022500Z
LOCATION:LG Field 1
CONTACT:
SUMMARY:Slo Rollerz VS. Mind Goblins
DESCRIPTION:League Name: Liga MX (COED) - Spring\nGame Type: Regular\nGame 
 Status: Complete\nHome Team: Slo Rollerz\nAway Team: Mind Goblins\nHome Sc
 ore: 6\nAway Score: 10
END:VEVENT
BEGIN:VEVENT
UID:17080384@ezleagues.ezfacility.com
DTSTAMP:20260423T221049Z
CREATED:20260423T221049Z
DTSTART:20260413T031500Z
DTEND:20260413T035500Z
LOCATION:LG Field 1
CONTACT:
SUMMARY:Slo Rollerz VS. Real Madrid
DESCRIPTION:League Name: Liga MX (COED) - Spring\nGame Type: Regular\nGame 
 Status: Complete\nHome Team: Slo Rollerz\nAway Team: Real Madrid\nHome Sco
 re: 7\nAway Score: 4
END:VEVENT
BEGIN:VEVENT
UID:17080420@ezleagues.ezfacility.com
DTSTAMP:20260423T221049Z
CREATED:20260423T221049Z
DTSTART:20260419T190000Z
DTEND:20260419T194000Z
LOCATION:LG Field 2
CONTACT:
SUMMARY:Slo Rollerz VS. Trojans FC
DESCRIPTION:League Name: Liga MX (COED) - Spring\nGame Type: Regular\nGame 
 Status: Complete\nHome Team: Slo Rollerz\nAway Team: Trojans FC\nHome Scor
 e: 7\nAway Score: 6
END:VEVENT
BEGIN:VEVENT
UID:17080457@ezleagues.ezfacility.com
DTSTAMP:20260423T221049Z
CREATED:20260423T221049Z
DTSTART:20260426T194500Z
DTEND:20260426T202500Z
LOCATION:LG Field 2
CONTACT:
SUMMARY:Slo Rollerz VS. Pink Panther's
DESCRIPTION:League Name: Liga MX (COED) - Spring\nGame Type: Regular\nGame 
 Status: Pending\nHome Team: Slo Rollerz\nAway Team: Pink Panther's\n
END:VEVENT
BEGIN:VEVENT
UID:17080490@ezleagues.ezfacility.com
DTSTAMP:20260423T221049Z
CREATED:20260423T221049Z
DTSTART:20260504T010000Z
DTEND:20260504T014000Z
LOCATION:LG Field 1
CONTACT:
SUMMARY:Puros Ballerz VS. Slo Rollerz
DESCRIPTION:League Name: Liga MX (COED) - Spring\nGame Type: Regular\nGame 
 Status: Pending\nHome Team: Puros Ballerz\nAway Team: Slo Rollerz\n
END:VEVENT
BEGIN:VEVENT
UID:17080527@ezleagues.ezfacility.com
DTSTAMP:20260423T221049Z
CREATED:20260423T221049Z
DTSTART:20260510T190000Z
DTEND:20260510T194000Z
LOCATION:LG Field 2
CONTACT:
SUMMARY:The Shin Splints VS. Slo Rollerz
DESCRIPTION:League Name: Liga MX (COED) - Spring\nGame Type: Regular\nGame 
 Status: Pending\nHome Team: The Shin Splints\nAway Team: Slo Rollerz\n
END:VEVENT
BEGIN:VEVENT
UID:17080560@ezleagues.ezfacility.com
DTSTAMP:20260423T221049Z
CREATED:20260423T221049Z
DTSTART:20260517T203000Z
DTEND:20260517T211000Z
LOCATION:LG Field 2
CONTACT:
SUMMARY:Purple Haze VS. Slo Rollerz
DESCRIPTION:League Name: Liga MX (COED) - Spring\nGame Type: Regular\nGame 
 Status: Pending\nHome Team: Purple Haze\nAway Team: Slo Rollerz\n
END:VEVENT
BEGIN:VEVENT
UID:17080597@ezleagues.ezfacility.com
DTSTAMP:20260423T221049Z
CREATED:20260423T221049Z
DTSTART:20260524T164500Z
DTEND:20260524T172500Z
LOCATION:LG Field 1
CONTACT:
SUMMARY:Pathetic Athletic VS. Slo Rollerz
DESCRIPTION:League Name: Liga MX (COED) - Spring\nGame Type: Regular\nGame 
 Status: Pending\nHome Team: Pathetic Athletic\nAway Team: Slo Rollerz\n
END:VEVENT
END:VCALENDAR
