BEGIN:VCALENDAR
VERSION:2.0
PRODID:-//EZFacility.com, Inc.//EZL 2.5.5.28621
BEGIN:VEVENT
UID:17082398@ezleagues.ezfacility.com
DTSTAMP:20260420T141249Z
CREATED:20260420T141249Z
DTSTART:20260410T230000Z
DTEND:20260411T000000Z
LOCATION:Jessup Premier Field #2
CONTACT:
SUMMARY:Maryland International  VS. After Shots - orange
DESCRIPTION:League Name: Fri Moms D4 Spring\nGame Type: Regular\nGame Statu
 s: Complete\nHome Team: Maryland International \nAway Team: After Shots - 
 orange\nHome Score: 0\nAway Score: 3
END:VEVENT
BEGIN:VEVENT
UID:17082407@ezleagues.ezfacility.com
DTSTAMP:20260420T141249Z
CREATED:20260420T141249Z
DTSTART:20260418T000000Z
DTEND:20260418T010000Z
LOCATION:Jessup Premier Field #2
CONTACT:
SUMMARY:Bat Girls - black VS. After Shots - orange
DESCRIPTION:League Name: Fri Moms D4 Spring\nGame Type: Regular\nGame Statu
 s: Complete\nHome Team: Bat Girls - black\nAway Team: After Shots - orange
 \nHome Score: 5\nAway Score: 2
END:VEVENT
BEGIN:VEVENT
UID:17082416@ezleagues.ezfacility.com
DTSTAMP:20260420T141249Z
CREATED:20260420T141249Z
DTSTART:20260425T010000Z
DTEND:20260425T020000Z
LOCATION:Jessup Premier Field #2
CONTACT:
SUMMARY:After Shots - orange VS. Las Mamis - red/black
DESCRIPTION:League Name: Fri Moms D4 Spring\nGame Type: Regular\nGame Statu
 s: Pending\nHome Team: After Shots - orange\nAway Team: Las Mamis - red/bl
 ack\n
END:VEVENT
BEGIN:VEVENT
UID:17082425@ezleagues.ezfacility.com
DTSTAMP:20260420T141249Z
CREATED:20260420T141249Z
DTSTART:20260502T010000Z
DTEND:20260502T020000Z
LOCATION:Jessup Premier Field #1
CONTACT:
SUMMARY:After Shots - orange VS. Baltimore FC - blue/white
DESCRIPTION:League Name: Fri Moms D4 Spring\nGame Type: Regular\nGame Statu
 s: Pending\nHome Team: After Shots - orange\nAway Team: Baltimore FC - blu
 e/white\n
END:VEVENT
BEGIN:VEVENT
UID:17082433@ezleagues.ezfacility.com
DTSTAMP:20260420T141249Z
CREATED:20260420T141249Z
DTSTART:20260508T230000Z
DTEND:20260509T000000Z
LOCATION:Jessup Premier Field #2
CONTACT:
SUMMARY:Double Trouble - purple VS. After Shots - orange
DESCRIPTION:League Name: Fri Moms D4 Spring\nGame Type: Regular\nGame Statu
 s: Pending\nHome Team: Double Trouble - purple\nAway Team: After Shots - o
 range\n
END:VEVENT
BEGIN:VEVENT
UID:17082440@ezleagues.ezfacility.com
DTSTAMP:20260420T141249Z
CREATED:20260420T141249Z
DTSTART:20260516T020000Z
DTEND:20260516T030000Z
LOCATION:Jessup Premier Field #2
CONTACT:
SUMMARY:Bad Moms - teal VS. After Shots - orange
DESCRIPTION:League Name: Fri Moms D4 Spring\nGame Type: Regular\nGame Statu
 s: Pending\nHome Team: Bad Moms - teal\nAway Team: After Shots - orange\n
END:VEVENT
BEGIN:VEVENT
UID:17082447@ezleagues.ezfacility.com
DTSTAMP:20260420T141249Z
CREATED:20260420T141249Z
DTSTART:20260530T000000Z
DTEND:20260530T010000Z
LOCATION:Jessup Premier Field #2
CONTACT:
SUMMARY:Inferno Strikers - orange VS. After Shots - orange
DESCRIPTION:League Name: Fri Moms D4 Spring\nGame Type: Regular\nGame Statu
 s: Pending\nHome Team: Inferno Strikers - orange\nAway Team: After Shots -
  orange\n
END:VEVENT
BEGIN:VEVENT
UID:17082454@ezleagues.ezfacility.com
DTSTAMP:20260420T141249Z
CREATED:20260420T141249Z
DTSTART:20260606T010000Z
DTEND:20260606T020000Z
LOCATION:Jessup Premier Field #1
CONTACT:
SUMMARY:After Shots - orange VS. Maryland International 
DESCRIPTION:League Name: Fri Moms D4 Spring\nGame Type: Regular\nGame Statu
 s: Pending\nHome Team: After Shots - orange\nAway Team: Maryland Internati
 onal \n
END:VEVENT
BEGIN:VEVENT
UID:17082463@ezleagues.ezfacility.com
DTSTAMP:20260420T141249Z
CREATED:20260420T141249Z
DTSTART:20260613T020000Z
DTEND:20260613T030000Z
LOCATION:Jessup Premier Field #2
CONTACT:
SUMMARY:After Shots - orange VS. Bat Girls - black
DESCRIPTION:League Name: Fri Moms D4 Spring\nGame Type: Regular\nGame Statu
 s: Pending\nHome Team: After Shots - orange\nAway Team: Bat Girls - black\
 n
END:VEVENT
END:VCALENDAR
