BEGIN:VCALENDAR
VERSION:2.0
PRODID:-//EZFacility.com, Inc.//EZL 2.5.5.28621
BEGIN:VEVENT
UID:17080901@ezleagues.ezfacility.com
DTSTAMP:20260424T041447Z
CREATED:20260424T041447Z
DTSTART:20260410T020000Z
DTEND:20260410T025000Z
LOCATION:Court 2
CONTACT:
SUMMARY:Ballistic OG's VS. Lobos FC
DESCRIPTION:League Name: Adult Leagues Spring 2026\nGame Type: Regular\nGam
 e Status: Complete\nHome Team: Ballistic OG's\nAway Team: Lobos FC\nHome S
 core: 16\nAway Score: 2
END:VEVENT
BEGIN:VEVENT
UID:17080906@ezleagues.ezfacility.com
DTSTAMP:20260424T041447Z
CREATED:20260424T041447Z
DTSTART:20260417T020000Z
DTEND:20260417T025000Z
LOCATION:Court 2
CONTACT:
SUMMARY:Lobos FC VS. Ballistics Finest
DESCRIPTION:League Name: Adult Leagues Spring 2026\nGame Type: Regular\nGam
 e Status: Pending\nHome Team: Lobos FC\nAway Team: Ballistics Finest\n
END:VEVENT
BEGIN:VEVENT
UID:17080916@ezleagues.ezfacility.com
DTSTAMP:20260424T041447Z
CREATED:20260424T041447Z
DTSTART:20260424T040000Z
DTEND:20260424T045000Z
LOCATION:Court 2
CONTACT:
SUMMARY:Lobos FC VS. Gangstarz
DESCRIPTION:League Name: Adult Leagues Spring 2026\nGame Type: Regular\nGam
 e Status: Pending\nHome Team: Lobos FC\nAway Team: Gangstarz\n
END:VEVENT
BEGIN:VEVENT
UID:17080926@ezleagues.ezfacility.com
DTSTAMP:20260424T041447Z
CREATED:20260424T041447Z
DTSTART:20260501T040000Z
DTEND:20260501T045000Z
LOCATION:Court 2
CONTACT:
SUMMARY:Fuego VS. Lobos FC
DESCRIPTION:League Name: Adult Leagues Spring 2026\nGame Type: Regular\nGam
 e Status: Pending\nHome Team: Fuego\nAway Team: Lobos FC\n
END:VEVENT
BEGIN:VEVENT
UID:17080928@ezleagues.ezfacility.com
DTSTAMP:20260424T041447Z
CREATED:20260424T041447Z
DTSTART:20260508T020000Z
DTEND:20260508T025000Z
LOCATION:Court 2
CONTACT:
SUMMARY:Tri-Valley Warriors  VS. Lobos FC
DESCRIPTION:League Name: Adult Leagues Spring 2026\nGame Type: Regular\nGam
 e Status: Pending\nHome Team: Tri-Valley Warriors \nAway Team: Lobos FC\n
END:VEVENT
BEGIN:VEVENT
UID:17080932@ezleagues.ezfacility.com
DTSTAMP:20260424T041447Z
CREATED:20260424T041447Z
DTSTART:20260515T020000Z
DTEND:20260515T025000Z
LOCATION:Court 2
CONTACT:
SUMMARY:Ballistic OG's VS. Lobos FC
DESCRIPTION:League Name: Adult Leagues Spring 2026\nGame Type: Regular\nGam
 e Status: Pending\nHome Team: Ballistic OG's\nAway Team: Lobos FC\n
END:VEVENT
BEGIN:VEVENT
UID:17080936@ezleagues.ezfacility.com
DTSTAMP:20260424T041447Z
CREATED:20260424T041447Z
DTSTART:20260522T030000Z
DTEND:20260522T035000Z
LOCATION:Court 2
CONTACT:
SUMMARY:Lobos FC VS. Ballistics Finest
DESCRIPTION:League Name: Adult Leagues Spring 2026\nGame Type: Regular\nGam
 e Status: Pending\nHome Team: Lobos FC\nAway Team: Ballistics Finest\n
END:VEVENT
END:VCALENDAR
