BEGIN:VCALENDAR
VERSION:2.0
PRODID:-//EZFacility.com, Inc.//EZL 2.5.5.28621
BEGIN:VEVENT
UID:17081049@ezleagues.ezfacility.com
DTSTAMP:20260419T134059Z
CREATED:20260419T134059Z
DTSTART:20260408T003000Z
DTEND:20260408T013000Z
LOCATION:Red Court
CONTACT:
SUMMARY:Limitless Bricks VS. Los Warriors
DESCRIPTION:League Name: CSBL Spring 2026\nGame Type: Regular\nGame Status:
  Complete\nHome Team: Limitless Bricks\nAway Team: Los Warriors\nHome Scor
 e: 63\nAway Score: 65
END:VEVENT
BEGIN:VEVENT
UID:17081054@ezleagues.ezfacility.com
DTSTAMP:20260419T134059Z
CREATED:20260419T134059Z
DTSTART:20260414T233000Z
DTEND:20260415T003000Z
LOCATION:Red Court
CONTACT:
SUMMARY:Los Warriors VS. CC All-Stars
DESCRIPTION:League Name: CSBL Spring 2026\nGame Type: Regular\nGame Status:
  Complete\nHome Team: Los Warriors\nAway Team: CC All-Stars\nHome Score: 6
 3\nAway Score: 71
END:VEVENT
BEGIN:VEVENT
UID:17081059@ezleagues.ezfacility.com
DTSTAMP:20260419T134059Z
CREATED:20260419T134059Z
DTSTART:20260422T003000Z
DTEND:20260422T013000Z
LOCATION:Red Court
CONTACT:
SUMMARY:Los Warriors VS. Adobros
DESCRIPTION:League Name: CSBL Spring 2026\nGame Type: Regular\nGame Status:
  Pending\nHome Team: Los Warriors\nAway Team: Adobros\n
END:VEVENT
BEGIN:VEVENT
UID:17081063@ezleagues.ezfacility.com
DTSTAMP:20260419T134059Z
CREATED:20260419T134059Z
DTSTART:20260429T013000Z
DTEND:20260429T023000Z
LOCATION:Red Court
CONTACT:
SUMMARY:Free Agents VS. Los Warriors
DESCRIPTION:League Name: CSBL Spring 2026\nGame Type: Regular\nGame Status:
  Pending\nHome Team: Free Agents\nAway Team: Los Warriors\n
END:VEVENT
BEGIN:VEVENT
UID:17081066@ezleagues.ezfacility.com
DTSTAMP:20260419T134059Z
CREATED:20260419T134059Z
DTSTART:20260506T023000Z
DTEND:20260506T033000Z
LOCATION:Red Court
CONTACT:
SUMMARY:Carushow VS. Los Warriors
DESCRIPTION:League Name: CSBL Spring 2026\nGame Type: Regular\nGame Status:
  Pending\nHome Team: Carushow\nAway Team: Los Warriors\n
END:VEVENT
BEGIN:VEVENT
UID:17081069@ezleagues.ezfacility.com
DTSTAMP:20260419T134059Z
CREATED:20260419T134059Z
DTSTART:20260513T013000Z
DTEND:20260513T023000Z
LOCATION:Red Court
CONTACT:
SUMMARY:Squirtle Squad VS. Los Warriors
DESCRIPTION:League Name: CSBL Spring 2026\nGame Type: Regular\nGame Status:
  Pending\nHome Team: Squirtle Squad\nAway Team: Los Warriors\n
END:VEVENT
BEGIN:VEVENT
UID:17081072@ezleagues.ezfacility.com
DTSTAMP:20260419T134059Z
CREATED:20260419T134059Z
DTSTART:20260520T023000Z
DTEND:20260520T033000Z
LOCATION:Red Court
CONTACT:
SUMMARY:Los Warriors VS. Bucket King Crusaders
DESCRIPTION:League Name: CSBL Spring 2026\nGame Type: Regular\nGame Status:
  Pending\nHome Team: Los Warriors\nAway Team: Bucket King Crusaders\n
END:VEVENT
BEGIN:VEVENT
UID:17081077@ezleagues.ezfacility.com
DTSTAMP:20260419T134059Z
CREATED:20260419T134059Z
DTSTART:20260527T023000Z
DTEND:20260527T033000Z
LOCATION:Red Court
CONTACT:
SUMMARY:Los Warriors VS. Limitless Bricks
DESCRIPTION:League Name: CSBL Spring 2026\nGame Type: Regular\nGame Status:
  Pending\nHome Team: Los Warriors\nAway Team: Limitless Bricks\n
END:VEVENT
END:VCALENDAR
