BEGIN:VCALENDAR
VERSION:2.0
PRODID:-//EZFacility.com, Inc.//EZL 2.5.5.28621
BEGIN:VEVENT
UID:17081525@ezleagues.ezfacility.com
DTSTAMP:20260424T041457Z
CREATED:20260424T041457Z
DTSTART:20260415T004500Z
DTEND:20260415T013000Z
LOCATION:Court 2
CONTACT:
SUMMARY:B and I VS. Super Smash Bros
DESCRIPTION:League Name: Spring Tuesday Court 2 Coed C+ Sixes\nGame Type: R
 egular\nGame Status: Complete\nHome Team: B and I\nAway Team: Super Smash 
 Bros\nHome Score: 3\nAway Score: 0
END:VEVENT
BEGIN:VEVENT
UID:17081539@ezleagues.ezfacility.com
DTSTAMP:20260424T041457Z
CREATED:20260424T041457Z
DTSTART:20260428T231500Z
DTEND:20260429T000000Z
LOCATION:Court 2
CONTACT:
SUMMARY:B and I VS. Struggle is Real
DESCRIPTION:League Name: Spring Tuesday Court 2 Coed C+ Sixes\nGame Type: R
 egular\nGame Status: Pending\nHome Team: B and I\nAway Team: Struggle is R
 eal\n
END:VEVENT
BEGIN:VEVENT
UID:17081545@ezleagues.ezfacility.com
DTSTAMP:20260424T041457Z
CREATED:20260424T041457Z
DTSTART:20260506T013000Z
DTEND:20260506T021500Z
LOCATION:Court 2
CONTACT:
SUMMARY:Burgoo VS. B and I
DESCRIPTION:League Name: Spring Tuesday Court 2 Coed C+ Sixes\nGame Type: R
 egular\nGame Status: Pending\nHome Team: Burgoo\nAway Team: B and I\n
END:VEVENT
BEGIN:VEVENT
UID:17081550@ezleagues.ezfacility.com
DTSTAMP:20260424T041457Z
CREATED:20260424T041457Z
DTSTART:20260513T013000Z
DTEND:20260513T021500Z
LOCATION:Court 2
CONTACT:
SUMMARY:Boiler Up VS. B and I
DESCRIPTION:League Name: Spring Tuesday Court 2 Coed C+ Sixes\nGame Type: R
 egular\nGame Status: Pending\nHome Team: Boiler Up\nAway Team: B and I\n
END:VEVENT
BEGIN:VEVENT
UID:17081555@ezleagues.ezfacility.com
DTSTAMP:20260424T041457Z
CREATED:20260424T041457Z
DTSTART:20260519T223000Z
DTEND:20260519T231500Z
LOCATION:Court 2
CONTACT:
SUMMARY:Set On My Face VS. B and I
DESCRIPTION:League Name: Spring Tuesday Court 2 Coed C+ Sixes\nGame Type: R
 egular\nGame Status: Pending\nHome Team: Set On My Face\nAway Team: B and 
 I\n
END:VEVENT
BEGIN:VEVENT
UID:17081560@ezleagues.ezfacility.com
DTSTAMP:20260424T041457Z
CREATED:20260424T041457Z
DTSTART:20260527T000000Z
DTEND:20260527T004500Z
LOCATION:Court 2
CONTACT:
SUMMARY:The Block Eyed Peas VS. B and I
DESCRIPTION:League Name: Spring Tuesday Court 2 Coed C+ Sixes\nGame Type: R
 egular\nGame Status: Pending\nHome Team: The Block Eyed Peas\nAway Team: B
  and I\n
END:VEVENT
BEGIN:VEVENT
UID:17081565@ezleagues.ezfacility.com
DTSTAMP:20260424T041457Z
CREATED:20260424T041457Z
DTSTART:20260602T223000Z
DTEND:20260602T231500Z
LOCATION:Court 2
CONTACT:
SUMMARY:B and I VS. EZ Pass
DESCRIPTION:League Name: Spring Tuesday Court 2 Coed C+ Sixes\nGame Type: R
 egular\nGame Status: Pending\nHome Team: B and I\nAway Team: EZ Pass\n
END:VEVENT
BEGIN:VEVENT
UID:17081570@ezleagues.ezfacility.com
DTSTAMP:20260424T041457Z
CREATED:20260424T041457Z
DTSTART:20260610T000000Z
DTEND:20260610T004500Z
LOCATION:Court 2
CONTACT:
SUMMARY:B and I VS. $onova Beach
DESCRIPTION:League Name: Spring Tuesday Court 2 Coed C+ Sixes\nGame Type: R
 egular\nGame Status: Pending\nHome Team: B and I\nAway Team: $onova Beach\
 n
END:VEVENT
BEGIN:VEVENT
UID:17081577@ezleagues.ezfacility.com
DTSTAMP:20260424T041457Z
CREATED:20260424T041457Z
DTSTART:20260616T223000Z
DTEND:20260616T231500Z
LOCATION:Court 2
CONTACT:
SUMMARY:Calm Yo Tips VS. B and I
DESCRIPTION:League Name: Spring Tuesday Court 2 Coed C+ Sixes\nGame Type: R
 egular\nGame Status: Pending\nHome Team: Calm Yo Tips\nAway Team: B and I\
 n
END:VEVENT
BEGIN:VEVENT
UID:17081584@ezleagues.ezfacility.com
DTSTAMP:20260424T041457Z
CREATED:20260424T041457Z
DTSTART:20260624T004500Z
DTEND:20260624T013000Z
LOCATION:Court 2
CONTACT:
SUMMARY:B and I VS. SWATT
DESCRIPTION:League Name: Spring Tuesday Court 2 Coed C+ Sixes\nGame Type: R
 egular\nGame Status: Pending\nHome Team: B and I\nAway Team: SWATT\n
END:VEVENT
END:VCALENDAR
