BEGIN:VCALENDAR
VERSION:2.0
PRODID:-//EZFacility.com, Inc.//EZL 2.5.5.28621
BEGIN:VEVENT
UID:17081661@ezleagues.ezfacility.com
DTSTAMP:20260424T041342Z
CREATED:20260424T041342Z
DTSTART:20260415T004500Z
DTEND:20260415T013000Z
LOCATION:Court 5
CONTACT:
SUMMARY:One Hit Wonders VS. Quicksand
DESCRIPTION:League Name: Spring Tuesday Court 5 Coed C Sixes\nGame Type: Re
 gular\nGame Status: Complete\nHome Team: One Hit Wonders\nAway Team: Quick
 sand\nHome Score: 3\nAway Score: 0
END:VEVENT
BEGIN:VEVENT
UID:17081667@ezleagues.ezfacility.com
DTSTAMP:20260424T041342Z
CREATED:20260424T041342Z
DTSTART:20260422T013000Z
DTEND:20260422T021500Z
LOCATION:Court 5
CONTACT:
SUMMARY:One Hit Wonders VS. Pop a Volley I’m Sweating
DESCRIPTION:League Name: Spring Tuesday Court 5 Coed C Sixes\nGame Type: Re
 gular\nGame Status: Complete\nHome Team: One Hit Wonders\nAway Team: Pop a
  Volley I’m Sweating\nHome Score: 2\nAway Score: 1
END:VEVENT
BEGIN:VEVENT
UID:17081672@ezleagues.ezfacility.com
DTSTAMP:20260424T041342Z
CREATED:20260424T041342Z
DTSTART:20260428T231500Z
DTEND:20260429T000000Z
LOCATION:Court 5
CONTACT:
SUMMARY:Market Setters VS. One Hit Wonders
DESCRIPTION:League Name: Spring Tuesday Court 5 Coed C Sixes\nGame Type: Re
 gular\nGame Status: Pending\nHome Team: Market Setters\nAway Team: One Hit
  Wonders\n
END:VEVENT
BEGIN:VEVENT
UID:17081676@ezleagues.ezfacility.com
DTSTAMP:20260424T041342Z
CREATED:20260424T041342Z
DTSTART:20260506T000000Z
DTEND:20260506T004500Z
LOCATION:Court 5
CONTACT:
SUMMARY:How I set Your Mother VS. One Hit Wonders
DESCRIPTION:League Name: Spring Tuesday Court 5 Coed C Sixes\nGame Type: Re
 gular\nGame Status: Pending\nHome Team: How I set Your Mother\nAway Team: 
 One Hit Wonders\n
END:VEVENT
BEGIN:VEVENT
UID:17081680@ezleagues.ezfacility.com
DTSTAMP:20260424T041342Z
CREATED:20260424T041342Z
DTSTART:20260512T223000Z
DTEND:20260512T231500Z
LOCATION:Court 5
CONTACT:
SUMMARY:Patio Pounders VS. One Hit Wonders
DESCRIPTION:League Name: Spring Tuesday Court 5 Coed C Sixes\nGame Type: Re
 gular\nGame Status: Pending\nHome Team: Patio Pounders\nAway Team: One Hit
  Wonders\n
END:VEVENT
BEGIN:VEVENT
UID:17081684@ezleagues.ezfacility.com
DTSTAMP:20260424T041342Z
CREATED:20260424T041342Z
DTSTART:20260519T231500Z
DTEND:20260520T000000Z
LOCATION:Court 5
CONTACT:
SUMMARY:The Hitmen VS. One Hit Wonders
DESCRIPTION:League Name: Spring Tuesday Court 5 Coed C Sixes\nGame Type: Re
 gular\nGame Status: Pending\nHome Team: The Hitmen\nAway Team: One Hit Won
 ders\n
END:VEVENT
BEGIN:VEVENT
UID:17081688@ezleagues.ezfacility.com
DTSTAMP:20260424T041342Z
CREATED:20260424T041342Z
DTSTART:20260527T013000Z
DTEND:20260527T021500Z
LOCATION:Court 5
CONTACT:
SUMMARY:One Hit Wonders VS. Ball bustas
DESCRIPTION:League Name: Spring Tuesday Court 5 Coed C Sixes\nGame Type: Re
 gular\nGame Status: Pending\nHome Team: One Hit Wonders\nAway Team: Ball b
 ustas\n
END:VEVENT
BEGIN:VEVENT
UID:17081694@ezleagues.ezfacility.com
DTSTAMP:20260424T041342Z
CREATED:20260424T041342Z
DTSTART:20260603T000000Z
DTEND:20260603T004500Z
LOCATION:Court 5
CONTACT:
SUMMARY:One Hit Wonders VS. Bumpin Uglies
DESCRIPTION:League Name: Spring Tuesday Court 5 Coed C Sixes\nGame Type: Re
 gular\nGame Status: Pending\nHome Team: One Hit Wonders\nAway Team: Bumpin
  Uglies\n
END:VEVENT
BEGIN:VEVENT
UID:17081700@ezleagues.ezfacility.com
DTSTAMP:20260424T041342Z
CREATED:20260424T041342Z
DTSTART:20260609T231500Z
DTEND:20260610T000000Z
LOCATION:Court 5
CONTACT:
SUMMARY:One Hit Wonders VS. NC Beach Bums
DESCRIPTION:League Name: Spring Tuesday Court 5 Coed C Sixes\nGame Type: Re
 gular\nGame Status: Pending\nHome Team: One Hit Wonders\nAway Team: NC Bea
 ch Bums\n
END:VEVENT
END:VCALENDAR
