BEGIN:VCALENDAR
VERSION:2.0
PRODID:-//EZFacility.com, Inc.//EZL 2.5.5.28621
BEGIN:VEVENT
UID:17081799@ezleagues.ezfacility.com
DTSTAMP:20260423T202205Z
CREATED:20260423T202205Z
DTSTART:20260407T085500Z
DTEND:20260407T093500Z
LOCATION: 1 Pitch 1-"Camp Nou" Heffron
CONTACT:
SUMMARY:FliP FC VS. Swamp Donkeys
DESCRIPTION:League Name: Maroubra All Age/O35 Men Div 2\nGame Type: Regular
 \nGame Status: Pending\nHome Team: FliP FC\nAway Team: Swamp Donkeys\n
END:VEVENT
BEGIN:VEVENT
UID:17081805@ezleagues.ezfacility.com
DTSTAMP:20260423T202205Z
CREATED:20260423T202205Z
DTSTART:20260414T090000Z
DTEND:20260414T094000Z
LOCATION:3 Pitch 3-"Meazza" Heffron
CONTACT:
SUMMARY:Swamp Donkeys VS. Olympique Gaulois
DESCRIPTION:League Name: Maroubra All Age/O35 Men Div 2\nGame Type: Regular
 \nGame Status: Pending\nHome Team: Swamp Donkeys\nAway Team: Olympique Gau
 lois\n
END:VEVENT
BEGIN:VEVENT
UID:17081813@ezleagues.ezfacility.com
DTSTAMP:20260423T202205Z
CREATED:20260423T202205Z
DTSTART:20260421T094000Z
DTEND:20260421T102000Z
LOCATION:2 Pitch 2-"White Hart L "Heffr
CONTACT:
SUMMARY:2Clean VS. Swamp Donkeys
DESCRIPTION:League Name: Maroubra All Age/O35 Men Div 2\nGame Type: Regular
 \nGame Status: Pending\nHome Team: 2Clean\nAway Team: Swamp Donkeys\n
END:VEVENT
BEGIN:VEVENT
UID:17081817@ezleagues.ezfacility.com
DTSTAMP:20260423T202205Z
CREATED:20260423T202205Z
DTSTART:20260428T090000Z
DTEND:20260428T094000Z
LOCATION:3 Pitch 3-"Meazza" Heffron
CONTACT:
SUMMARY:Griffith FC VS. Swamp Donkeys
DESCRIPTION:League Name: Maroubra All Age/O35 Men Div 2\nGame Type: Regular
 \nGame Status: Pending\nHome Team: Griffith FC\nAway Team: Swamp Donkeys\n
END:VEVENT
BEGIN:VEVENT
UID:17081821@ezleagues.ezfacility.com
DTSTAMP:20260423T202205Z
CREATED:20260423T202205Z
DTSTART:20260505T094000Z
DTEND:20260505T102000Z
LOCATION:2 Pitch 2-"White Hart L "Heffr
CONTACT:
SUMMARY:The Zizous VS. Swamp Donkeys
DESCRIPTION:League Name: Maroubra All Age/O35 Men Div 2\nGame Type: Regular
 \nGame Status: Pending\nHome Team: The Zizous\nAway Team: Swamp Donkeys\n
END:VEVENT
BEGIN:VEVENT
UID:17081826@ezleagues.ezfacility.com
DTSTAMP:20260423T202205Z
CREATED:20260423T202205Z
DTSTART:20260512T090000Z
DTEND:20260512T094000Z
LOCATION:2 Pitch 2-"White Hart L "Heffr
CONTACT:
SUMMARY:Mounaki City VS. Swamp Donkeys
DESCRIPTION:League Name: Maroubra All Age/O35 Men Div 2\nGame Type: Regular
 \nGame Status: Pending\nHome Team: Mounaki City\nAway Team: Swamp Donkeys\
 n
END:VEVENT
BEGIN:VEVENT
UID:17081831@ezleagues.ezfacility.com
DTSTAMP:20260423T202205Z
CREATED:20260423T202205Z
DTSTART:20260519T094000Z
DTEND:20260519T102000Z
LOCATION:3 Pitch 3-"Meazza" Heffron
CONTACT:
SUMMARY:Swamp Donkeys VS. Jackie’s Army
DESCRIPTION:League Name: Maroubra All Age/O35 Men Div 2\nGame Type: Regular
 \nGame Status: Pending\nHome Team: Swamp Donkeys\nAway Team: Jackie’s Ar
 my\n
END:VEVENT
BEGIN:VEVENT
UID:17081837@ezleagues.ezfacility.com
DTSTAMP:20260423T202205Z
CREATED:20260423T202205Z
DTSTART:20260526T094000Z
DTEND:20260526T102000Z
LOCATION:2 Pitch 2-"White Hart L "Heffr
CONTACT:
SUMMARY:Swamp Donkeys VS. King George
DESCRIPTION:League Name: Maroubra All Age/O35 Men Div 2\nGame Type: Regular
 \nGame Status: Pending\nHome Team: Swamp Donkeys\nAway Team: King George\n
END:VEVENT
BEGIN:VEVENT
UID:17081843@ezleagues.ezfacility.com
DTSTAMP:20260423T202205Z
CREATED:20260423T202205Z
DTSTART:20260602T094000Z
DTEND:20260602T102000Z
LOCATION:3 Pitch 3-"Meazza" Heffron
CONTACT:
SUMMARY:Swamp Donkeys VS. Benjamin Buttons 2.0
DESCRIPTION:League Name: Maroubra All Age/O35 Men Div 2\nGame Type: Regular
 \nGame Status: Pending\nHome Team: Swamp Donkeys\nAway Team: Benjamin Butt
 ons 2.0\n
END:VEVENT
BEGIN:VEVENT
UID:17081844@ezleagues.ezfacility.com
DTSTAMP:20260423T202205Z
CREATED:20260423T202205Z
DTSTART:20260609T085500Z
DTEND:20260609T093500Z
LOCATION: 1 Pitch 1-"Camp Nou" Heffron
CONTACT:
SUMMARY:Swamp Donkeys VS. FliP FC
DESCRIPTION:League Name: Maroubra All Age/O35 Men Div 2\nGame Type: Regular
 \nGame Status: Pending\nHome Team: Swamp Donkeys\nAway Team: FliP FC\n
END:VEVENT
END:VCALENDAR
