BEGIN:VCALENDAR
VERSION:2.0
PRODID:-//EZFacility.com, Inc.//EZL 2.5.5.28621
BEGIN:VEVENT
UID:17099948@ezleagues.ezfacility.com
DTSTAMP:20260424T041419Z
CREATED:20260424T041419Z
DTSTART:20260424T020000Z
DTEND:20260424T030000Z
LOCATION:Bridgeville HockeyPlex
CONTACT:
SUMMARY:Mighty Ducks VS. 1311
DESCRIPTION:League Name: 2026 Spring PUCK League (RRG)\nGame Type: Regular\
 nGame Status: Postponed\nHome Team: Mighty Ducks\nAway Team: 1311\n
END:VEVENT
BEGIN:VEVENT
UID:17100200@ezleagues.ezfacility.com
DTSTAMP:20260424T041419Z
CREATED:20260424T041419Z
DTSTART:20260501T010000Z
DTEND:20260501T020000Z
LOCATION:Bridgeville HockeyPlex
CONTACT:
SUMMARY:Playmakers VS. Mighty Ducks
DESCRIPTION:League Name: 2026 Spring PUCK League (RRG)\nGame Type: Regular\
 nGame Status: Pending\nHome Team: Playmakers\nAway Team: Mighty Ducks\n
END:VEVENT
BEGIN:VEVENT
UID:17100219@ezleagues.ezfacility.com
DTSTAMP:20260424T041419Z
CREATED:20260424T041419Z
DTSTART:20260508T020000Z
DTEND:20260508T030000Z
LOCATION:Bridgeville HockeyPlex
CONTACT:
SUMMARY:Vipers BLACK VS. Mighty Ducks
DESCRIPTION:League Name: 2026 Spring PUCK League (RRG)\nGame Type: Regular\
 nGame Status: Pending\nHome Team: Vipers BLACK\nAway Team: Mighty Ducks\n
END:VEVENT
BEGIN:VEVENT
UID:17100263@ezleagues.ezfacility.com
DTSTAMP:20260424T041419Z
CREATED:20260424T041419Z
DTSTART:20260515T010000Z
DTEND:20260515T020000Z
LOCATION:Bridgeville HockeyPlex
CONTACT:
SUMMARY:Mighty Ducks VS. Tip Drill
DESCRIPTION:League Name: 2026 Spring PUCK League (RRG)\nGame Type: Regular\
 nGame Status: Pending\nHome Team: Mighty Ducks\nAway Team: Tip Drill\n
END:VEVENT
END:VCALENDAR
