BEGIN:VCALENDAR
VERSION:2.0
PRODID:-//EZFacility.com, Inc.//EZL 2.5.5.28621
BEGIN:VEVENT
UID:17082186@ezleagues.ezfacility.com
DTSTAMP:20260424T041403Z
CREATED:20260424T041403Z
DTSTART:20260411T230000Z
DTEND:20260412T000000Z
LOCATION:Indoor Full Field
CONTACT:
SUMMARY:Joga Bonito VS. Galacticos 
DESCRIPTION:League Name: CSX Men's 2026 Spring League\nGame Type: Regular\n
 Game Status: Complete\nHome Team: Joga Bonito\nAway Team: Galacticos \nHom
 e Score: 4\nAway Score: 2
END:VEVENT
BEGIN:VEVENT
UID:17082191@ezleagues.ezfacility.com
DTSTAMP:20260424T041403Z
CREATED:20260424T041403Z
DTSTART:20260418T220000Z
DTEND:20260418T230000Z
LOCATION:Indoor Full Field
CONTACT:
SUMMARY:Joga Bonito VS. Maple Grange
DESCRIPTION:League Name: CSX Men's 2026 Spring League\nGame Type: Regular\n
 Game Status: Complete\nHome Team: Joga Bonito\nAway Team: Maple Grange\nHo
 me Score: 2\nAway Score: 3
END:VEVENT
BEGIN:VEVENT
UID:17082196@ezleagues.ezfacility.com
DTSTAMP:20260424T041403Z
CREATED:20260424T041403Z
DTSTART:20260425T230000Z
DTEND:20260426T000000Z
LOCATION:Indoor Full Field
CONTACT:
SUMMARY:Joga Bonito VS. Mesotan
DESCRIPTION:League Name: CSX Men's 2026 Spring League\nGame Type: Regular\n
 Game Status: Pending\nHome Team: Joga Bonito\nAway Team: Mesotan\n
END:VEVENT
BEGIN:VEVENT
UID:17082200@ezleagues.ezfacility.com
DTSTAMP:20260424T041403Z
CREATED:20260424T041403Z
DTSTART:20260503T000000Z
DTEND:20260503T010000Z
LOCATION:Indoor Full Field
CONTACT:
SUMMARY:Cosmos  VS. Joga Bonito
DESCRIPTION:League Name: CSX Men's 2026 Spring League\nGame Type: Regular\n
 Game Status: Pending\nHome Team: Cosmos \nAway Team: Joga Bonito\n
END:VEVENT
BEGIN:VEVENT
UID:17082203@ezleagues.ezfacility.com
DTSTAMP:20260424T041403Z
CREATED:20260424T041403Z
DTSTART:20260510T010000Z
DTEND:20260510T020000Z
LOCATION:Indoor Full Field
CONTACT:
SUMMARY:Grizzly Wolves VS. Joga Bonito
DESCRIPTION:League Name: CSX Men's 2026 Spring League\nGame Type: Regular\n
 Game Status: Pending\nHome Team: Grizzly Wolves\nAway Team: Joga Bonito\n
END:VEVENT
BEGIN:VEVENT
UID:17082206@ezleagues.ezfacility.com
DTSTAMP:20260424T041403Z
CREATED:20260424T041403Z
DTSTART:20260517T000000Z
DTEND:20260517T010000Z
LOCATION:Indoor Full Field
CONTACT:
SUMMARY:Heights FC VS. Joga Bonito
DESCRIPTION:League Name: CSX Men's 2026 Spring League\nGame Type: Regular\n
 Game Status: Pending\nHome Team: Heights FC\nAway Team: Joga Bonito\n
END:VEVENT
BEGIN:VEVENT
UID:17082209@ezleagues.ezfacility.com
DTSTAMP:20260424T041403Z
CREATED:20260424T041403Z
DTSTART:20260531T010000Z
DTEND:20260531T020000Z
LOCATION:Indoor Full Field
CONTACT:
SUMMARY:Deportivo Rodeo VS. Joga Bonito
DESCRIPTION:League Name: CSX Men's 2026 Spring League\nGame Type: Regular\n
 Game Status: Pending\nHome Team: Deportivo Rodeo\nAway Team: Joga Bonito\n
END:VEVENT
END:VCALENDAR
