BEGIN:VCALENDAR
VERSION:2.0
PRODID:-//EZFacility.com, Inc.//EZL 2.5.5.28621
BEGIN:VEVENT
UID:17093527@ezleagues.ezfacility.com
DTSTAMP:20260424T041406Z
CREATED:20260424T041406Z
DTSTART:20260416T012000Z
DTEND:20260416T021500Z
LOCATION:Rink 1
CONTACT:
SUMMARY:27 Turtles VS. No Ragrets
DESCRIPTION:League Name: Adult Spring 2026 Beginner Wednesday\nGame Type: R
 egular\nGame Status: Complete\nHome Team: 27 Turtles\nAway Team: No Ragret
 s\nHome Score: 5\nAway Score: 7
END:VEVENT
BEGIN:VEVENT
UID:17093530@ezleagues.ezfacility.com
DTSTAMP:20260424T041406Z
CREATED:20260424T041406Z
DTSTART:20260423T021500Z
DTEND:20260423T031000Z
LOCATION:Rink 1
CONTACT:
SUMMARY:Bulldogs VS. No Ragrets
DESCRIPTION:League Name: Adult Spring 2026 Beginner Wednesday\nGame Type: R
 egular\nGame Status: Complete\nHome Team: Bulldogs\nAway Team: No Ragrets\
 nHome Score: 2\nAway Score: 9
END:VEVENT
BEGIN:VEVENT
UID:17093532@ezleagues.ezfacility.com
DTSTAMP:20260424T041406Z
CREATED:20260424T041406Z
DTSTART:20260430T021500Z
DTEND:20260430T031000Z
LOCATION:Rink 1
CONTACT:
SUMMARY:No Ragrets VS. Top Shelf
DESCRIPTION:League Name: Adult Spring 2026 Beginner Wednesday\nGame Type: R
 egular\nGame Status: Pending\nHome Team: No Ragrets\nAway Team: Top Shelf\
 n
END:VEVENT
BEGIN:VEVENT
UID:17093533@ezleagues.ezfacility.com
DTSTAMP:20260424T041406Z
CREATED:20260424T041406Z
DTSTART:20260507T021500Z
DTEND:20260507T031000Z
LOCATION:Rink 1
CONTACT:
SUMMARY:27 Turtles VS. No Ragrets
DESCRIPTION:League Name: Adult Spring 2026 Beginner Wednesday\nGame Type: R
 egular\nGame Status: Pending\nHome Team: 27 Turtles\nAway Team: No Ragrets
 \n
END:VEVENT
BEGIN:VEVENT
UID:17093536@ezleagues.ezfacility.com
DTSTAMP:20260424T041406Z
CREATED:20260424T041406Z
DTSTART:20260514T012000Z
DTEND:20260514T021500Z
LOCATION:Rink 1
CONTACT:
SUMMARY:No Ragrets VS. Bulldogs
DESCRIPTION:League Name: Adult Spring 2026 Beginner Wednesday\nGame Type: R
 egular\nGame Status: Pending\nHome Team: No Ragrets\nAway Team: Bulldogs\n
END:VEVENT
BEGIN:VEVENT
UID:17093538@ezleagues.ezfacility.com
DTSTAMP:20260424T041406Z
CREATED:20260424T041406Z
DTSTART:20260521T012000Z
DTEND:20260521T021500Z
LOCATION:Rink 1
CONTACT:
SUMMARY:Top Shelf VS. No Ragrets
DESCRIPTION:League Name: Adult Spring 2026 Beginner Wednesday\nGame Type: R
 egular\nGame Status: Pending\nHome Team: Top Shelf\nAway Team: No Ragrets\
 n
END:VEVENT
BEGIN:VEVENT
UID:17093539@ezleagues.ezfacility.com
DTSTAMP:20260424T041406Z
CREATED:20260424T041406Z
DTSTART:20260528T012000Z
DTEND:20260528T021500Z
LOCATION:Rink 1
CONTACT:
SUMMARY:No Ragrets VS. 27 Turtles
DESCRIPTION:League Name: Adult Spring 2026 Beginner Wednesday\nGame Type: R
 egular\nGame Status: Pending\nHome Team: No Ragrets\nAway Team: 27 Turtles
 \n
END:VEVENT
BEGIN:VEVENT
UID:17093542@ezleagues.ezfacility.com
DTSTAMP:20260424T041406Z
CREATED:20260424T041406Z
DTSTART:20260604T021500Z
DTEND:20260604T031000Z
LOCATION:Rink 1
CONTACT:
SUMMARY:No Ragrets VS. Bulldogs
DESCRIPTION:League Name: Adult Spring 2026 Beginner Wednesday\nGame Type: R
 egular\nGame Status: Pending\nHome Team: No Ragrets\nAway Team: Bulldogs\n
END:VEVENT
BEGIN:VEVENT
UID:17093544@ezleagues.ezfacility.com
DTSTAMP:20260424T041406Z
CREATED:20260424T041406Z
DTSTART:20260611T021500Z
DTEND:20260611T031000Z
LOCATION:Rink 1
CONTACT:
SUMMARY:Top Shelf VS. No Ragrets
DESCRIPTION:League Name: Adult Spring 2026 Beginner Wednesday\nGame Type: R
 egular\nGame Status: Pending\nHome Team: Top Shelf\nAway Team: No Ragrets\
 n
END:VEVENT
BEGIN:VEVENT
UID:17093545@ezleagues.ezfacility.com
DTSTAMP:20260424T041406Z
CREATED:20260424T041406Z
DTSTART:20260618T021500Z
DTEND:20260618T031000Z
LOCATION:Rink 1
CONTACT:
SUMMARY:No Ragrets VS. 27 Turtles
DESCRIPTION:League Name: Adult Spring 2026 Beginner Wednesday\nGame Type: R
 egular\nGame Status: Pending\nHome Team: No Ragrets\nAway Team: 27 Turtles
 \n
END:VEVENT
END:VCALENDAR
