BEGIN:VCALENDAR
VERSION:2.0
PRODID:-//EZFacility.com, Inc.//EZL 2.5.5.28621
BEGIN:VEVENT
UID:17084848@ezleagues.ezfacility.com
DTSTAMP:20260420T132201Z
CREATED:20260420T132201Z
DTSTART:20260410T000000Z
DTEND:20260410T010000Z
LOCATION:Yankee-5
CONTACT:
SUMMARY:Hi 5 VS. Puros Locos
DESCRIPTION:League Name: Thursday Night 35+ Season 2- 2026\nGame Type: Regu
 lar\nGame Status: Complete\nHome Team: Hi 5\nAway Team: Puros Locos\nHome 
 Score: 14\nAway Score: 13
END:VEVENT
BEGIN:VEVENT
UID:17084803@ezleagues.ezfacility.com
DTSTAMP:20260420T132201Z
CREATED:20260420T132201Z
DTSTART:20260410T010000Z
DTEND:20260410T020000Z
LOCATION:Yankee-5
CONTACT:
SUMMARY:Puros Locos VS. H Town Misfits
DESCRIPTION:League Name: Thursday Night 35+ Season 2- 2026\nGame Type: Regu
 lar\nGame Status: Complete\nHome Team: Puros Locos\nAway Team: H Town Misf
 its\nHome Score: 15\nAway Score: 14
END:VEVENT
BEGIN:VEVENT
UID:17084807@ezleagues.ezfacility.com
DTSTAMP:20260420T132201Z
CREATED:20260420T132201Z
DTSTART:20260417T000000Z
DTEND:20260417T010000Z
LOCATION:Crosley-6
CONTACT:
SUMMARY:Pacemakers VS. Puros Locos
DESCRIPTION:League Name: Thursday Night 35+ Season 2- 2026\nGame Type: Regu
 lar\nGame Status: Complete\nHome Team: Pacemakers\nAway Team: Puros Locos\
 nHome Score: 28\nAway Score: 8
END:VEVENT
BEGIN:VEVENT
UID:17084810@ezleagues.ezfacility.com
DTSTAMP:20260420T132201Z
CREATED:20260420T132201Z
DTSTART:20260417T020000Z
DTEND:20260417T030000Z
LOCATION:Crosley-6
CONTACT:
SUMMARY:OS Hard Hitters VS. Puros Locos
DESCRIPTION:League Name: Thursday Night 35+ Season 2- 2026\nGame Type: Regu
 lar\nGame Status: Complete\nHome Team: OS Hard Hitters\nAway Team: Puros L
 ocos\nHome Score: 14\nAway Score: 17
END:VEVENT
BEGIN:VEVENT
UID:17084815@ezleagues.ezfacility.com
DTSTAMP:20260420T132201Z
CREATED:20260420T132201Z
DTSTART:20260424T000000Z
DTEND:20260424T010000Z
LOCATION:Fenway-4
CONTACT:
SUMMARY:ODB VS. Puros Locos
DESCRIPTION:League Name: Thursday Night 35+ Season 2- 2026\nGame Type: Regu
 lar\nGame Status: Pending\nHome Team: ODB\nAway Team: Puros Locos\n
END:VEVENT
BEGIN:VEVENT
UID:17084820@ezleagues.ezfacility.com
DTSTAMP:20260420T132201Z
CREATED:20260420T132201Z
DTSTART:20260424T010000Z
DTEND:20260424T020000Z
LOCATION:Crosley-6
CONTACT:
SUMMARY:Puros Locos VS. Keystone Kids
DESCRIPTION:League Name: Thursday Night 35+ Season 2- 2026\nGame Type: Regu
 lar\nGame Status: Pending\nHome Team: Puros Locos\nAway Team: Keystone Kid
 s\n
END:VEVENT
END:VCALENDAR
