BEGIN:VCALENDAR
VERSION:2.0
PRODID:-//EZFacility.com, Inc.//EZL 2.5.5.28621
BEGIN:VEVENT
UID:17087246@ezleagues.ezfacility.com
DTSTAMP:20260424T123538Z
CREATED:20260424T123538Z
DTSTART:20260422T004500Z
DTEND:20260422T013000Z
LOCATION:Volleyball Court
CONTACT:
SUMMARY:Premarital Sets VS. Volley Llamas
DESCRIPTION:League Name: Tuesday Rec Coed 6’s\nGame Type: Regular\nGame S
 tatus: Complete\nHome Team: Premarital Sets\nAway Team: Volley Llamas\nHom
 e Score: 1\nAway Score: 2
END:VEVENT
BEGIN:VEVENT
UID:17087251@ezleagues.ezfacility.com
DTSTAMP:20260424T123538Z
CREATED:20260424T123538Z
DTSTART:20260428T223000Z
DTEND:20260428T231500Z
LOCATION:Volleyball Court
CONTACT:
SUMMARY:Deloitte VS. Volley Llamas
DESCRIPTION:League Name: Tuesday Rec Coed 6’s\nGame Type: Regular\nGame S
 tatus: Pending\nHome Team: Deloitte\nAway Team: Volley Llamas\n
END:VEVENT
BEGIN:VEVENT
UID:17087256@ezleagues.ezfacility.com
DTSTAMP:20260424T123538Z
CREATED:20260424T123538Z
DTSTART:20260506T013000Z
DTEND:20260506T021500Z
LOCATION:Volleyball Court
CONTACT:
SUMMARY:Life's a beach VS. Volley Llamas
DESCRIPTION:League Name: Tuesday Rec Coed 6’s\nGame Type: Regular\nGame S
 tatus: Pending\nHome Team: Life's a beach\nAway Team: Volley Llamas\n
END:VEVENT
BEGIN:VEVENT
UID:17087261@ezleagues.ezfacility.com
DTSTAMP:20260424T123538Z
CREATED:20260424T123538Z
DTSTART:20260512T231500Z
DTEND:20260513T000000Z
LOCATION:Volleyball Court
CONTACT:
SUMMARY:Addicted to Sets  VS. Volley Llamas
DESCRIPTION:League Name: Tuesday Rec Coed 6’s\nGame Type: Regular\nGame S
 tatus: Pending\nHome Team: Addicted to Sets \nAway Team: Volley Llamas\n
END:VEVENT
BEGIN:VEVENT
UID:17087268@ezleagues.ezfacility.com
DTSTAMP:20260424T123538Z
CREATED:20260424T123538Z
DTSTART:20260520T000000Z
DTEND:20260520T004500Z
LOCATION:Volleyball Court
CONTACT:
SUMMARY:Volley Llamas VS. Volly Parton 
DESCRIPTION:League Name: Tuesday Rec Coed 6’s\nGame Type: Regular\nGame S
 tatus: Pending\nHome Team: Volley Llamas\nAway Team: Volly Parton \n
END:VEVENT
BEGIN:VEVENT
UID:17087275@ezleagues.ezfacility.com
DTSTAMP:20260424T123538Z
CREATED:20260424T123538Z
DTSTART:20260526T223000Z
DTEND:20260526T231500Z
LOCATION:Volleyball Court
CONTACT:
SUMMARY:Volley Llamas VS. Skruncherz
DESCRIPTION:League Name: Tuesday Rec Coed 6’s\nGame Type: Regular\nGame S
 tatus: Pending\nHome Team: Volley Llamas\nAway Team: Skruncherz\n
END:VEVENT
BEGIN:VEVENT
UID:17087282@ezleagues.ezfacility.com
DTSTAMP:20260424T123538Z
CREATED:20260424T123538Z
DTSTART:20260603T000000Z
DTEND:20260603T004500Z
LOCATION:Volleyball Court
CONTACT:
SUMMARY:Volley Llamas VS. How I set ur mother 
DESCRIPTION:League Name: Tuesday Rec Coed 6’s\nGame Type: Regular\nGame S
 tatus: Pending\nHome Team: Volley Llamas\nAway Team: How I set ur mother \
 n
END:VEVENT
BEGIN:VEVENT
UID:17087289@ezleagues.ezfacility.com
DTSTAMP:20260424T123538Z
CREATED:20260424T123538Z
DTSTART:20260610T021500Z
DTEND:20260610T030000Z
LOCATION:Volleyball Court
CONTACT:
SUMMARY:Volley Llamas VS. Got Blocked
DESCRIPTION:League Name: Tuesday Rec Coed 6’s\nGame Type: Regular\nGame S
 tatus: Pending\nHome Team: Volley Llamas\nAway Team: Got Blocked\n
END:VEVENT
BEGIN:VEVENT
UID:17087296@ezleagues.ezfacility.com
DTSTAMP:20260424T123538Z
CREATED:20260424T123538Z
DTSTART:20260617T013000Z
DTEND:20260617T021500Z
LOCATION:Volleyball Court
CONTACT:
SUMMARY:Volley Llamas VS. Serves You Right
DESCRIPTION:League Name: Tuesday Rec Coed 6’s\nGame Type: Regular\nGame S
 tatus: Pending\nHome Team: Volley Llamas\nAway Team: Serves You Right\n
END:VEVENT
BEGIN:VEVENT
UID:17087302@ezleagues.ezfacility.com
DTSTAMP:20260424T123538Z
CREATED:20260424T123538Z
DTSTART:20260624T021500Z
DTEND:20260624T030000Z
LOCATION:Volleyball Court
CONTACT:
SUMMARY:That's What She Set VS. Volley Llamas
DESCRIPTION:League Name: Tuesday Rec Coed 6’s\nGame Type: Regular\nGame S
 tatus: Pending\nHome Team: That's What She Set\nAway Team: Volley Llamas\n
END:VEVENT
END:VCALENDAR
