BEGIN:VCALENDAR
VERSION:2.0
PRODID:-//EZFacility.com, Inc.//EZL 2.5.5.28621
BEGIN:VEVENT
UID:17087247@ezleagues.ezfacility.com
DTSTAMP:20260424T041344Z
CREATED:20260424T041344Z
DTSTART:20260422T013000Z
DTEND:20260422T021500Z
LOCATION:Volleyball Court
CONTACT:
SUMMARY:Skruncherz VS. That's What She Set
DESCRIPTION:League Name: Tuesday Rec Coed 6’s\nGame Type: Regular\nGame S
 tatus: Complete\nHome Team: Skruncherz\nAway Team: That's What She Set\nHo
 me Score: 2\nAway Score: 1
END:VEVENT
BEGIN:VEVENT
UID:17087252@ezleagues.ezfacility.com
DTSTAMP:20260424T041344Z
CREATED:20260424T041344Z
DTSTART:20260429T004500Z
DTEND:20260429T013000Z
LOCATION:Volleyball Court
CONTACT:
SUMMARY:How I set ur mother  VS. That's What She Set
DESCRIPTION:League Name: Tuesday Rec Coed 6’s\nGame Type: Regular\nGame S
 tatus: Pending\nHome Team: How I set ur mother \nAway Team: That's What Sh
 e Set\n
END:VEVENT
BEGIN:VEVENT
UID:17087257@ezleagues.ezfacility.com
DTSTAMP:20260424T041344Z
CREATED:20260424T041344Z
DTSTART:20260506T000000Z
DTEND:20260506T004500Z
LOCATION:Volleyball Court
CONTACT:
SUMMARY:Got Blocked VS. That's What She Set
DESCRIPTION:League Name: Tuesday Rec Coed 6’s\nGame Type: Regular\nGame S
 tatus: Pending\nHome Team: Got Blocked\nAway Team: That's What She Set\n
END:VEVENT
BEGIN:VEVENT
UID:17087262@ezleagues.ezfacility.com
DTSTAMP:20260424T041344Z
CREATED:20260424T041344Z
DTSTART:20260512T223000Z
DTEND:20260512T231500Z
LOCATION:Volleyball Court
CONTACT:
SUMMARY:Serves You Right VS. That's What She Set
DESCRIPTION:League Name: Tuesday Rec Coed 6’s\nGame Type: Regular\nGame S
 tatus: Pending\nHome Team: Serves You Right\nAway Team: That's What She Se
 t\n
END:VEVENT
BEGIN:VEVENT
UID:17087267@ezleagues.ezfacility.com
DTSTAMP:20260424T041344Z
CREATED:20260424T041344Z
DTSTART:20260520T021500Z
DTEND:20260520T030000Z
LOCATION:Volleyball Court
CONTACT:
SUMMARY:Addicted to Sets  VS. That's What She Set
DESCRIPTION:League Name: Tuesday Rec Coed 6’s\nGame Type: Regular\nGame S
 tatus: Pending\nHome Team: Addicted to Sets \nAway Team: That's What She S
 et\n
END:VEVENT
BEGIN:VEVENT
UID:17087274@ezleagues.ezfacility.com
DTSTAMP:20260424T041344Z
CREATED:20260424T041344Z
DTSTART:20260527T000000Z
DTEND:20260527T004500Z
LOCATION:Volleyball Court
CONTACT:
SUMMARY:That's What She Set VS. Team Gardens
DESCRIPTION:League Name: Tuesday Rec Coed 6’s\nGame Type: Regular\nGame S
 tatus: Pending\nHome Team: That's What She Set\nAway Team: Team Gardens\n
END:VEVENT
BEGIN:VEVENT
UID:17087281@ezleagues.ezfacility.com
DTSTAMP:20260424T041344Z
CREATED:20260424T041344Z
DTSTART:20260602T231500Z
DTEND:20260603T000000Z
LOCATION:Volleyball Court
CONTACT:
SUMMARY:That's What She Set VS. Premarital Sets
DESCRIPTION:League Name: Tuesday Rec Coed 6’s\nGame Type: Regular\nGame S
 tatus: Pending\nHome Team: That's What She Set\nAway Team: Premarital Sets
 \n
END:VEVENT
BEGIN:VEVENT
UID:17087288@ezleagues.ezfacility.com
DTSTAMP:20260424T041344Z
CREATED:20260424T041344Z
DTSTART:20260610T004500Z
DTEND:20260610T013000Z
LOCATION:Volleyball Court
CONTACT:
SUMMARY:That's What She Set VS. Deloitte
DESCRIPTION:League Name: Tuesday Rec Coed 6’s\nGame Type: Regular\nGame S
 tatus: Pending\nHome Team: That's What She Set\nAway Team: Deloitte\n
END:VEVENT
BEGIN:VEVENT
UID:17087295@ezleagues.ezfacility.com
DTSTAMP:20260424T041344Z
CREATED:20260424T041344Z
DTSTART:20260616T223000Z
DTEND:20260616T231500Z
LOCATION:Volleyball Court
CONTACT:
SUMMARY:That's What She Set VS. Life's a beach
DESCRIPTION:League Name: Tuesday Rec Coed 6’s\nGame Type: Regular\nGame S
 tatus: Pending\nHome Team: That's What She Set\nAway Team: Life's a beach\
 n
END:VEVENT
BEGIN:VEVENT
UID:17087302@ezleagues.ezfacility.com
DTSTAMP:20260424T041344Z
CREATED:20260424T041344Z
DTSTART:20260624T021500Z
DTEND:20260624T030000Z
LOCATION:Volleyball Court
CONTACT:
SUMMARY:That's What She Set VS. Volley Llamas
DESCRIPTION:League Name: Tuesday Rec Coed 6’s\nGame Type: Regular\nGame S
 tatus: Pending\nHome Team: That's What She Set\nAway Team: Volley Llamas\n
END:VEVENT
END:VCALENDAR
