BEGIN:VCALENDAR
VERSION:2.0
PRODID:-//EZFacility.com, Inc.//EZL 2.5.5.28621
BEGIN:VEVENT
UID:17089330@ezleagues.ezfacility.com
DTSTAMP:20260424T041428Z
CREATED:20260424T041428Z
DTSTART:20260412T230000Z
DTEND:20260413T000000Z
LOCATION:Field #1
CONTACT:
SUMMARY:3rd String All Stars\, Whitehead VS. OFS FC\, Tormey
DESCRIPTION:League Name: Over 30 Coed Spring 26\nGame Type: Regular\nGame S
 tatus: Complete\nHome Team: 3rd String All Stars, Whitehead\nAway Team: OF
 S FC, Tormey\nHome Score: 1\nAway Score: 3
END:VEVENT
BEGIN:VEVENT
UID:17089336@ezleagues.ezfacility.com
DTSTAMP:20260424T041428Z
CREATED:20260424T041428Z
DTSTART:20260426T230000Z
DTEND:20260427T000000Z
LOCATION:Field #1
CONTACT:
SUMMARY:3rd String All Stars\, Whitehead VS. The Uncoachables\, Lagerval
DESCRIPTION:League Name: Over 30 Coed Spring 26\nGame Type: Regular\nGame S
 tatus: Pending\nHome Team: 3rd String All Stars, Whitehead\nAway Team: The
  Uncoachables, Lagerval\n
END:VEVENT
END:VCALENDAR
