BEGIN:VCALENDAR
VERSION:2.0
PRODID:-//EZFacility.com, Inc.//EZL 2.5.5.28621
BEGIN:VEVENT
UID:17090507@ezleagues.ezfacility.com
DTSTAMP:20260424T041410Z
CREATED:20260424T041410Z
DTSTART:20260401T180000Z
DTEND:20260401T190000Z
LOCATION:Field 2 BLD
CONTACT:
SUMMARY:Food Floor VS. Chelsea
DESCRIPTION:League Name: MIERCOLES *2 DIVISION* 1/07\nGame Type: Regular\nG
 ame Status: Complete\nHome Team: Food Floor\nAway Team: Chelsea\nHome Scor
 e: 15\nAway Score: 16
END:VEVENT
END:VCALENDAR
