BEGIN:VCALENDAR
VERSION:2.0
PRODID:-//EZFacility.com, Inc.//EZL 2.5.5.28621
BEGIN:VEVENT
UID:17090697@ezleagues.ezfacility.com
DTSTAMP:20260424T041503Z
CREATED:20260424T041503Z
DTSTART:20260412T230000Z
DTEND:20260412T235000Z
LOCATION:Baseball/Softball Field #1
CONTACT:Cammacho\, Mauri
SUMMARY:Fusion FC VS. FC Boogies
DESCRIPTION:League Name: 2026 Spring Adult Leagues-Adult Coed 9v9 Sunday Le
 ague\nGame Type: Regular\nGame Status: Complete\nHome Team: Fusion FC\nAwa
 y Team: FC Boogies\nHome Score: 4\nAway Score: 3
END:VEVENT
BEGIN:VEVENT
UID:17090704@ezleagues.ezfacility.com
DTSTAMP:20260424T041503Z
CREATED:20260424T041503Z
DTSTART:20260419T200000Z
DTEND:20260419T205000Z
LOCATION:Baseball/Softball Field #1
CONTACT:Martinez\, Mauri
SUMMARY:FC Boogies VS. Washed Up SC
DESCRIPTION:League Name: 2026 Spring Adult Leagues-Adult Coed 9v9 Sunday Le
 ague\nGame Type: Regular\nGame Status: Complete\nHome Team: FC Boogies\nAw
 ay Team: Washed Up SC\nHome Score: 2\nAway Score: 2
END:VEVENT
BEGIN:VEVENT
UID:17090710@ezleagues.ezfacility.com
DTSTAMP:20260424T041503Z
CREATED:20260424T041503Z
DTSTART:20260427T000000Z
DTEND:20260427T005000Z
LOCATION:Baseball/Softball Field #2
CONTACT:
SUMMARY:FC Boogies VS. Medhawks
DESCRIPTION:League Name: 2026 Spring Adult Leagues-Adult Coed 9v9 Sunday Le
 ague\nGame Type: Regular\nGame Status: Pending\nHome Team: FC Boogies\nAwa
 y Team: Medhawks\n
END:VEVENT
BEGIN:VEVENT
UID:17090712@ezleagues.ezfacility.com
DTSTAMP:20260424T041503Z
CREATED:20260424T041503Z
DTSTART:20260503T230000Z
DTEND:20260503T235000Z
LOCATION:Baseball/Softball Field #2
CONTACT:
SUMMARY:FC Boogies VS. Johan's army
DESCRIPTION:League Name: 2026 Spring Adult Leagues-Adult Coed 9v9 Sunday Le
 ague\nGame Type: Regular\nGame Status: Pending\nHome Team: FC Boogies\nAwa
 y Team: Johan's army\n
END:VEVENT
BEGIN:VEVENT
UID:17090718@ezleagues.ezfacility.com
DTSTAMP:20260424T041503Z
CREATED:20260424T041503Z
DTSTART:20260510T220000Z
DTEND:20260510T225000Z
LOCATION:Baseball/Softball Field #2
CONTACT:
SUMMARY:Thunderstruck VS. FC Boogies
DESCRIPTION:League Name: 2026 Spring Adult Leagues-Adult Coed 9v9 Sunday Le
 ague\nGame Type: Regular\nGame Status: Pending\nHome Team: Thunderstruck\n
 Away Team: FC Boogies\n
END:VEVENT
BEGIN:VEVENT
UID:17090721@ezleagues.ezfacility.com
DTSTAMP:20260424T041503Z
CREATED:20260424T041503Z
DTSTART:20260518T000000Z
DTEND:20260518T005000Z
LOCATION:Baseball/Softball Field #2
CONTACT:
SUMMARY:FC Boogies VS. Milkmen 
DESCRIPTION:League Name: 2026 Spring Adult Leagues-Adult Coed 9v9 Sunday Le
 ague\nGame Type: Regular\nGame Status: Pending\nHome Team: FC Boogies\nAwa
 y Team: Milkmen \n
END:VEVENT
BEGIN:VEVENT
UID:17090730@ezleagues.ezfacility.com
DTSTAMP:20260424T041503Z
CREATED:20260424T041503Z
DTSTART:20260524T210000Z
DTEND:20260524T215000Z
LOCATION:Baseball/Softball Field #2
CONTACT:
SUMMARY:FC Boogies VS. Innovators
DESCRIPTION:League Name: 2026 Spring Adult Leagues-Adult Coed 9v9 Sunday Le
 ague\nGame Type: Regular\nGame Status: Pending\nHome Team: FC Boogies\nAwa
 y Team: Innovators\n
END:VEVENT
END:VCALENDAR
