BEGIN:VCALENDAR
VERSION:2.0
PRODID:-//EZFacility.com, Inc.//EZL 2.5.5.28621
BEGIN:VEVENT
UID:17090698@ezleagues.ezfacility.com
DTSTAMP:20260424T041454Z
CREATED:20260424T041454Z
DTSTART:20260413T000000Z
DTEND:20260413T005000Z
LOCATION:Baseball/Softball Field #1
CONTACT:Cammacho\, Mauri
SUMMARY:Johan's army VS. Hot Mess Express
DESCRIPTION:League Name: 2026 Spring Adult Leagues-Adult Coed 9v9 Sunday Le
 ague\nGame Type: Regular\nGame Status: Complete\nHome Team: Johan's army\n
 Away Team: Hot Mess Express\nHome Score: 0\nAway Score: 7
END:VEVENT
BEGIN:VEVENT
UID:17090699@ezleagues.ezfacility.com
DTSTAMP:20260424T041454Z
CREATED:20260424T041454Z
DTSTART:20260420T000000Z
DTEND:20260420T005000Z
LOCATION:Baseball/Softball Field #1
CONTACT:Mauri\, Martinez
SUMMARY:Johan's army VS. Dinosaurs
DESCRIPTION:League Name: 2026 Spring Adult Leagues-Adult Coed 9v9 Sunday Le
 ague\nGame Type: Regular\nGame Status: Complete\nHome Team: Johan's army\n
 Away Team: Dinosaurs\nHome Score: 3\nAway Score: 5
END:VEVENT
BEGIN:VEVENT
UID:17090706@ezleagues.ezfacility.com
DTSTAMP:20260424T041454Z
CREATED:20260424T041454Z
DTSTART:20260426T210000Z
DTEND:20260426T215000Z
LOCATION:Baseball/Softball Field #2
CONTACT:
SUMMARY:Johan's army VS. Fusion FC
DESCRIPTION:League Name: 2026 Spring Adult Leagues-Adult Coed 9v9 Sunday Le
 ague\nGame Type: Regular\nGame Status: Pending\nHome Team: Johan's army\nA
 way Team: Fusion FC\n
END:VEVENT
BEGIN:VEVENT
UID:17090712@ezleagues.ezfacility.com
DTSTAMP:20260424T041454Z
CREATED:20260424T041454Z
DTSTART:20260503T230000Z
DTEND:20260503T235000Z
LOCATION:Baseball/Softball Field #2
CONTACT:
SUMMARY:FC Boogies VS. Johan's army
DESCRIPTION:League Name: 2026 Spring Adult Leagues-Adult Coed 9v9 Sunday Le
 ague\nGame Type: Regular\nGame Status: Pending\nHome Team: FC Boogies\nAwa
 y Team: Johan's army\n
END:VEVENT
BEGIN:VEVENT
UID:17090716@ezleagues.ezfacility.com
DTSTAMP:20260424T041454Z
CREATED:20260424T041454Z
DTSTART:20260510T200000Z
DTEND:20260510T205000Z
LOCATION:Baseball/Softball Field #2
CONTACT:
SUMMARY:Johan's army VS. Medhawks
DESCRIPTION:League Name: 2026 Spring Adult Leagues-Adult Coed 9v9 Sunday Le
 ague\nGame Type: Regular\nGame Status: Pending\nHome Team: Johan's army\nA
 way Team: Medhawks\n
END:VEVENT
BEGIN:VEVENT
UID:17090726@ezleagues.ezfacility.com
DTSTAMP:20260424T041454Z
CREATED:20260424T041454Z
DTSTART:20260517T220000Z
DTEND:20260517T225000Z
LOCATION:Baseball/Softball Field #2
CONTACT:
SUMMARY:Johan's army VS. Washed Up SC
DESCRIPTION:League Name: 2026 Spring Adult Leagues-Adult Coed 9v9 Sunday Le
 ague\nGame Type: Regular\nGame Status: Pending\nHome Team: Johan's army\nA
 way Team: Washed Up SC\n
END:VEVENT
BEGIN:VEVENT
UID:17090731@ezleagues.ezfacility.com
DTSTAMP:20260424T041454Z
CREATED:20260424T041454Z
DTSTART:20260524T220000Z
DTEND:20260524T225000Z
LOCATION:Baseball/Softball Field #2
CONTACT:
SUMMARY:Johan's army VS. Thunderstruck
DESCRIPTION:League Name: 2026 Spring Adult Leagues-Adult Coed 9v9 Sunday Le
 ague\nGame Type: Regular\nGame Status: Pending\nHome Team: Johan's army\nA
 way Team: Thunderstruck\n
END:VEVENT
END:VCALENDAR
