BEGIN:VCALENDAR
VERSION:2.0
PRODID:-//EZFacility.com, Inc.//EZL 2.5.5.28621
BEGIN:VEVENT
UID:17092301@ezleagues.ezfacility.com
DTSTAMP:20260424T041336Z
CREATED:20260424T041336Z
DTSTART:20260404T031500Z
DTEND:20260404T040000Z
LOCATION:Big Field
CONTACT:
SUMMARY:San Salvador VS. Fuerzas Basicas
DESCRIPTION:League Name: Friday Premier League\nGame Type: Regular\nGame St
 atus: Complete\nHome Team: San Salvador\nAway Team: Fuerzas Basicas\nHome 
 Score: 10\nAway Score: 4
END:VEVENT
BEGIN:VEVENT
UID:17092308@ezleagues.ezfacility.com
DTSTAMP:20260424T041336Z
CREATED:20260424T041336Z
DTSTART:20260418T040000Z
DTEND:20260418T044500Z
LOCATION:Big Field
CONTACT:
SUMMARY:Eastboyz VS. Fuerzas Basicas
DESCRIPTION:League Name: Friday Premier League\nGame Type: Regular\nGame St
 atus: Complete\nHome Team: Eastboyz\nAway Team: Fuerzas Basicas\nHome Scor
 e: 5\nAway Score: 0
END:VEVENT
BEGIN:VEVENT
UID:17092305@ezleagues.ezfacility.com
DTSTAMP:20260424T041336Z
CREATED:20260424T041336Z
DTSTART:20260425T023000Z
DTEND:20260425T031500Z
LOCATION:Big Field
CONTACT:
SUMMARY:Fuerzas Basicas VS. Red Devils
DESCRIPTION:League Name: Friday Premier League\nGame Type: Regular\nGame St
 atus: Pending\nHome Team: Fuerzas Basicas\nAway Team: Red Devils\n
END:VEVENT
BEGIN:VEVENT
UID:17092312@ezleagues.ezfacility.com
DTSTAMP:20260424T041336Z
CREATED:20260424T041336Z
DTSTART:20260502T031500Z
DTEND:20260502T040000Z
LOCATION:Big Field
CONTACT:
SUMMARY:Fuerzas Basicas VS. Momias
DESCRIPTION:League Name: Friday Premier League\nGame Type: Regular\nGame St
 atus: Pending\nHome Team: Fuerzas Basicas\nAway Team: Momias\n
END:VEVENT
BEGIN:VEVENT
UID:17092316@ezleagues.ezfacility.com
DTSTAMP:20260424T041336Z
CREATED:20260424T041336Z
DTSTART:20260509T023000Z
DTEND:20260509T031500Z
LOCATION:Big Field
CONTACT:
SUMMARY:Fuerzas Basicas VS. San Salvador
DESCRIPTION:League Name: Friday Premier League\nGame Type: Regular\nGame St
 atus: Pending\nHome Team: Fuerzas Basicas\nAway Team: San Salvador\n
END:VEVENT
BEGIN:VEVENT
UID:17092310@ezleagues.ezfacility.com
DTSTAMP:20260424T041336Z
CREATED:20260424T041336Z
DTSTART:20260516T023000Z
DTEND:20260516T031500Z
LOCATION:Big Field
CONTACT:
SUMMARY:Fort Bend VS. Fuerzas Basicas
DESCRIPTION:League Name: Friday Premier League\nGame Type: Regular\nGame St
 atus: Pending\nHome Team: Fort Bend\nAway Team: Fuerzas Basicas\n
END:VEVENT
END:VCALENDAR
