BEGIN:VCALENDAR
VERSION:2.0
PRODID:-//EZFacility.com, Inc.//EZL 2.5.5.28621
BEGIN:VEVENT
UID:17092962@ezleagues.ezfacility.com
DTSTAMP:20260423T103728Z
CREATED:20260423T103728Z
DTSTART:20260417T220000Z
DTEND:20260418T000000Z
LOCATION:Baseball Field 5
CONTACT:
SUMMARY:3Up 3Down - Red (8) VS. Bobcats (4)
DESCRIPTION:League Name: Spring '26 Spring Fling Invitational, 10U, 4/17-19
 \nGame Type: Regular\nGame Status: Complete\nHome Team: 3Up 3Down - Red (8
 )\nAway Team: Bobcats (4)\nHome Score: 0\nAway Score: 9
END:VEVENT
BEGIN:VEVENT
UID:17092964@ezleagues.ezfacility.com
DTSTAMP:20260423T103728Z
CREATED:20260423T103728Z
DTSTART:20260418T000000Z
DTEND:20260418T020000Z
LOCATION:Baseball Field 5
CONTACT:
SUMMARY:3Up 3Down - Red (8) VS. Hillcats (3)
DESCRIPTION:League Name: Spring '26 Spring Fling Invitational, 10U, 4/17-19
 \nGame Type: Regular\nGame Status: Complete\nHome Team: 3Up 3Down - Red (8
 )\nAway Team: Hillcats (3)\nHome Score: 7\nAway Score: 9
END:VEVENT
BEGIN:VEVENT
UID:17092976@ezleagues.ezfacility.com
DTSTAMP:20260423T103728Z
CREATED:20260423T103728Z
DTSTART:20260419T120000Z
DTEND:20260419T140000Z
LOCATION:Baseball Field 2
CONTACT:
SUMMARY:Berks County Bulls (7) VS. 3Up 3Down - Red (8)
DESCRIPTION:League Name: Spring '26 Spring Fling Invitational, 10U, 4/17-19
 \nGame Type: Regular\nGame Status: Complete\nHome Team: Berks County Bulls
  (7)\nAway Team: 3Up 3Down - Red (8)\nHome Score: 1\nAway Score: 7
END:VEVENT
END:VCALENDAR
