BEGIN:VCALENDAR
VERSION:2.0
PRODID:-//EZFacility.com, Inc.//EZL 2.5.5.28621
BEGIN:VEVENT
UID:17092999@ezleagues.ezfacility.com
DTSTAMP:20260419T130859Z
CREATED:20260419T130859Z
DTSTART:20260418T221000Z
DTEND:20260419T001000Z
LOCATION:Baseball Field 2
CONTACT:
SUMMARY:GoWags (7) VS. Schuylkill County Breaker Boys Baseball (3)
DESCRIPTION:League Name: Spring '26 Spring Fling Invitational, 11U, 4/17-19
 \nGame Type: Regular\nGame Status: Complete\nHome Team: GoWags (7)\nAway T
 eam: Schuylkill County Breaker Boys Baseball (3)\nHome Score: 10\nAway Sco
 re: 11
END:VEVENT
BEGIN:VEVENT
UID:17092991@ezleagues.ezfacility.com
DTSTAMP:20260419T130859Z
CREATED:20260419T130859Z
DTSTART:20260419T001000Z
DTEND:20260419T021000Z
LOCATION:Baseball Field 3
CONTACT:
SUMMARY:GoWags (7) VS. MC Eagles (9)
DESCRIPTION:League Name: Spring '26 Spring Fling Invitational, 11U, 4/17-19
 \nGame Type: Regular\nGame Status: Complete\nHome Team: GoWags (7)\nAway T
 eam: MC Eagles (9)\nHome Score: 8\nAway Score: 0
END:VEVENT
BEGIN:VEVENT
UID:17093000@ezleagues.ezfacility.com
DTSTAMP:20260419T130859Z
CREATED:20260419T130859Z
DTSTART:20260419T140000Z
DTEND:20260419T160000Z
LOCATION:Baseball Field 2
CONTACT:
SUMMARY:GoWags (7) VS. BC Ballers 11U (8)
DESCRIPTION:League Name: Spring '26 Spring Fling Invitational, 11U, 4/17-19
 \nGame Type: Regular\nGame Status: Pending\nHome Team: GoWags (7)\nAway Te
 am: BC Ballers 11U (8)\n
END:VEVENT
END:VCALENDAR
